Workbook

Sheet 공종별집계표
A1: 공 종 별 집 계 표
A2: [ 영주적십자병원 건강검진센터 리모델링공사 ]
A3: 품 명 | B3: 규 격 | C3: 단위 | D3: 수량 | E3: 재 료 비 | G3: 노 무 비 | I3: 경 비 | K3: 합 계 | M3: 비 고 | N3: 공종코드 | O3: 변수 | P3: 상위공종 | Q3: 공종구분 | R3: 공종레벨 | S3: 공종소계 | T3: 원가계산서 연결금액
E4: 단 가 | F4: 금 액 | G4: 단 가 | H4: 금 액 | I4: 단 가 | J4: 금 액 | K4: 단 가 | L4: 금 액
A5: 01 영주적십자병원 건강검진센터 리모델링공사 | D5: 1 | E5: =F6+F27 -> 0 | F5: =E5*D5 -> 0 | G5: =H6+H27 -> 0 | H5: =G5*D5 -> 0 | I5: =J6+J27 -> 0 | J5: =I5*D5 -> 0 | K5: =E5+G5+I5 -> 0 | L5: =F5+H5+J5 -> 0 | N5: 01 | R5: 1
A6: 0101 건강검진센터 | D6: 1 | E6: =F7+F11+F12+F13+F14+F15+F18 -> 0 | F6: =E6*D6 -> 0 | G6: =H7+H11+H12+H13+H14+H15+H18 -> 0 | H6: =G6*D6 -> 0 | I6: =J7+J11+J12+J13+J14+J15+J18 -> 0 | J6: =I6*D6 -> 0 | K6: =E6+G6+I6 -> 0 | L6: =F6+H6+J6 -> 0 | N6: 0101 | P6: 01 | R6: 2
A7: 010101 위생배관공사 | D7: 1 | E7: =F8+F9+F10 -> 0 | F7: =E7*D7 -> 0 | G7: =H8+H9+H10 -> 0 | H7: =G7*D7 -> 0 | I7: =J8+J9+J10 -> 0 | J7: =I7*D7 -> 0 | K7: =E7+G7+I7 -> 0 | L7: =F7+H7+J7 -> 0 | N7: 010101 | P7: 0101 | R7: 3
A8: 01010101 위생기구설치공사 | D8: 1 | E8: =공종별내역서!F26 -> 0 | F8: =E8*D8 -> 0 | G8: =공종별내역서!H26 -> 0 | H8: =G8*D8 -> 0 | I8: =공종별내역서!J26 -> 0 | J8: =I8*D8 -> 0 | K8: =E8+G8+I8 -> 0 | L8: =F8+H8+J8 -> 0 | N8: 01010101 | P8: 010101 | R8: 4
A9: 01010102 급수급탕배관공사 | D9: 1 | E9: =공종별내역서!F95 -> 0 | F9: =E9*D9 -> 0 | G9: =공종별내역서!H95 -> 0 | H9: =G9*D9 -> 0 | I9: =공종별내역서!J95 -> 0 | J9: =I9*D9 -> 0 | K9: =E9+G9+I9 -> 0 | L9: =F9+H9+J9 -> 0 | N9: 01010102 | P9: 010101 | R9: 4
A10: 01010103 오배수배관공사 | D10: 1 | E10: =공종별내역서!F141 -> 0 | F10: =E10*D10 -> 0 | G10: =공종별내역서!H141 -> 0 | H10: =G10*D10 -> 0 | I10: =공종별내역서!J141 -> 0 | J10: =I10*D10 -> 0 | K10: =E10+G10+I10 -> 0 | L10: =F10+H10+J10 -> 0 | N10: 01010103 | P10: 010101 | R10: 4
A11: 010102 냉난방배관공사 | D11: 1 | E11: =공종별내역서!F164 -> 0 | F11: =E11*D11 -> 0 | G11: =공종별내역서!H164 -> 0 | H11: =G11*D11 -> 0 | I11: =공종별내역서!J164 -> 0 | J11: =I11*D11 -> 0 | K11: =E11+G11+I11 -> 0 | L11: =F11+H11+J11 -> 0 | N11: 010102 | P11: 0101 | R11: 3
A12: 010103 EHP설치공사 | D12: 1 | E12: =공종별내역서!F187 -> 0 | F12: =E12*D12 -> 0 | G12: =공종별내역서!H187 -> 0 | H12: =G12*D12 -> 0 | I12: =공종별내역서!J187 -> 0 | J12: =I12*D12 -> 0 | K12: =E12+G12+I12 -> 0 | L12: =F12+H12+J12 -> 0 | N12: 010103 | P12: 0101 | R12: 3
A13: 010104 공조덕트공사 | D13: 1 | E13: =공종별내역서!F210 -> 0 | F13: =E13*D13 -> 0 | G13: =공종별내역서!H210 -> 0 | H13: =G13*D13 -> 0 | I13: =공종별내역서!J210 -> 0 | J13: =I13*D13 -> 0 | K13: =E13+G13+I13 -> 0 | L13: =F13+H13+J13 -> 0 | N13: 010104 | P13: 0101 | R13: 3
A14: 010105 의료가스배관공사 | D14: 1 | E14: =공종별내역서!F233 -> 0 | F14: =E14*D14 -> 0 | G14: =공종별내역서!H233 -> 0 | H14: =G14*D14 -> 0 | I14: =공종별내역서!J233 -> 0 | J14: =I14*D14 -> 0 | K14: =E14+G14+I14 -> 0 | L14: =F14+H14+J14 -> 0 | N14: 010105 | P14: 0101 | R14: 3
A15: 010106 자동제어공사 | D15: 1 | E15: =F16+F17 -> 0 | F15: =E15*D15 -> 0 | G15: =H16+H17 -> 0 | H15: =G15*D15 -> 0 | I15: =J16+J17 -> 0 | J15: =I15*D15 -> 0 | K15: =E15+G15+I15 -> 0 | L15: =F15+H15+J15 -> 0 | N15: 010106 | P15: 0101 | R15: 3
A16: 01010601 FCU 제어선공사 | D16: 1 | E16: =공종별내역서!F256 -> 0 | F16: =E16*D16 -> 0 | G16: =공종별내역서!H256 -> 0 | H16: =G16*D16 -> 0 | I16: =공종별내역서!J256 -> 0 | J16: =I16*D16 -> 0 | K16: =E16+G16+I16 -> 0 | L16: =F16+H16+J16 -> 0 | N16: 01010601 | P16: 010106 | R16: 4
A17: 01010602 실내 온도감지기공사 | D17: 1 | E17: =공종별내역서!F279 -> 0 | F17: =E17*D17 -> 0 | G17: =공종별내역서!H279 -> 0 | H17: =G17*D17 -> 0 | I17: =공종별내역서!J279 -> 0 | J17: =I17*D17 -> 0 | K17: =E17+G17+I17 -> 0 | L17: =F17+H17+J17 -> 0 | N17: 01010602 | P17: 010106 | R17: 4
A18: 010107 철거공사 | D18: 1 | E18: =F19+F23+F24+F25+F26 -> 0 | F18: =E18*D18 -> 0 | G18: =H19+H23+H24+H25+H26 -> 0 | H18: =G18*D18 -> 0 | I18: =J19+J23+J24+J25+J26 -> 0 | J18: =I18*D18 -> 0 | K18: =E18+G18+I18 -> 0 | L18: =F18+H18+J18 -> 0 | N18: 010107 | P18: 0101 | R18: 3
A19: 01010701 위생배관철거공사 | D19: 1 | E19: =F20+F21+F22 -> 0 | F19: =E19*D19 -> 0 | G19: =H20+H21+H22 -> 0 | H19: =G19*D19 -> 0 | I19: =J20+J21+J22 -> 0 | J19: =I19*D19 -> 0 | K19: =E19+G19+I19 -> 0 | L19: =F19+H19+J19 -> 0 | N19: 01010701 | P19: 010107 | R19: 4
A20: 0101070101 위생기구철거 | D20: 1 | E20: =공종별내역서!F302 -> 0 | F20: =E20*D20 -> 0 | G20: =공종별내역서!H302 -> 0 | H20: =G20*D20 -> 0 | I20: =공종별내역서!J302 -> 0 | J20: =I20*D20 -> 0 | K20: =E20+G20+I20 -> 0 | L20: =F20+H20+J20 -> 0 | N20: 0101070101 | P20: 01010701 | R20: 5
A21: 0101070102 급수급탕배관철거 | D21: 1 | E21: =공종별내역서!F325 -> 0 | F21: =E21*D21 -> 0 | G21: =공종별내역서!H325 -> 0 | H21: =G21*D21 -> 0 | I21: =공종별내역서!J325 -> 0 | J21: =I21*D21 -> 0 | K21: =E21+G21+I21 -> 0 | L21: =F21+H21+J21 -> 0 | N21: 0101070102 | P21: 01010701 | R21: 5
A22: 0101070103 오배수배관철거 | D22: 1 | E22: =공종별내역서!F348 -> 0 | F22: =E22*D22 -> 0 | G22: =공종별내역서!H348 -> 0 | H22: =G22*D22 -> 0 | I22: =공종별내역서!J348 -> 0 | J22: =I22*D22 -> 0 | K22: =E22+G22+I22 -> 0 | L22: =F22+H22+J22 -> 0 | N22: 0101070103 | P22: 01010701 | R22: 5
A23: 01010702 냉난방배관철거공사 | D23: 1 | E23: =공종별내역서!F371 -> 0 | F23: =E23*D23 -> 0 | G23: =공종별내역서!H371 -> 0 | H23: =G23*D23 -> 0 | I23: =공종별내역서!J371 -> 0 | J23: =I23*D23 -> 0 | K23: =E23+G23+I23 -> 0 | L23: =F23+H23+J23 -> 0 | N23: 01010702 | P23: 010107 | R23: 4
A24: 01010703 공조덕트철거공사 | D24: 1 | E24: =공종별내역서!F394 -> 0 | F24: =E24*D24 -> 0 | G24: =공종별내역서!H394 -> 0 | H24: =G24*D24 -> 0 | I24: =공종별내역서!J394 -> 0 | J24: =I24*D24 -> 0 | K24: =E24+G24+I24 -> 0 | L24: =F24+H24+J24 -> 0 | N24: 01010703 | P24: 010107 | R24: 4
A25: 01010704 의료가스배관철거공사 | D25: 1 | E25: =공종별내역서!F417 -> 0 | F25: =E25*D25 -> 0 | G25: =공종별내역서!H417 -> 0 | H25: =G25*D25 -> 0 | I25: =공종별내역서!J417 -> 0 | J25: =I25*D25 -> 0 | K25: =E25+G25+I25 -> 0 | L25: =F25+H25+J25 -> 0 | N25: 01010704 | P25: 010107 | R25: 4
A26: 01010705 자동제어철거공사 | D26: 1 | E26: =공종별내역서!F440 -> 0 | F26: =E26*D26 -> 0 | G26: =공종별내역서!H440 -> 0 | H26: =G26*D26 -> 0 | I26: =공종별내역서!J440 -> 0 | J26: =I26*D26 -> 0 | K26: =E26+G26+I26 -> 0 | L26: =F26+H26+J26 -> 0 | N26: 01010705 | P26: 010107 | R26: 4
A27: 0102 임상검사실 | D27: 1 | E27: =F28+F32+F33+F34+F37 -> 0 | F27: =E27*D27 -> 0 | G27: =H28+H32+H33+H34+H37 -> 0 | H27: =G27*D27 -> 0 | I27: =J28+J32+J33+J34+J37 -> 0 | J27: =I27*D27 -> 0 | K27: =E27+G27+I27 -> 0 | L27: =F27+H27+J27 -> 0 | N27: 0102 | P27: 01 | R27: 2
A28: 010201 위생배관공사 | D28: 1 | E28: =F29+F30+F31 -> 0 | F28: =E28*D28 -> 0 | G28: =H29+H30+H31 -> 0 | H28: =G28*D28 -> 0 | I28: =J29+J30+J31 -> 0 | J28: =I28*D28 -> 0 | K28: =E28+G28+I28 -> 0 | L28: =F28+H28+J28 -> 0 | N28: 010201 | P28: 0102 | R28: 3
A29: 01020101 위생기구설치공사 | D29: 1 | E29: =공종별내역서!F463 -> 0 | F29: =E29*D29 -> 0 | G29: =공종별내역서!H463 -> 0 | H29: =G29*D29 -> 0 | I29: =공종별내역서!J463 -> 0 | J29: =I29*D29 -> 0 | K29: =E29+G29+I29 -> 0 | L29: =F29+H29+J29 -> 0 | N29: 01020101 | P29: 010201 | R29: 4
A30: 01020102 오배수배관공사 | D30: 1 | E30: =공종별내역서!F486 -> 0 | F30: =E30*D30 -> 0 | G30: =공종별내역서!H486 -> 0 | H30: =G30*D30 -> 0 | I30: =공종별내역서!J486 -> 0 | J30: =I30*D30 -> 0 | K30: =E30+G30+I30 -> 0 | L30: =F30+H30+J30 -> 0 | N30: 01020102 | P30: 010201 | R30: 4
A31: 01020103 급수급탕배관공사 | D31: 1 | E31: =공종별내역서!F509 -> 0 | F31: =E31*D31 -> 0 | G31: =공종별내역서!H509 -> 0 | H31: =G31*D31 -> 0 | I31: =공종별내역서!J509 -> 0 | J31: =I31*D31 -> 0 | K31: =E31+G31+I31 -> 0 | L31: =F31+H31+J31 -> 0 | N31: 01020103 | P31: 010201 | R31: 4
A32: 010202 냉난방배관공사 | D32: 1 | E32: =공종별내역서!F532 -> 0 | F32: =E32*D32 -> 0 | G32: =공종별내역서!H532 -> 0 | H32: =G32*D32 -> 0 | I32: =공종별내역서!J532 -> 0 | J32: =I32*D32 -> 0 | K32: =E32+G32+I32 -> 0 | L32: =F32+H32+J32 -> 0 | N32: 010202 | P32: 0102 | R32: 3
A33: 010203 공조덕트공사 | D33: 1 | E33: =공종별내역서!F555 -> 0 | F33: =E33*D33 -> 0 | G33: =공종별내역서!H555 -> 0 | H33: =G33*D33 -> 0 | I33: =공종별내역서!J555 -> 0 | J33: =I33*D33 -> 0 | K33: =E33+G33+I33 -> 0 | L33: =F33+H33+J33 -> 0 | N33: 010203 | P33: 0102 | R33: 3
A34: 010204 자동제어공사 | D34: 1 | E34: =F35+F36 -> 0 | F34: =E34*D34 -> 0 | G34: =H35+H36 -> 0 | H34: =G34*D34 -> 0 | I34: =J35+J36 -> 0 | J34: =I34*D34 -> 0 | K34: =E34+G34+I34 -> 0 | L34: =F34+H34+J34 -> 0 | N34: 010204 | P34: 0102 | R34: 3
A35: 01020401 FCU 제어선공사 | D35: 1 | E35: =공종별내역서!F578 -> 0 | F35: =E35*D35 -> 0 | G35: =공종별내역서!H578 -> 0 | H35: =G35*D35 -> 0 | I35: =공종별내역서!J578 -> 0 | J35: =I35*D35 -> 0 | K35: =E35+G35+I35 -> 0 | L35: =F35+H35+J35 -> 0 | N35: 01020401 | P35: 010204 | R35: 4
A36: 01020402 실내 온도감지기공사 | D36: 1 | E36: =공종별내역서!F601 -> 0 | F36: =E36*D36 -> 0 | G36: =공종별내역서!H601 -> 0 | H36: =G36*D36 -> 0 | I36: =공종별내역서!J601 -> 0 | J36: =I36*D36 -> 0 | K36: =E36+G36+I36 -> 0 | L36: =F36+H36+J36 -> 0 | N36: 01020402 | P36: 010204 | R36: 4
A37: 010205 철거공사 | D37: 1 | E37: =F38+F42+F43+F44 -> 0 | F37: =E37*D37 -> 0 | G37: =H38+H42+H43+H44 -> 0 | H37: =G37*D37 -> 0 | I37: =J38+J42+J43+J44 -> 0 | J37: =I37*D37 -> 0 | K37: =E37+G37+I37 -> 0 | L37: =F37+H37+J37 -> 0 | N37: 010205 | P37: 0102 | R37: 3
A38: 01020501 위생배관철거공사 | D38: 1 | E38: =F39+F40+F41 -> 0 | F38: =E38*D38 -> 0 | G38: =H39+H40+H41 -> 0 | H38: =G38*D38 -> 0 | I38: =J39+J40+J41 -> 0 | J38: =I38*D38 -> 0 | K38: =E38+G38+I38 -> 0 | L38: =F38+H38+J38 -> 0 | N38: 01020501 | P38: 010205 | R38: 4
A39: 0102050101 위생기구철거 | D39: 1 | E39: =공종별내역서!F624 -> 0 | F39: =E39*D39 -> 0 | G39: =공종별내역서!H624 -> 0 | H39: =G39*D39 -> 0 | I39: =공종별내역서!J624 -> 0 | J39: =I39*D39 -> 0 | K39: =E39+G39+I39 -> 0 | L39: =F39+H39+J39 -> 0 | N39: 0102050101 | P39: 01020501 | R39: 5
A40: 0102050102 급수급탕배관철거 | D40: 1 | E40: =공종별내역서!F647 -> 0 | F40: =E40*D40 -> 0 | G40: =공종별내역서!H647 -> 0 | H40: =G40*D40 -> 0 | I40: =공종별내역서!J647 -> 0 | J40: =I40*D40 -> 0 | K40: =E40+G40+I40 -> 0 | L40: =F40+H40+J40 -> 0 | N40: 0102050102 | P40: 01020501 | R40: 5
...

Sheet 공종별내역서
A1: [ 영주적십자병원 건강검진센터 리모델링공사 ]
A2: 품 명 | B2: 규 격 | C2: 단위 | D2: 수량 | E2: 재 료 비 | G2: 노 무 비 | I2: 경 비 | K2: 합 계 | M2: 비 고 | N2: 품목코드 | O2: 변수 | P2: 설정 | Q2: 공종코드 | R2: 일위 | S2: 단산 | T2: 자재 | U2: 손료적용 | V2: 손료저장 | W2: 적용율 | X2: JUK1 | Y2: JUK2 | Z2: JUK3 | AA2: JUK4 | AB2: JUK5 | AC2: JUK6 | AD2: JUK7 | AE2: JUK8 | AF2: JUK9 | AG2: JUK10 | AH2: JUK11 | AI2: JUK12 | AJ2: JUK13 | AK2: JUK14 | AL2: JUK15 | AM2: JUK16 | AN2: JUK17 | AO2: JUK18 | AP2: JUK19 | AQ2: JUK20 | AR2: 자재구분 | AS2: 공종구분 | AT2: 공종레벨 | AU2: 공종+자재 | AV2: 고유번호
E3: 단 가 | F3: 금 액 | G3: 단 가 | H3: 금 액 | I3: 단 가 | J3: 금 액 | K3: 단 가 | L3: 금 액
A4: 01010101 위생기구설치공사 | B4: 건강검진센터 위생배관공사 | Q4: 01010101
A5: 양변기(장애인용) | B5: F/V,자동세척밸브(전자감지식) | C5: 조 | D5: 2 | E5: =TRUNC(일위대가목록!E48,0) -> 0 | F5: =TRUNC(E5*D5, 0) -> 0 | G5: =TRUNC(일위대가목록!F48,0) -> 0 | H5: =TRUNC(G5*D5, 0) -> 0 | I5: =TRUNC(일위대가목록!G48,0) -> 0 | J5: =TRUNC(I5*D5, 0) -> 0 | K5: =TRUNC(E5+G5+I5, 0) -> 0 | L5: =TRUNC(F5+H5+J5, 0) -> 0 | M5: 호표 45 | N5: 59A545FFD152C7F20546AD8DEB1920 | Q5: 01010101 | R5: T | S5: F | T5: F | AU5: 0101010159A545FFD152C7F20546AD8DEB1920 | AV5: 327
A6: 세면기 | B6: CC-384 | C6: 조 | D6: 7 | E6: =TRUNC(일위대가목록!E51,0) -> 0 | F6: =TRUNC(E6*D6, 0) -> 0 | G6: =TRUNC(일위대가목록!F51,0) -> 0 | H6: =TRUNC(G6*D6, 0) -> 0 | I6: =TRUNC(일위대가목록!G51,0) -> 0 | J6: =TRUNC(I6*D6, 0) -> 0 | K6: =TRUNC(E6+G6+I6, 0) -> 0 | L6: =TRUNC(F6+H6+J6, 0) -> 0 | M6: 호표 48 | N6: 59A545FFD152C7F20546AD8DEA7508 | Q6: 01010101 | R6: T | S6: F | T6: F | AU6: 0101010159A545FFD152C7F20546AD8DEA7508 | AV6: 325
A7: 휴지걸이 | B7: 점보케이스 | C7: EA | D7: 2 | E7: =TRUNC(일위대가목록!E52,0) -> 0 | F7: =TRUNC(E7*D7, 0) -> 0 | G7: =TRUNC(일위대가목록!F52,0) -> 0 | H7: =TRUNC(G7*D7, 0) -> 0 | I7: =TRUNC(일위대가목록!G52,0) -> 0 | J7: =TRUNC(I7*D7, 0) -> 0 | K7: =TRUNC(E7+G7+I7, 0) -> 0 | L7: =TRUNC(F7+H7+J7, 0) -> 0 | M7: 호표 49 | N7: 59A545FC065EED329546288408E961 | Q7: 01010101 | R7: T | S7: F | T7: F | AU7: 0101010159A545FC065EED329546288408E961 | AV7: 326
A8: 에어타올(핸드드라이) | B8: 3중안전장치/적외선(고속형) | C8: 개소 | D8: 2 | E8: =TRUNC(일위대가목록!E50,0) -> 0 | F8: =TRUNC(E8*D8, 0) -> 0 | G8: =TRUNC(일위대가목록!F50,0) -> 0 | H8: =TRUNC(G8*D8, 0) -> 0 | I8: =TRUNC(일위대가목록!G50,0) -> 0 | J8: =TRUNC(I8*D8, 0) -> 0 | K8: =TRUNC(E8+G8+I8, 0) -> 0 | L8: =TRUNC(F8+H8+J8, 0) -> 0 | M8: 호표 47 | N8: 59A545FFD152C7F20546AD8DEB1EA3 | Q8: 01010101 | R8: T | S8: F | T8: F | AU8: 0101010159A545FFD152C7F20546AD8DEB1EA3 | AV8: 328
A9: 비누대 | B9: STS | C9: EA | D9: 7 | E9: =TRUNC(일위대가목록!E53,0) -> 0 | F9: =TRUNC(E9*D9, 0) -> 0 | G9: =TRUNC(일위대가목록!F53,0) -> 0 | H9: =TRUNC(G9*D9, 0) -> 0 | I9: =TRUNC(일위대가목록!G53,0) -> 0 | J9: =TRUNC(I9*D9, 0) -> 0 | K9: =TRUNC(E9+G9+I9, 0) -> 0 | L9: =TRUNC(F9+H9+J9, 0) -> 0 | M9: 호표 50 | N9: 59A545FC065E84B245EFC4845D5CBC | Q9: 01010101 | R9: T | S9: F | T9: F | AU9: 0101010159A545FC065E84B245EFC4845D5CBC | AV9: 329
A10: 여성용품수거함 | B10: ABS | C10: EA | D10: 1 | E10: =TRUNC(일위대가목록!E54,0) -> 0 | F10: =TRUNC(E10*D10, 0) -> 0 | G10: =TRUNC(일위대가목록!F54,0) -> 0 | H10: =TRUNC(G10*D10, 0) -> 0 | I10: =TRUNC(일위대가목록!G54,0) -> 0 | J10: =TRUNC(I10*D10, 0) -> 0 | K10: =TRUNC(E10+G10+I10, 0) -> 0 | L10: =TRUNC(F10+H10+J10, 0) -> 0 | M10: 호표 51 | N10: 59A545FC065E84B245EFC4845D5CBB | Q10: 01010101 | R10: T | S10: F | T10: F | AU10: 0101010159A545FC065E84B245EFC4845D5CBB | AV10: 330
A11: 장애자용손잡이 | B11: 대변기 - 고정식 | C11: 개 | D11: 2 | E11: =TRUNC(일위대가목록!E46,0) -> 0 | F11: =TRUNC(E11*D11, 0) -> 0 | G11: =TRUNC(일위대가목록!F46,0) -> 0 | H11: =TRUNC(G11*D11, 0) -> 0 | I11: =TRUNC(일위대가목록!G46,0) -> 0 | J11: =TRUNC(I11*D11, 0) -> 0 | K11: =TRUNC(E11+G11+I11, 0) -> 0 | L11: =TRUNC(F11+H11+J11, 0) -> 0 | M11: 호표 43 | N11: 59A5B53E7153F9B2C50B8680D5E9F5 | Q11: 01010101 | R11: T | S11: F | T11: F | AU11: 0101010159A5B53E7153F9B2C50B8680D5E9F5 | AV11: 331
A12: 장애자용손잡이 | B12: 대변기 - 가동식 | C12: 개 | D12: 2 | E12: =TRUNC(일위대가목록!E47,0) -> 0 | F12: =TRUNC(E12*D12, 0) -> 0 | G12: =TRUNC(일위대가목록!F47,0) -> 0 | H12: =TRUNC(G12*D12, 0) -> 0 | I12: =TRUNC(일위대가목록!G47,0) -> 0 | J12: =TRUNC(I12*D12, 0) -> 0 | K12: =TRUNC(E12+G12+I12, 0) -> 0 | L12: =TRUNC(F12+H12+J12, 0) -> 0 | M12: 호표 44 | N12: 59A5B53E7153F9B2C50B8680D4C3F1 | Q12: 01010101 | R12: T | S12: F | T12: F | AU12: 0101010159A5B53E7153F9B2C50B8680D4C3F1 | AV12: 332
A13: 안전손잡이 설치 | B13: 고정단 2개 | C13: 개 | D13: 4 | E13: =TRUNC(일위대가목록!E45,0) -> 0 | F13: =TRUNC(E13*D13, 0) -> 0 | G13: =TRUNC(일위대가목록!F45,0) -> 0 | H13: =TRUNC(G13*D13, 0) -> 0 | I13: =TRUNC(일위대가목록!G45,0) -> 0 | J13: =TRUNC(I13*D13, 0) -> 0 | K13: =TRUNC(E13+G13+I13, 0) -> 0 | L13: =TRUNC(F13+H13+J13, 0) -> 0 | M13: 호표 42 | N13: 59A5B53E7153F9B2C50B8680D5E9F4 | Q13: 01010101 | R13: T | S13: F | T13: F | AU13: 0101010159A5B53E7153F9B2C50B8680D5E9F4 | AV13: 333
A14: 유아용 거치대 | B14: 유아 보호형 | C14: EA | D14: 1 | E14: =TRUNC(일위대가목록!E55,0) -> 0 | F14: =TRUNC(E14*D14, 0) -> 0 | G14: =TRUNC(일위대가목록!F55,0) -> 0 | H14: =TRUNC(G14*D14, 0) -> 0 | I14: =TRUNC(일위대가목록!G55,0) -> 0 | J14: =TRUNC(I14*D14, 0) -> 0 | K14: =TRUNC(E14+G14+I14, 0) -> 0 | L14: =TRUNC(F14+H14+J14, 0) -> 0 | M14: 호표 52 | N14: 59A545FC065E84B245EFC4845D5CBA | Q14: 01010101 | R14: T | S14: F | T14: F | AU14: 0101010159A545FC065E84B245EFC4845D5CBA | AV14: 334
Q15: 01010101
Q16: 01010101
Q17: 01010101
Q18: 01010101
Q19: 01010101
Q20: 01010101
Q21: 01010101
Q22: 01010101
Q23: 01010101
Q24: 01010101
Q25: 01010101
A26: [ 합 계 ] | F26: =SUMIF(Q5:Q25,"01010101",F5:F25) -> 0 | H26: =SUMIF(Q5:Q25,"01010101",H5:H25) -> 0 | J26: =SUMIF(Q5:Q25,"01010101",J5:J25) -> 0 | L26: =SUMIF(Q5:Q25,"01010101",L5:L25) -> 0 | N26: TOTAL
A27: 01010102 급수급탕배관공사 | B27: 건강검진센터 위생배관공사 | Q27: 01010102
A28: 스테인리스강관배관(K-TYPE-옥내) | B28: D13 | C28: M | D28: 64 | E28: =TRUNC(일위대가목록!E19,0) -> 0 | F28: =TRUNC(E28*D28, 0) -> 0 | G28: =TRUNC(일위대가목록!F19,0) -> 0 | H28: =TRUNC(G28*D28, 0) -> 0 | I28: =TRUNC(일위대가목록!G19,0) -> 0 | J28: =TRUNC(I28*D28, 0) -> 0 | K28: =TRUNC(E28+G28+I28, 0) -> 0 | L28: =TRUNC(F28+H28+J28, 0) -> 0 | M28: 호표 16 | N28: 59A5E5876659820265492B8BDE7966 | Q28: 01010102 | R28: T | S28: F | T28: F | AU28: 0101010259A5E5876659820265492B8BDE7966 | AV28: 11
A29: 스테인리스강관배관(K-TYPE-옥내) | B29: D20 | C29: M | D29: 86 | E29: =TRUNC(일위대가목록!E20,0) -> 0 | F29: =TRUNC(E29*D29, 0) -> 0 | G29: =TRUNC(일위대가목록!F20,0) -> 0 | H29: =TRUNC(G29*D29, 0) -> 0 | I29: =TRUNC(일위대가목록!G20,0) -> 0 | J29: =TRUNC(I29*D29, 0) -> 0 | K29: =TRUNC(E29+G29+I29, 0) -> 0 | L29: =TRUNC(F29+H29+J29, 0) -> 0 | M29: 호표 17 | N29: 59A5E5876659BF42852F82892EB892 | Q29: 01010102 | R29: T | S29: F | T29: F | AU29: 0101010259A5E5876659BF42852F82892EB892 | AV29: 12
A30: 스테인리스강관배관(K-TYPE-옥내) | B30: D25 | C30: M | D30: 35 | E30: =TRUNC(일위대가목록!E21,0) -> 0 | F30: =TRUNC(E30*D30, 0) -> 0 | G30: =TRUNC(일위대가목록!F21,0) -> 0 | H30: =TRUNC(G30*D30, 0) -> 0 | I30: =TRUNC(일위대가목록!G21,0) -> 0 | J30: =TRUNC(I30*D30, 0) -> 0 | K30: =TRUNC(E30+G30+I30, 0) -> 0 | L30: =TRUNC(F30+H30+J30, 0) -> 0 | M30: 호표 18 | N30: 59A5E5876659AEF255EB4A8A56648B | Q30: 01010102 | R30: T | S30: F | T30: F | AU30: 0101010259A5E5876659AEF255EB4A8A56648B | AV30: 13
A31: 스테인리스강관배관(K-TYPE-옥내) | B31: D30 | C31: M | D31: 30 | E31: =TRUNC(일위대가목록!E22,0) -> 0 | F31: =TRUNC(E31*D31, 0) -> 0 | G31: =TRUNC(일위대가목록!F22,0) -> 0 | H31: =TRUNC(G31*D31, 0) -> 0 | I31: =TRUNC(일위대가목록!G22,0) -> 0 | J31: =TRUNC(I31*D31, 0) -> 0 | K31: =TRUNC(E31+G31+I31, 0) -> 0 | L31: =TRUNC(F31+H31+J31, 0) -> 0 | M31: 호표 19 | N31: 59A5E5876659DA32055AEA8F38A11B | Q31: 01010102 | R31: T | S31: F | T31: F | AU31: 0101010259A5E5876659DA32055AEA8F38A11B | AV31: 14
A32: 관보온(고무발포, 매직테프) | B32: 25t*D15 | C32: M | D32: 64 | E32: =TRUNC(일위대가목록!E33,0) -> 0 | F32: =TRUNC(E32*D32, 0) -> 0 | G32: =TRUNC(일위대가목록!F33,0) -> 0 | H32: =TRUNC(G32*D32, 0) -> 0 | I32: =TRUNC(일위대가목록!G33,0) -> 0 | J32: =TRUNC(I32*D32, 0) -> 0 | K32: =TRUNC(E32+G32+I32, 0) -> 0 | L32: =TRUNC(F32+H32+J32, 0) -> 0 | M32: 호표 30 | N32: 59A585188F51F8A2D592B18B2026CB | Q32: 01010102 | R32: T | S32: F | T32: F | AU32: 0101010259A585188F51F8A2D592B18B2026CB | AV32: 15
A33: 관보온(고무발포, 매직테프) | B33: 25t*D20 | C33: M | D33: 86 | E33: =TRUNC(일위대가목록!E34,0) -> 0 | F33: =TRUNC(E33*D33, 0) -> 0 | G33: =TRUNC(일위대가목록!F34,0) -> 0 | H33: =TRUNC(G33*D33, 0) -> 0 | I33: =TRUNC(일위대가목록!G34,0) -> 0 | J33: =TRUNC(I33*D33, 0) -> 0 | K33: =TRUNC(E33+G33+I33, 0) -> 0 | L33: =TRUNC(F33+H33+J33, 0) -> 0 | M33: 호표 31 | N33: 59A585188F51CC52F5F13280896056 | Q33: 01010102 | R33: T | S33: F | T33: F | AU33: 0101010259A585188F51CC52F5F13280896056 | AV33: 16
A34: 관보온(고무발포, 매직테프) | B34: 25t*D25 | C34: M | D34: 35 | E34: =TRUNC(일위대가목록!E35,0) -> 0 | F34: =TRUNC(E34*D34, 0) -> 0 | G34: =TRUNC(일위대가목록!F35,0) -> 0 | H34: =TRUNC(G34*D34, 0) -> 0 | I34: =TRUNC(일위대가목록!G35,0) -> 0 | J34: =TRUNC(I34*D34, 0) -> 0 | K34: =TRUNC(E34+G34+I34, 0) -> 0 | L34: =TRUNC(F34+H34+J34, 0) -> 0 | M34: 호표 32 | N34: 59A585188F51DDC275D43885978CE7 | Q34: 01010102 | R34: T | S34: F | T34: F | AU34: 0101010259A585188F51DDC275D43885978CE7 | AV34: 17
A35: 관보온(고무발포, 매직테프) | B35: 25t*D32 | C35: M | D35: 30 | E35: =TRUNC(일위대가목록!E36,0) -> 0 | F35: =TRUNC(E35*D35, 0) -> 0 | G35: =TRUNC(일위대가목록!F36,0) -> 0 | H35: =TRUNC(G35*D35, 0) -> 0 | I35: =TRUNC(일위대가목록!G36,0) -> 0 | J35: =TRUNC(I35*D35, 0) -> 0 | K35: =TRUNC(E35+G35+I35, 0) -> 0 | L35: =TRUNC(F35+H35+J35, 0) -> 0 | M35: 호표 33 | N35: 59A585188F51A082D5F99E8F502586 | Q35: 01010102 | R35: T | S35: F | T35: F | AU35: 0101010259A585188F51A082D5F99E8F502586 | AV35: 18
A36: 볼밸브설치(스텐, 10kg) | B36: D15 | C36: 개 | D36: 2 | E36: =TRUNC(일위대가목록!E38,0) -> 0 | F36: =TRUNC(E36*D36, 0) -> 0 | G36: =TRUNC(일위대가목록!F38,0) -> 0 | H36: =TRUNC(G36*D36, 0) -> 0 | I36: =TRUNC(일위대가목록!G38,0) -> 0 | J36: =TRUNC(I36*D36, 0) -> 0 | K36: =TRUNC(E36+G36+I36, 0) -> 0 | L36: =TRUNC(F36+H36+J36, 0) -> 0 | M36: 호표 35 | N36: 59A5A566BE5E6A92A5D7FE8226B755 | Q36: 01010102 | R36: T | S36: F | T36: F | AU36: 0101010259A5A566BE5E6A92A5D7FE8226B755 | AV36: 19
A37: 볼밸브설치(스텐, 10kg) | B37: D20 | C37: 개 | D37: 4 | E37: =TRUNC(일위대가목록!E39,0) -> 0 | F37: =TRUNC(E37*D37, 0) -> 0 | G37: =TRUNC(일위대가목록!F39,0) -> 0 | H37: =TRUNC(G37*D37, 0) -> 0 | I37: =TRUNC(일위대가목록!G39,0) -> 0 | J37: =TRUNC(I37*D37, 0) -> 0 | K37: =TRUNC(E37+G37+I37, 0) -> 0 | L37: =TRUNC(F37+H37+J37, 0) -> 0 | M37: 호표 36 | N37: 59A5A566BE5E586275F0DF842E0BDC | Q37: 01010102 | R37: T | S37: F | T37: F | AU37: 0101010259A5A566BE5E586275F0DF842E0BDC | AV37: 20
A38: 볼밸브설치(스텐, 10kg) | B38: D25 | C38: 개 | D38: 1 | E38: =TRUNC(일위대가목록!E41,0) -> 0 | F38: =TRUNC(E38*D38, 0) -> 0 | G38: =TRUNC(일위대가목록!F41,0) -> 0 | H38: =TRUNC(G38*D38, 0) -> 0 | I38: =TRUNC(일위대가목록!G41,0) -> 0 | J38: =TRUNC(I38*D38, 0) -> 0 | K38: =TRUNC(E38+G38+I38, 0) -> 0 | L38: =TRUNC(F38+H38+J38, 0) -> 0 | M38: 호표 38 | N38: 59A5A566BE5E4FF2A5DAE28218A7E8 | Q38: 01010102 | R38: T | S38: F | T38: F | AU38: 0101010259A5A566BE5E4FF2A5DAE28218A7E8 | AV38: 21
A39: 볼밸브설치(스텐, 10kg) | B39: D32 | C39: 개 | D39: 1 | E39: =TRUNC(일위대가목록!E42,0) -> 0 | F39: =TRUNC(E39*D39, 0) -> 0 | G39: =TRUNC(일위대가목록!F42,0) -> 0 | H39: =TRUNC(G39*D39, 0) -> 0 | I39: =TRUNC(일위대가목록!G42,0) -> 0 | J39: =TRUNC(I39*D39, 0) -> 0 | K39: =TRUNC(E39+G39+I39, 0) -> 0 | L39: =TRUNC(F39+H39+J39, 0) -> 0 | M39: 호표 39 | N39: 59A5A566BE5E3D52C5F66B8AE11712 | Q39: 01010102 | R39: T | S39: F | T39: F | AU39: 0101010259A5A566BE5E3D52C5F66B8AE11712 | AV39: 22
A40: 신축접수(STS형, 복식-10K) | B40: D20 | C40: 개 | D40: 1 | E40: =TRUNC(일위대가목록!E43,0) -> 0 | F40: =TRUNC(E40*D40, 0) -> 0 | G40: =TRUNC(일위대가목록!F43,0) -> 0 | H40: =TRUNC(G40*D40, 0) -> 0 | I40: =TRUNC(일위대가목록!G43,0) -> 0 | J40: =TRUNC(I40*D40, 0) -> 0 | K40: =TRUNC(E40+G40+I40, 0) -> 0 | L40: =TRUNC(F40+H40+J40, 0) -> 0 | M40: 호표 40 | N40: 59A5A56F9855F0328575478BB4DE5F | Q40: 01010102 | R40: T | S40: F | T40: F | AU40: 0101010259A5A56F9855F0328575478BB4DE5F | AV40: 23
...

Sheet 일위대가목록
B1: 일 위 대 가 목 록
B2: [ 영주적십자병원 건강검진센터 리모델링공사 ]
A3: 코 드 | B3: 품 명 | C3: 규 격 | D3: 단위 | E3: 재 료 비 | F3: 노 무 비 | G3: 경 비 | H3: 합 계 | I3: 번 호 | J3: 비 고 | K3: 노임계수 | L3: 할증 | M3: 품셈개요 | N3: 장비일위
A4: 5E7B35D0CE5B2332653F208FDBA6DC6340D320DC | B4: 코아드릴 | C4: 25.40cm | D4: HR | E4: =일위대가!F6 -> 0 | F4: =일위대가!H6 -> 0 | G4: =일위대가!J6 -> 0 | H4: =E4+F4+G4 -> 0 | I4: 호표 1 | K4: A | M4: 공통 8-3(5901) | N4: T
A5: 594FB5F90B50D3E27503CA83106FD7 | B5: 디퓨져(철거) | C5: D150이하 | D5: EA | E5: =일위대가!F11 -> 0 | F5: =일위대가!H11 -> 0 | G5: =일위대가!J11 -> 0 | H5: =E5+F5+G5 -> 0 | I5: 호표 2
A6: 594FB5F90B50D3E27503CA83106FDF | B6: 휀코일유니트(신설) | C6: 1-WAY, 1,186kcal/h | D6: 대 | E6: =일위대가!F17 -> 0 | F6: =일위대가!H17 -> 0 | G6: =일위대가!J17 -> 0 | H6: =E6+F6+G6 -> 0 | I6: 호표 3
A7: 594FB5F90B50D3E27503CA83106ECF | B7: 휀코일유니트(철거후재설치) | C7: 2-WAY, 2,326kcal/h | D7: 대 | E7: =일위대가!F23 -> 0 | F7: =일위대가!H23 -> 0 | G7: =일위대가!J23 -> 0 | H7: =E7+F7+G7 -> 0 | I7: 호표 4
A8: 594FB5F90B50D3E27503CA83106ECE | B8: 휀코일유니트(철거후재설치) | C8: 4-WAY, 2,289kcal/h | D8: 대 | E8: =일위대가!F29 -> 0 | F8: =일위대가!H29 -> 0 | G8: =일위대가!J29 -> 0 | H8: =E8+F8+G8 -> 0 | I8: 호표 5
A9: 594FB5F90B50D3E27503CA83106ECD | B9: 휀코일유니트(철거후재설치) | C9: 4-WAY, 3,215kcal/h | D9: 대 | E9: =일위대가!F35 -> 0 | F9: =일위대가!H35 -> 0 | G9: =일위대가!J35 -> 0 | H9: =E9+F9+G9 -> 0 | I9: 호표 6
A10: 593995DDC4562482D5BFE580C3A4FF | B10: V.D(볼륨댐퍼) | C10: 200*200 | D10: 개소 | E10: =일위대가!F40 -> 0 | F10: =일위대가!H40 -> 0 | G10: =일위대가!J40 -> 0 | H10: =E10+F10+G10 -> 0 | I10: 호표 7
A11: 592A359E6D55EBC275D4208718E327 | B11: 강제전선관-노출 | C11: 아연도, 16mm | D11: M | E11: =일위대가!F48 -> 0 | F11: =일위대가!H48 -> 0 | G11: =일위대가!J48 -> 0 | H11: =E11+F11+G11 -> 0 | I11: 호표 8 | M11: 전기 5-1
A12: 592A359E6F50D3B2B5403B82825FBA | B12: 케이블600V(통신선) | C12: VCTF1.5/2C | D12: M | E12: =일위대가!F55 -> 0 | F12: =일위대가!H55 -> 0 | G12: =일위대가!J55 -> 0 | H12: =E12+F12+G12 -> 0 | I12: 호표 9 | M12: 전기 5-13
A13: 592A359E6F50D3B2B5403B82836585 | B13: 케이블600V(룸컨트롤선) | C13: 24AWG*4C | D13: M | E13: =일위대가!F62 -> 0 | F13: =일위대가!H62 -> 0 | G13: =일위대가!J62 -> 0 | H13: =E13+F13+G13 -> 0 | I13: 호표 10 | M13: 전기 5-13
A14: 592AA56AF65B5A02A5815A81AB910B | B14: 강제전선관-철거 | C14: ST 16C | D14: M | E14: =일위대가!F67 -> 0 | F14: =일위대가!H67 -> 0 | G14: =일위대가!J67 -> 0 | H14: =E14+F14+G14 -> 0 | I14: 호표 11
A15: 592AA56AF65B5A02A5815A81AB910A | B15: 제어용케이블-철거 | D15: M | E15: =일위대가!F72 -> 0 | F15: =일위대가!H72 -> 0 | G15: =일위대가!J72 -> 0 | H15: =E15+F15+G15 -> 0 | I15: 호표 12
A16: 59A5E581D85E9A62D5D78C837C9F5D | B16: 동관옥내배관(L-TYPE) | C16: D20 | D16: M | E16: =일위대가!F80 -> 0 | F16: =일위대가!H80 -> 0 | G16: =일위대가!J80 -> 0 | H16: =E16+F16+G16 -> 0 | I16: 호표 13 | M16: 기계 1-2-2
A17: 59A5E58766599C72A5C5C28F7D7ABC | B17: 스테인리스용접(TIG) | C17: D20 | D17: 개소 | E17: =일위대가!F87 -> 0 | F17: =일위대가!H87 -> 0 | G17: =일위대가!J87 -> 0 | H17: =E17+F17+G17 -> 0 | I17: 호표 14 | M17: 기계 1-3-1
A18: 59A5E58766599C72A5C5C28E5777C4 | B18: 스테인리스용접(TIG) | C18: D25 | D18: 개소 | E18: =일위대가!F94 -> 0 | F18: =일위대가!H94 -> 0 | G18: =일위대가!J94 -> 0 | H18: =E18+F18+G18 -> 0 | I18: 호표 15 | M18: 기계 1-3-1
A19: 59A5E5876659820265492B8BDE7966 | B19: 스테인리스강관배관(K-TYPE-옥내) | C19: D13 | D19: M | E19: =일위대가!F102 -> 0 | F19: =일위대가!H102 -> 0 | G19: =일위대가!J102 -> 0 | H19: =E19+F19+G19 -> 0 | I19: 호표 16 | M19: 기계 1-3-4
A20: 59A5E5876659BF42852F82892EB892 | B20: 스테인리스강관배관(K-TYPE-옥내) | C20: D20 | D20: M | E20: =일위대가!F110 -> 0 | F20: =일위대가!H110 -> 0 | G20: =일위대가!J110 -> 0 | H20: =E20+F20+G20 -> 0 | I20: 호표 17 | M20: 기계 1-3-4
A21: 59A5E5876659AEF255EB4A8A56648B | B21: 스테인리스강관배관(K-TYPE-옥내) | C21: D25 | D21: M | E21: =일위대가!F118 -> 0 | F21: =일위대가!H118 -> 0 | G21: =일위대가!J118 -> 0 | H21: =E21+F21+G21 -> 0 | I21: 호표 18 | M21: 기계 1-3-4
A22: 59A5E5876659DA32055AEA8F38A11B | B22: 스테인리스강관배관(K-TYPE-옥내) | C22: D30 | D22: M | E22: =일위대가!F126 -> 0 | F22: =일위대가!H126 -> 0 | G22: =일위대가!J126 -> 0 | H22: =E22+F22+G22 -> 0 | I22: 호표 19 | M22: 기계 1-3-4
A23: 59A5E5849253A88225031B8E8F91E8 | B23: 스테인리스용접(TIG) | C23: D125 | D23: 개소 | E23: =일위대가!F133 -> 0 | F23: =일위대가!H133 -> 0 | G23: =일위대가!J133 -> 0 | H23: =E23+F23+G23 -> 0 | I23: 호표 20 | M23: 기계 1-3-1
A24: 59A5E58BC05E4352A535A7825FBA3A | B24: 경질염화비닐관(고무링 캡조임-일반 PVC) | C24: PVC관(VG1), D50 | D24: M | E24: =일위대가!F141 -> 0 | F24: =일위대가!H141 -> 0 | G24: =일위대가!J141 -> 0 | H24: =E24+F24+G24 -> 0 | I24: 호표 21 | M24: 기계 1-5-2
A25: 59A5E58BC05EA5D215FDD6836481F7 | B25: 경질염화비닐관(고무링 캡조임-일반 PVC) | C25: PVC관(VG1), D75 | D25: M | E25: =일위대가!F149 -> 0 | F25: =일위대가!H149 -> 0 | G25: =일위대가!J149 -> 0 | H25: =E25+F25+G25 -> 0 | I25: 호표 22 | M25: 기계 1-5-2
A26: 59A5E58BC35BE3A275289E8C89C3DC | B26: 경질염화비닐관(고무링 캡조임-일반 PVC) | C26: PVC관(VG2), D75 | D26: M | E26: =일위대가!F157 -> 0 | F26: =일위대가!H157 -> 0 | G26: =일위대가!J157 -> 0 | H26: =E26+F26+G26 -> 0 | I26: 호표 23 | M26: 기계 1-5-2
A27: 59A5E5880C57D6C2A58E62808417E0 | B27: 경질염화비닐관(고무링 캡조임-일반 PVC) | C27: PVC관(VG1), D100 | D27: M | E27: =일위대가!F165 -> 0 | F27: =일위대가!H165 -> 0 | G27: =일위대가!J165 -> 0 | H27: =E27+F27+G27 -> 0 | I27: 호표 24 | M27: 기계 1-5-2
A28: 59A5E592725E7A2205158D8625F0A6 | B28: 스테인리스 합 후렌지 | C28: D20 | D28: 개소 | E28: =일위대가!F173 -> 0 | F28: =일위대가!H173 -> 0 | G28: =일위대가!J173 -> 0 | H28: =E28+F28+G28 -> 0 | I28: 호표 25 | M28: 대한기계설비건설협회
A29: 59A5E592725E69B2150A8B84023A49 | B29: 스테인리스 합 후렌지 | C29: D25 | D29: 개소 | E29: =일위대가!F181 -> 0 | F29: =일위대가!H181 -> 0 | G29: =일위대가!J181 -> 0 | H29: =E29+F29+G29 -> 0 | I29: 호표 26 | M29: 대한기계설비건설협회
A30: 59A5F5E8B654D91235E2D988DF3BB0 | B30: 아연도금강관덕트(각형닥트) 설치 | C30: 0.5t | D30: M2 | E30: =일위대가!F188 -> 0 | F30: =일위대가!H188 -> 0 | G30: =일위대가!J188 -> 0 | H30: =E30+F30+G30 -> 0 | I30: 호표 27 | M30: 기계 2-1-1
A31: 59A5F5E8B0520B02850FB2894E707C | B31: 공조덕트(플렉시블) | C31: D150*0.02t, 보온, AL foil 2p | D31: M | E31: =일위대가!F194 -> 0 | F31: =일위대가!H194 -> 0 | G31: =일위대가!J194 -> 0 | H31: =E31+F31+G31 -> 0 | I31: 호표 28 | M31: 기계 2-1-6
A32: 59A5F5ED3D50948255E9908EDFFB8E | B32: 디퓨저 | C32: 원형PAN, D150, AL | D32: 개 | E32: =일위대가!F200 -> 0 | F32: =일위대가!H200 -> 0 | G32: =일위대가!J200 -> 0 | H32: =E32+F32+G32 -> 0 | I32: 호표 29 | M32: 기계 2-2-1
A33: 59A585188F51F8A2D592B18B2026CB | B33: 관보온(고무발포, 매직테프) | C33: 25t*D15 | D33: M | E33: =일위대가!F212 -> 0 | F33: =일위대가!H212 -> 0 | G33: =일위대가!J212 -> 0 | H33: =E33+F33+G33 -> 0 | I33: 호표 30 | M33: 대한기계설비건설협회
A34: 59A585188F51CC52F5F13280896056 | B34: 관보온(고무발포, 매직테프) | C34: 25t*D20 | D34: M | E34: =일위대가!F224 -> 0 | F34: =일위대가!H224 -> 0 | G34: =일위대가!J224 -> 0 | H34: =E34+F34+G34 -> 0 | I34: 호표 31 | M34: 대한기계설비건설협회
A35: 59A585188F51DDC275D43885978CE7 | B35: 관보온(고무발포, 매직테프) | C35: 25t*D25 | D35: M | E35: =일위대가!F236 -> 0 | F35: =일위대가!H236 -> 0 | G35: =일위대가!J236 -> 0 | H35: =E35+F35+G35 -> 0 | I35: 호표 32 | M35: 대한기계설비건설협회
A36: 59A585188F51A082D5F99E8F502586 | B36: 관보온(고무발포, 매직테프) | C36: 25t*D32 | D36: M | E36: =일위대가!F248 -> 0 | F36: =일위대가!H248 -> 0 | G36: =일위대가!J248 -> 0 | H36: =E36+F36+G36 -> 0 | I36: 호표 33 | M36: 대한기계설비건설협회
A37: 59A5851C6454714275EB8180C6A0E7 | B37: 각형닥트보온(발포폴리에틸렌 보온) | C37: 25t | D37: M2 | E37: =일위대가!F258 -> 0 | F37: =일위대가!H258 -> 0 | G37: =일위대가!J258 -> 0 | H37: =E37+F37+G37 -> 0 | I37: 호표 34 | M37: 대한기계설비건설협회
A38: 59A5A566BE5E6A92A5D7FE8226B755 | B38: 볼밸브설치(스텐, 10kg) | C38: D15 | D38: 개 | E38: =일위대가!F264 -> 0 | F38: =일위대가!H264 -> 0 | G38: =일위대가!J264 -> 0 | H38: =E38+F38+G38 -> 0 | I38: 호표 35 | M38: 기계 5-1-1
A39: 59A5A566BE5E586275F0DF842E0BDC | B39: 볼밸브설치(스텐, 10kg) | C39: D20 | D39: 개 | E39: =일위대가!F270 -> 0 | F39: =일위대가!H270 -> 0 | G39: =일위대가!J270 -> 0 | H39: =E39+F39+G39 -> 0 | I39: 호표 36 | M39: 기계 5-1-1
A40: 59A5A566BE5E586275D4008934569B | B40: 볼밸브설치(황동, 10kg) | C40: D20 | D40: 개 | E40: =일위대가!F276 -> 0 | F40: =일위대가!H276 -> 0 | G40: =일위대가!J276 -> 0 | H40: =E40+F40+G40 -> 0 | I40: 호표 37 | M40: 기계 5-1-1
...

Sheet 일위대가
A1: [ 영주적십자병원 건강검진센터 리모델링공사 ]
A2: 품 명 | B2: 규 격 | C2: 단위 | D2: 수량 | E2: 재 료 비 | G2: 노 무 비 | I2: 경 비 | K2: 합 계 | M2: 비 고 | N2: 일위대가 | O2: 품목코드 | P2: 일위 | Q2: 단산 | R2: 자재 | S2: 손료적용 | T2: 손료저장 | U2: 적용율 | V2: JUK1 | W2: JUK2 | X2: JUK3 | Y2: JUK4 | Z2: JUK5 | AA2: JUK6 | AB2: JUK7 | AC2: JUK8 | AD2: JUK9 | AE2: JUK10 | AF2: JUK11 | AG2: JUK12 | AH2: JUK13 | AI2: JUK14 | AJ2: JUK15 | AK2: JUK16 | AL2: JUK17 | AM2: JUK18 | AN2: JUK19 | AO2: JUK20 | AP2: 할증적용 | AQ2: 할증저장 | AR2: 할증율 | AS2: HAL1 | AT2: HAL2 | AU2: HAL3 | AV2: 자재구분 | AW2: 일위대가+자재 | AX2: 장비일위 | AY2: 설정 | AZ2: 할증체크
E3: 단 가 | F3: 금 액 | G3: 단 가 | H3: 금 액 | I3: 단 가 | J3: 금 액 | K3: 단 가 | L3: 금 액
A4: 코아드릴 25.40cm HR 공통 8-3(5901) ( 호표 1 ) | N4: 5E7B35D0CE5B2332653F208FDBA6DC6340D320DC
A5: 코어드릴 | B5: 25.40cm | C5: 대 | D5: 0.5268 | E5: =단가대비표!O5 -> 0 | F5: =TRUNC(E5*D5,1) -> 0 | G5: =단가대비표!P5 -> 0 | H5: =TRUNC(G5*D5,1) -> 0 | I5: =단가대비표!V5 -> 0 | J5: =TRUNC(I5*D5,1) -> 0 | K5: =TRUNC(E5+G5+I5,1) -> 0 | L5: =TRUNC(F5+H5+J5,1) -> 0 | M5: 천원 | N5: 5E7B35D0CE5B2332653F208FDBA6DC6340D320DC | O5: 5E7B35D0CE5B2332653F208FDBA6DC6340D320 | P5: F | Q5: F | R5: T | AW5: 5E7B35D0CE5B2332653F208FDBA6DC6340D320DC5E7B35D0CE5B2332653F208FDBA6DC6340D320
A6: [ 합 계 ] | F6: =TRUNC(SUMIF(N5:N5, N4, F5:F5),0) -> 0 | H6: =TRUNC(SUMIF(N5:N5, N4, H5:H5),0) -> 0 | J6: =TRUNC(SUMIF(N5:N5, N4, J5:J5),0) -> 0 | L6: =F6+H6+J6 -> 0 | N6: TOTAL | O6: TOTAL | AX6: T
A8: 디퓨져(철거) D150이하 EA ( 호표 2 ) | N8: 594FB5F90B50D3E27503CA83106FD7
A9: 덕트공 | B9: 일반공사 직종 | C9: 인 | D9: 0.172 | E9: =단가대비표!O174 -> 0 | F9: =TRUNC(E9*D9,1) -> 0 | G9: =단가대비표!P174 -> 0 | H9: =TRUNC(G9*D9,1) -> 0 | I9: =단가대비표!V174 -> 0 | J9: =TRUNC(I9*D9,1) -> 0 | K9: =TRUNC(E9+G9+I9,1) -> 0 | L9: =TRUNC(F9+H9+J9,1) -> 0 | N9: 594FB5F90B50D3E27503CA83106FD7 | O9: 59B325ECC451AAD2053E648450FCF1A190946E | P9: F | Q9: F | R9: T | V9: 1 | AW9: 594FB5F90B50D3E27503CA83106FD759B325ECC451AAD2053E648450FCF1A190946E
A10: 공구손료 | B10: 인력품의 2% | C10: 식 | D10: 1 | E10: =TRUNC(SUMIF(V9:V10, RIGHTB(O10, 1), H9:H10)*U10, 2) -> 0 | F10: =TRUNC(E10*D10,1) -> 0 | G10: 0 | H10: =TRUNC(G10*D10,1) -> 0 | I10: 0 | J10: =TRUNC(I10*D10,1) -> 0 | K10: =TRUNC(E10+G10+I10,1) -> 0 | L10: =TRUNC(F10+H10+J10,1) -> 0 | N10: 594FB5F90B50D3E27503CA83106FD7 | O10: 587AB5E9EB597672B58E9580482A001 | P10: F | Q10: F | R10: F | S10: 1 | T10: 0 | U10: 0.02 | AW10: 594FB5F90B50D3E27503CA83106FD7587AB5E9EB597672B58E9580482A001
A11: [ 합 계 ] | F11: =TRUNC(SUMIF(N9:N10, N8, F9:F10),0) -> 0 | H11: =TRUNC(SUMIF(N9:N10, N8, H9:H10),0) -> 0 | J11: =TRUNC(SUMIF(N9:N10, N8, J9:J10),0) -> 0 | L11: =F11+H11+J11 -> 0 | N11: TOTAL | O11: TOTAL
A13: 휀코일유니트(신설) 1-WAY, 1,186kcal/h 대 ( 호표 3 ) | N13: 594FB5F90B50D3E27503CA83106FDF
A14: 기계설비공 | B14: 일반공사 직종 | C14: 인 | D14: 1.5 | E14: =단가대비표!O176 -> 0 | F14: =TRUNC(E14*D14,1) -> 0 | G14: =단가대비표!P176 -> 0 | H14: =TRUNC(G14*D14,1) -> 0 | I14: =단가대비표!V176 -> 0 | J14: =TRUNC(I14*D14,1) -> 0 | K14: =TRUNC(E14+G14+I14,1) -> 0 | L14: =TRUNC(F14+H14+J14,1) -> 0 | N14: 594FB5F90B50D3E27503CA83106FDF | O14: 59B325ECC451AAD2053E648450FCF1A1909575 | P14: F | Q14: F | R14: T | V14: 1 | AW14: 594FB5F90B50D3E27503CA83106FDF59B325ECC451AAD2053E648450FCF1A1909575
A15: 보통인부 | B15: 일반공사 직종 | C15: 인 | D15: 0.5 | E15: =단가대비표!O166 -> 0 | F15: =TRUNC(E15*D15,1) -> 0 | G15: =단가대비표!P166 -> 0 | H15: =TRUNC(G15*D15,1) -> 0 | I15: =단가대비표!V166 -> 0 | J15: =TRUNC(I15*D15,1) -> 0 | K15: =TRUNC(E15+G15+I15,1) -> 0 | L15: =TRUNC(F15+H15+J15,1) -> 0 | N15: 594FB5F90B50D3E27503CA83106FDF | O15: 59B325ECC451AAD2053E648450FCF1A19090F0 | P15: F | Q15: F | R15: T | V15: 1 | AW15: 594FB5F90B50D3E27503CA83106FDF59B325ECC451AAD2053E648450FCF1A19090F0
A16: 공구손료 | B16: 인력품의 2% | C16: 식 | D16: 1 | E16: =TRUNC(SUMIF(V14:V16, RIGHTB(O16, 1), H14:H16)*U16, 2) -> 0 | F16: =TRUNC(E16*D16,1) -> 0 | G16: 0 | H16: =TRUNC(G16*D16,1) -> 0 | I16: 0 | J16: =TRUNC(I16*D16,1) -> 0 | K16: =TRUNC(E16+G16+I16,1) -> 0 | L16: =TRUNC(F16+H16+J16,1) -> 0 | N16: 594FB5F90B50D3E27503CA83106FDF | O16: 587AB5E9EB597672B58E9580482A001 | P16: F | Q16: F | R16: F | S16: 1 | T16: 0 | U16: 0.02 | AW16: 594FB5F90B50D3E27503CA83106FDF587AB5E9EB597672B58E9580482A001
A17: [ 합 계 ] | F17: =TRUNC(SUMIF(N14:N16, N13, F14:F16),0) -> 0 | H17: =TRUNC(SUMIF(N14:N16, N13, H14:H16),0) -> 0 | J17: =TRUNC(SUMIF(N14:N16, N13, J14:J16),0) -> 0 | L17: =F17+H17+J17 -> 0 | N17: TOTAL | O17: TOTAL
A19: 휀코일유니트(철거후재설치) 2-WAY, 2,326kcal/h 대 ( 호표 4 ) | N19: 594FB5F90B50D3E27503CA83106ECF
A20: 기계설비공 | B20: 일반공사 직종 | C20: 인 | D20: 2.4 | E20: =단가대비표!O176 -> 0 | F20: =TRUNC(E20*D20,1) -> 0 | G20: =단가대비표!P176 -> 0 | H20: =TRUNC(G20*D20,1) -> 0 | I20: =단가대비표!V176 -> 0 | J20: =TRUNC(I20*D20,1) -> 0 | K20: =TRUNC(E20+G20+I20,1) -> 0 | L20: =TRUNC(F20+H20+J20,1) -> 0 | N20: 594FB5F90B50D3E27503CA83106ECF | O20: 59B325ECC451AAD2053E648450FCF1A1909575 | P20: F | Q20: F | R20: T | V20: 1 | AW20: 594FB5F90B50D3E27503CA83106ECF59B325ECC451AAD2053E648450FCF1A1909575
A21: 보통인부 | B21: 일반공사 직종 | C21: 인 | D21: 0.8 | E21: =단가대비표!O166 -> 0 | F21: =TRUNC(E21*D21,1) -> 0 | G21: =단가대비표!P166 -> 0 | H21: =TRUNC(G21*D21,1) -> 0 | I21: =단가대비표!V166 -> 0 | J21: =TRUNC(I21*D21,1) -> 0 | K21: =TRUNC(E21+G21+I21,1) -> 0 | L21: =TRUNC(F21+H21+J21,1) -> 0 | N21: 594FB5F90B50D3E27503CA83106ECF | O21: 59B325ECC451AAD2053E648450FCF1A19090F0 | P21: F | Q21: F | R21: T | V21: 1 | AW21: 594FB5F90B50D3E27503CA83106ECF59B325ECC451AAD2053E648450FCF1A19090F0
A22: 공구손료 | B22: 인력품의 2% | C22: 식 | D22: 1 | E22: =TRUNC(SUMIF(V20:V22, RIGHTB(O22, 1), H20:H22)*U22, 2) -> 0 | F22: =TRUNC(E22*D22,1) -> 0 | G22: 0 | H22: =TRUNC(G22*D22,1) -> 0 | I22: 0 | J22: =TRUNC(I22*D22,1) -> 0 | K22: =TRUNC(E22+G22+I22,1) -> 0 | L22: =TRUNC(F22+H22+J22,1) -> 0 | N22: 594FB5F90B50D3E27503CA83106ECF | O22: 587AB5E9EB597672B58E9580482A001 | P22: F | Q22: F | R22: F | S22: 1 | T22: 0 | U22: 0.02 | AW22: 594FB5F90B50D3E27503CA83106ECF587AB5E9EB597672B58E9580482A001
A23: [ 합 계 ] | F23: =TRUNC(SUMIF(N20:N22, N19, F20:F22),0) -> 0 | H23: =TRUNC(SUMIF(N20:N22, N19, H20:H22),0) -> 0 | J23: =TRUNC(SUMIF(N20:N22, N19, J20:J22),0) -> 0 | L23: =F23+H23+J23 -> 0 | N23: TOTAL | O23: TOTAL
A25: 휀코일유니트(철거후재설치) 4-WAY, 2,289kcal/h 대 ( 호표 5 ) | N25: 594FB5F90B50D3E27503CA83106ECE
A26: 기계설비공 | B26: 일반공사 직종 | C26: 인 | D26: 2.4 | E26: =단가대비표!O176 -> 0 | F26: =TRUNC(E26*D26,1) -> 0 | G26: =단가대비표!P176 -> 0 | H26: =TRUNC(G26*D26,1) -> 0 | I26: =단가대비표!V176 -> 0 | J26: =TRUNC(I26*D26,1) -> 0 | K26: =TRUNC(E26+G26+I26,1) -> 0 | L26: =TRUNC(F26+H26+J26,1) -> 0 | N26: 594FB5F90B50D3E27503CA83106ECE | O26: 59B325ECC451AAD2053E648450FCF1A1909575 | P26: F | Q26: F | R26: T | V26: 1 | AW26: 594FB5F90B50D3E27503CA83106ECE59B325ECC451AAD2053E648450FCF1A1909575
A27: 보통인부 | B27: 일반공사 직종 | C27: 인 | D27: 0.8 | E27: =단가대비표!O166 -> 0 | F27: =TRUNC(E27*D27,1) -> 0 | G27: =단가대비표!P166 -> 0 | H27: =TRUNC(G27*D27,1) -> 0 | I27: =단가대비표!V166 -> 0 | J27: =TRUNC(I27*D27,1) -> 0 | K27: =TRUNC(E27+G27+I27,1) -> 0 | L27: =TRUNC(F27+H27+J27,1) -> 0 | N27: 594FB5F90B50D3E27503CA83106ECE | O27: 59B325ECC451AAD2053E648450FCF1A19090F0 | P27: F | Q27: F | R27: T | V27: 1 | AW27: 594FB5F90B50D3E27503CA83106ECE59B325ECC451AAD2053E648450FCF1A19090F0
A28: 공구손료 | B28: 인력품의 2% | C28: 식 | D28: 1 | E28: =TRUNC(SUMIF(V26:V28, RIGHTB(O28, 1), H26:H28)*U28, 2) -> 0 | F28: =TRUNC(E28*D28,1) -> 0 | G28: 0 | H28: =TRUNC(G28*D28,1) -> 0 | I28: 0 | J28: =TRUNC(I28*D28,1) -> 0 | K28: =TRUNC(E28+G28+I28,1) -> 0 | L28: =TRUNC(F28+H28+J28,1) -> 0 | N28: 594FB5F90B50D3E27503CA83106ECE | O28: 587AB5E9EB597672B58E9580482A001 | P28: F | Q28: F | R28: F | S28: 1 | T28: 0 | U28: 0.02 | AW28: 594FB5F90B50D3E27503CA83106ECE587AB5E9EB597672B58E9580482A001
A29: [ 합 계 ] | F29: =TRUNC(SUMIF(N26:N28, N25, F26:F28),0) -> 0 | H29: =TRUNC(SUMIF(N26:N28, N25, H26:H28),0) -> 0 | J29: =TRUNC(SUMIF(N26:N28, N25, J26:J28),0) -> 0 | L29: =F29+H29+J29 -> 0 | N29: TOTAL | O29: TOTAL
A31: 휀코일유니트(철거후재설치) 4-WAY, 3,215kcal/h 대 ( 호표 6 ) | N31: 594FB5F90B50D3E27503CA83106ECD
A32: 기계설비공 | B32: 일반공사 직종 | C32: 인 | D32: 2.4 | E32: =단가대비표!O176 -> 0 | F32: =TRUNC(E32*D32,1) -> 0 | G32: =단가대비표!P176 -> 0 | H32: =TRUNC(G32*D32,1) -> 0 | I32: =단가대비표!V176 -> 0 | J32: =TRUNC(I32*D32,1) -> 0 | K32: =TRUNC(E32+G32+I32,1) -> 0 | L32: =TRUNC(F32+H32+J32,1) -> 0 | N32: 594FB5F90B50D3E27503CA83106ECD | O32: 59B325ECC451AAD2053E648450FCF1A1909575 | P32: F | Q32: F | R32: T | V32: 1 | AW32: 594FB5F90B50D3E27503CA83106ECD59B325ECC451AAD2053E648450FCF1A1909575
A33: 보통인부 | B33: 일반공사 직종 | C33: 인 | D33: 0.8 | E33: =단가대비표!O166 -> 0 | F33: =TRUNC(E33*D33,1) -> 0 | G33: =단가대비표!P166 -> 0 | H33: =TRUNC(G33*D33,1) -> 0 | I33: =단가대비표!V166 -> 0 | J33: =TRUNC(I33*D33,1) -> 0 | K33: =TRUNC(E33+G33+I33,1) -> 0 | L33: =TRUNC(F33+H33+J33,1) -> 0 | N33: 594FB5F90B50D3E27503CA83106ECD | O33: 59B325ECC451AAD2053E648450FCF1A19090F0 | P33: F | Q33: F | R33: T | V33: 1 | AW33: 594FB5F90B50D3E27503CA83106ECD59B325ECC451AAD2053E648450FCF1A19090F0
A34: 공구손료 | B34: 인력품의 2% | C34: 식 | D34: 1 | E34: =TRUNC(SUMIF(V32:V34, RIGHTB(O34, 1), H32:H34)*U34, 2) -> 0 | F34: =TRUNC(E34*D34,1) -> 0 | G34: 0 | H34: =TRUNC(G34*D34,1) -> 0 | I34: 0 | J34: =TRUNC(I34*D34,1) -> 0 | K34: =TRUNC(E34+G34+I34,1) -> 0 | L34: =TRUNC(F34+H34+J34,1) -> 0 | N34: 594FB5F90B50D3E27503CA83106ECD | O34: 587AB5E9EB597672B58E9580482A001 | P34: F | Q34: F | R34: F | S34: 1 | T34: 0 | U34: 0.02 | AW34: 594FB5F90B50D3E27503CA83106ECD587AB5E9EB597672B58E9580482A001
A35: [ 합 계 ] | F35: =TRUNC(SUMIF(N32:N34, N31, F32:F34),0) -> 0 | H35: =TRUNC(SUMIF(N32:N34, N31, H32:H34),0) -> 0 | J35: =TRUNC(SUMIF(N32:N34, N31, J32:J34),0) -> 0 | L35: =F35+H35+J35 -> 0 | N35: TOTAL | O35: TOTAL
A37: V.D(볼륨댐퍼) 200*200 개소 ( 호표 7 ) | N37: 593995DDC4562482D5BFE580C3A4FF
A38: 덕트공 | B38: 일반공사 직종 | C38: 인 | D38: 0.375 | E38: =단가대비표!O174 -> 0 | F38: =TRUNC(E38*D38,1) -> 0 | G38: =단가대비표!P174 -> 0 | H38: =TRUNC(G38*D38,1) -> 0 | I38: =단가대비표!V174 -> 0 | J38: =TRUNC(I38*D38,1) -> 0 | K38: =TRUNC(E38+G38+I38,1) -> 0 | L38: =TRUNC(F38+H38+J38,1) -> 0 | N38: 593995DDC4562482D5BFE580C3A4FF | O38: 59B325ECC451AAD2053E648450FCF1A190946E | P38: F | Q38: F | R38: T | V38: 1 | AW38: 593995DDC4562482D5BFE580C3A4FF59B325ECC451AAD2053E648450FCF1A190946E
A39: 공구손료 | B39: 인력품의 2% | C39: 식 | D39: 1 | E39: =TRUNC(SUMIF(V38:V39, RIGHTB(O39, 1), H38:H39)*U39, 2) -> 0 | F39: =TRUNC(E39*D39,1) -> 0 | G39: 0 | H39: =TRUNC(G39*D39,1) -> 0 | I39: 0 | J39: =TRUNC(I39*D39,1) -> 0 | K39: =TRUNC(E39+G39+I39,1) -> 0 | L39: =TRUNC(F39+H39+J39,1) -> 0 | N39: 593995DDC4562482D5BFE580C3A4FF | O39: 587AB5E9EB597672B58E9580482A001 | P39: F | Q39: F | R39: F | S39: 1 | T39: 0 | U39: 0.02 | AW39: 593995DDC4562482D5BFE580C3A4FF587AB5E9EB597672B58E9580482A001
A40: [ 합 계 ] | F40: =TRUNC(SUMIF(N38:N39, N37, F38:F39),0) -> 0 | H40: =TRUNC(SUMIF(N38:N39, N37, H38:H39),0) -> 0 | J40: =TRUNC(SUMIF(N38:N39, N37, J38:J39),0) -> 0 | L40: =F40+H40+J40 -> 0 | N40: TOTAL | O40: TOTAL
A42: 강제전선관-노출 아연도, 16mm M 전기 5-1 ( 호표 8 ) | N42: 592A359E6D55EBC275D4208718E327
A43: 강제전선관 | B43: 강제전선관, 후강전선관, 아연도, 16mm | C43: M | D43: 1.1 | E43: =단가대비표!O66 -> 0 | F43: =TRUNC(E43*D43,1) -> 0 | G43: =단가대비표!P66 -> 0 | H43: =TRUNC(G43*D43,1) -> 0 | I43: =단가대비표!V66 -> 0 | J43: =TRUNC(I43*D43,1) -> 0 | K43: =TRUNC(E43+G43+I43,1) -> 0 | L43: =TRUNC(F43+H43+J43,1) -> 0 | N43: 592A359E6D55EBC275D4208718E327 | O43: 5E4F65CC0D564C5265F9578EC7E774EBEA3E5E | P43: F | Q43: F | R43: T | V43: 1 | W43: 2 | AW43: 592A359E6D55EBC275D4208718E3275E4F65CC0D564C5265F9578EC7E774EBEA3E5E
A44: 전선관부속품비 | B44: 전선관의 15% | C44: 식 | D44: 1 | E44: =TRUNC(SUMIF(V43:V47, RIGHTB(O44, 1), F43:F47)*U44, 2) -> 0 | F44: =TRUNC(E44*D44,1) -> 0 | G44: 0 | H44: =TRUNC(G44*D44,1) -> 0 | I44: 0 | J44: =TRUNC(I44*D44,1) -> 0 | K44: =TRUNC(E44+G44+I44,1) -> 0 | L44: =TRUNC(F44+H44+J44,1) -> 0 | N44: 592A359E6D55EBC275D4208718E327 | O44: 587AB5E9EB597672B58E9580482A001 | P44: F | Q44: F | R44: F | S44: 0 | T44: 0 | U44: 0.15 | AW44: 592A359E6D55EBC275D4208718E327587AB5E9EB597672B58E9580482A001
A45: 잡재료비 | B45: 배관배선의 2% | C45: 식 | D45: 1 | E45: =TRUNC(SUMIF(W43:W47, RIGHTB(O45, 1), F43:F47)*U45, 2) -> 0 | F45: =TRUNC(E45*D45,1) -> 0 | G45: 0 | H45: =TRUNC(G45*D45,1) -> 0 | I45: 0 | J45: =TRUNC(I45*D45,1) -> 0 | K45: =TRUNC(E45+G45+I45,1) -> 0 | L45: =TRUNC(F45+H45+J45,1) -> 0 | N45: 592A359E6D55EBC275D4208718E327 | O45: 587AB5E9EB597672B58E95804829002 | P45: F | Q45: F | R45: F | S45: 0 | T45: 0 | U45: 0.02 | AW45: 592A359E6D55EBC275D4208718E327587AB5E9EB597672B58E95804829002
A46: 내선전공 | B46: 일반공사 직종 | C46: 인 | D46: 0.096 | E46: =단가대비표!O177 -> 0 | F46: =TRUNC(E46*D46,1) -> 0 | G46: =단가대비표!P177 -> 0 | H46: =TRUNC(G46*D46,1) -> 0 | I46: =단가대비표!V177 -> 0 | J46: =TRUNC(I46*D46,1) -> 0 | K46: =TRUNC(E46+G46+I46,1) -> 0 | L46: =TRUNC(F46+H46+J46,1) -> 0 | N46: 592A359E6D55EBC275D4208718E327 | O46: 59B325ECC451AAD2053E648450FCF1A1909724 | P46: F | Q46: F | R46: T | X46: 3 | AW46: 592A359E6D55EBC275D4208718E32759B325ECC451AAD2053E648450FCF1A1909724
A47: 공구손료 | B47: 인력품의 3% | C47: 식 | D47: 1 | E47: =TRUNC(SUMIF(X43:X47, RIGHTB(O47, 1), H43:H47)*U47, 2) -> 0 | F47: =TRUNC(E47*D47,1) -> 0 | G47: 0 | H47: =TRUNC(G47*D47,1) -> 0 | I47: 0 | J47: =TRUNC(I47*D47,1) -> 0 | K47: =TRUNC(E47+G47+I47,1) -> 0 | L47: =TRUNC(F47+H47+J47,1) -> 0 | N47: 592A359E6D55EBC275D4208718E327 | O47: 587AB5E9EB597672B58E95804828003 | P47: F | Q47: F | R47: F | S47: 1 | T47: 0 | U47: 0.03 | AW47: 592A359E6D55EBC275D4208718E327587AB5E9EB597672B58E95804828003
...

Sheet 단가대비표
A1: 단 가 대 비 표
A2: [ 영주적십자병원 건강검진센터 리모델링공사 ]
A3: 코 드 | B3: 품 명 | C3: 규격 | D3: 단위 | E3: 재 료 비 | P3: 노 무 비 | Q3: 경 비 | W3: 번 호 | X3: 비 고 | Y3: 품목구분 | Z3: 노임구분 | AA3: 소수점처리 | AB3: 자재구분
E4: 조달청가격 | F4: PAGE | G4: 거래가격 | H4: PAGE | I4: 유통물가 | J4: PAGE | K4: 조사가격1 | L4: PAGE | M4: 조사가격2 | N4: PAGE | O4: 적용단가 | Q4: 조달청가격 | R4: 거래가격 | S4: 유통물가 | T4: 조사가격1 | U4: 조사가격2 | V4: 적용단가
A5: 5E7B35D0CE5B2332653F208FDBA6DC6340D320 | B5: 코어드릴 | C5: 25.40cm | D5: 대 | W5: 자재 1 | X5: 천원
A6: 5E6AE5AD95584CF295B95E85C0FCAE360101A3 | B6: 산소가스 | C6: 기체 | D6: L | W6: 자재 2 | X6: 대기압상태기준
A7: 5E6AE5AD955879A215DE3E8A4ADFF35F6F4D5A | B7: 아르곤가스 | C7: 아르곤가스, 건설용알곤가스 | D7: L | W7: 자재 3
A8: 5E6A952B995447A235AE958F639D496608D2F9 | B8: 액화석유가스 | C8: 액화석유가스, 건설용 LPG | D8: kg | W8: 자재 4
A9: 5E5855D7655D69226556CD8DBDB8EB3A922CAF | B9: 연강용피복아크용접봉 | C9: 연강용피복아크용접봉, CS-200, ∮4.0mm | D9: kg | W9: 자재 5
A10: 5E5855D7655D69226556CD8DBDB8EB3A907B76 | B10: 스테인리스강용알곤용접봉 | C10: 스테인리스강용알곤용접봉, ∮3.2mm, T-308 | D10: kg | W10: 자재 6
A11: 5E580552965DE3B235BE1387ED11960C3BF9AC | B11: 제어케이블 | C11: 제어케이블, 0.6/1kv, TFR-CVV, 2C*1.5㎟ | D11: M | W11: 자재 7
A12: 5E580552965DE3B235BE1387ED11960C3BF884 | B12: 제어케이블 | C12: 제어케이블, 0.6/1kv, TFR-CVV, 4C*2.5㎟ | D12: M | W12: 자재 8
A13: 5E4FF5287A511122B521848F65B829A0007ECD | B13: 세면기 | C13: CL-384 | D13: 대 | W13: 자재 9
A14: 5E4FF5287A511122B521848F65B829A00078A3 | B14: 세면기 폼업 | D14: 대 | W14: 자재 10
A15: 5E4FF5287A511122B521848F65B829A00078A2 | B15: 관붙이앵글밸브 | C15: 15A | D15: 대 | W15: 자재 11
A16: 5E4FF5287A511122B521848F65B829A00078A1 | B16: 원형세면기 후레임 | D16: 대 | W16: 자재 12
A17: 5E4FF5287A511122B521848F65B829A00078A7 | B17: 세면기용 P-TRAP | D17: 대 | W17: 자재 13
A18: 5E4FF5287A511122B521848F65B829A00078A6 | B18: 세면기용 브라켓 | C18: 2개 1조 | D18: 대 | W18: 자재 14
A19: 5E4FF5287A511122B5219586566B1E1A44E39A | B19: 양변기(장애인용) | C19: CC-116 (자동세척밸브포함) | D19: 조 | W19: 자재 15
A20: 5E4FF5287A511122B521A78985621105B76803 | B20: 소변기(절수2등급) | C20: 소변기(센서내장),KCVU-410 | D20: 조 | W20: 자재 16
A21: 5E4FF5287A511122B5215F8B26538D9001C932 | B21: 휴지걸이 | C21: 대형롤타입 | D21: EA | W21: 자재 17
A22: 5E4FF5287A511122B5215F8B26538D9001C936 | B22: 비누대 | C22: KS F-4529 | D22: 개 | W22: 자재 18
A23: 5E4FF5287A511122B5215F8B265BC50908FC06 | B23: 핸드드라이어 | D23: 개 | W23: 자재 19
A24: 5E4FF5287A511122B5215F8B265BC50908FD29 | B24: 위생분리수거함 | C24: 기성품, ABS | D24: 개 | W24: 자재 20
A25: 5E4FF5287A511122B5215F8B265BC50908FD2A | B25: 유아용 거치대 | C25: 유아 보호형 | D25: 개 | W25: 자재 21
A26: 5E4FF5287A511122B532A48B5BBCF513C23889 | B26: 수도꼭지 | C26: 수도꼭지, 세면기수전, 싱글레버 | D26: 개 | W26: 자재 22
A27: 5E4FE50276590062C5F97586E3961B10D2CED2 | B27: 전산볼트 | C27: 전산볼트, 탄소강, M10*1000mm | D27: 개 | W27: 자재 23
A28: 5E4FE50276590062C5F97586E3961B10D2CED4 | B28: 전산볼트 | C28: 전산볼트, 탄소강, M14*1000mm | D28: 개 | W28: 자재 24
A29: 5E4FE50276590082F5CF3B8B3CF98B823FBF63 | B29: 평와셔 | C29: 평와셔, 스테인리스, 호칭경 12mm | D29: 개 | W29: 자재 25
A30: 5E4FE50276590082F5CF3B8B3CF98B823FBE42 | B30: 평와셔 | C30: 평와셔, 스테인리스, 호칭경 16mm | D30: 개 | W30: 자재 26
A31: 5E4FE50276590082F5CF3B890F843AB5172BA0 | B31: 환봉(SS41) | C31: D12 | D31: kg | W31: 자재 27
A32: 5E4FE50276590082F5CF3B890F843AB51729FE | B32: 열연강판 | C32: 6t | D32: kg | W32: 자재 28
A33: 5E4FE50276590082F5CF3B890F843AB51729FF | B33: 열연강판 | C33: 9t | D33: kg | W33: 자재 29
A34: 5E4FE50276590082F5CF3B890F843AB51603F4 | B34: SUS(볼트+너트) | C34: M12*55L | D34: SET | W34: 자재 30
A35: 5E4FE50276590082F5CF3B890F843AB51603F5 | B35: SUS(볼트+너트) | C35: M16*55L | D35: SET | W35: 자재 31
... A44: 5E4FE50276590082F5CF3B890F843AB51601CE | B44: 관통슬리브(벽체) | C44: D150*200H | D44: 개 | W44: 자재 40
A45: 5E4FE50276590082F5CF3B890F843AB51560E4 | B45: 소요전력 | D45: kwh | W45: 자재 41
A46: 5E4FE50276590082F5CF3B890F843AB5156297 | B46: 녹막이 페인트 | C46: KSM-6030, 1종 | D46: L | W46: 자재 42
A47: 5E4FE50276590082F5CF3B890F843AB5156717 | B47: 앵글 | C47: 65*65*6t | D47: KG | W47: 자재 43
A48: 5E4FE50276593D52E5A6BC8FE99AE5CC48F208 | B48: 스트롱앵커 | C48: 스트롱앵커, M10, 9.5mm | D48: 개 | W48: 자재 44
...

Sheet  공사설정 
A1: 이 Sheet는 수정하지 마십시요
A2: 공사구분 | B2: C | C2: 타이틀
A3: 확정내역 | B3: 원내역
A4: 자재단가적용 | B4: 5
A5: 경비단가적용 | B5: 5
A6: 품목코드형식 | B6: XXXX-XXXX-XXXXXXXXX
A7: 내역금액소수점처리 | B7: C | C7: 1
A8: 일위대가내역소수점처리 | B8: C | C8: 2
A9: 단가명 | B9: 조달청가격 | C9: 거래가격 | D9: 유통물가 | E9: 조사가격1 | F9: 조사가격2 | G9: TTTTT
A10: 환율 | B10: 1472 | C10: 0 | D10: 0
A11: 시간당작업량 | B11: R | C11: 4
A12: 1회 사이클시간 | B12: R | C12: 4
A13: 시간당 작업사이클 | B13: R | C13: 3
A14: 일반변수 | B14: R | C14: 5
A15: 시간당 노임산출 계수 | B15: A | C15: 1/8*16/12*25/20 | D15: 1/8*16/12*25/20 | E15: 1/8*16/12*25/20 | F15: 1
A16: 재료비 할증 계수 | B16: 1.11 | C16: 1.12
A17: 노무비 할증 계수 | B17: 1 | C17: 1.5 | D17: 1.16 | E17: 1.6 | F17: 1.6 | G17: 1.6 | H17: 1.94 | I17: 1.94 | J17: 1.94 | K17: 1 | L17: 1 | M17: 1
A18: 경비 할증 계수 | B18: 1.25 | C18: 1.071
A19: 내역,일위대가 품명,규격,단위 따로적용
A20: 내역단가 소수점처리 | B20: C | C20: 1
A21: 코드 | B21: 공종구분명 | C21: 원가비목코드
A22: 1 | B22: 작 업 부 산 물 | C22: A3
A23: 2 | B23: 운 반 비 | C23: C1
A24: 3 | B24: 관 급 자 재 비 | C24: DJ
A25: 4 | B25: 사 급 자 재 비 | C25: D3
A26: 5 | B26: 외 자 재
A27: 6 | B27: 폐기물처리비
A28: 7 | B28: 장 비 비 | C28: DK
A29: 8 | B29: ...
A30: 9 | B30: ...
A31: A | B31: ....
A32: B | B32: .....
A33: C | B33: ....
A34: D | B34: ....
A35: E | B35: ....
A36: F | B36: ....
A37: G | B37: ....
A38: H | B38: ....
A39: I | B39: ....
A40: J | B40: ....
...

Sheet Sheet1
