Workbook

Sheet 공종별집계표
A1: 공 종 별 집 계 표
A2: [ 영주적십자병원 건강검진센터 리모델링공사 ]
A3: 품 명 | B3: 규 격 | C3: 단위 | D3: 수량 | E3: 재 료 비 | G3: 노 무 비 | I3: 경 비 | K3: 합 계 | M3: 비 고 | N3: 공종코드 | O3: 변수 | P3: 상위공종 | Q3: 공종구분 | R3: 공종레벨 | S3: 공종소계 | T3: 원가계산서 연결금액
E4: 단 가 | F4: 금 액 | G4: 단 가 | H4: 금 액 | I4: 단 가 | J4: 금 액 | K4: 단 가 | L4: 금 액
A5: 01 영주적십자병원 건강검진센터 리모델링공사 | D5: 1 | E5: =F6+F27 -> 0 | F5: =E5*D5 -> 0 | G5: =H6+H27 -> 0 | H5: =G5*D5 -> 0 | I5: =J6+J27 -> 0 | J5: =I5*D5 -> 0 | K5: =E5+G5+I5 -> 0 | L5: =F5+H5+J5 -> 0 | N5: 01 | R5: 1
A6: 0101 건강검진센터 | D6: 1 | E6: =F7+F11+F12+F13+F14+F15+F18 -> 0 | F6: =E6*D6 -> 0 | G6: =H7+H11+H12+H13+H14+H15+H18 -> 0 | H6: =G6*D6 -> 0 | I6: =J7+J11+J12+J13+J14+J15+J18 -> 0 | J6: =I6*D6 -> 0 | K6: =E6+G6+I6 -> 0 | L6: =F6+H6+J6 -> 0 | N6: 0101 | P6: 01 | R6: 2
A7: 010101 위생배관공사 | D7: 1 | E7: =F8+F9+F10 -> 0 | F7: =E7*D7 -> 0 | G7: =H8+H9+H10 -> 0 | H7: =G7*D7 -> 0 | I7: =J8+J9+J10 -> 0 | J7: =I7*D7 -> 0 | K7: =E7+G7+I7 -> 0 | L7: =F7+H7+J7 -> 0 | N7: 010101 | P7: 0101 | R7: 3
A8: 01010101 위생기구설치공사 | D8: 1 | E8: =공종별내역서!F26 -> 0 | F8: =E8*D8 -> 0 | G8: =공종별내역서!H26 -> 0 | H8: =G8*D8 -> 0 | I8: =공종별내역서!J26 -> 0 | J8: =I8*D8 -> 0 | K8: =E8+G8+I8 -> 0 | L8: =F8+H8+J8 -> 0 | N8: 01010101 | P8: 010101 | R8: 4
A9: 01010102 급수급탕배관공사 | D9: 1 | E9: =공종별내역서!F95 -> 0 | F9: =E9*D9 -> 0 | G9: =공종별내역서!H95 -> 0 | H9: =G9*D9 -> 0 | I9: =공종별내역서!J95 -> 0 | J9: =I9*D9 -> 0 | K9: =E9+G9+I9 -> 0 | L9: =F9+H9+J9 -> 0 | N9: 01010102 | P9: 010101 | R9: 4
A10: 01010103 오배수배관공사 | D10: 1 | E10: =공종별내역서!F141 -> 0 | F10: =E10*D10 -> 0 | G10: =공종별내역서!H141 -> 0 | H10: =G10*D10 -> 0 | I10: =공종별내역서!J141 -> 0 | J10: =I10*D10 -> 0 | K10: =E10+G10+I10 -> 0 | L10: =F10+H10+J10 -> 0 | N10: 01010103 | P10: 010101 | R10: 4
A11: 010102 냉난방배관공사 | D11: 1 | E11: =공종별내역서!F164 -> 0 | F11: =E11*D11 -> 0 | G11: =공종별내역서!H164 -> 0 | H11: =G11*D11 -> 0 | I11: =공종별내역서!J164 -> 0 | J11: =I11*D11 -> 0 | K11: =E11+G11+I11 -> 0 | L11: =F11+H11+J11 -> 0 | N11: 010102 | P11: 0101 | R11: 3
A12: 010103 EHP설치공사 | D12: 1 | E12: =공종별내역서!F187 -> 0 | F12: =E12*D12 -> 0 | G12: =공종별내역서!H187 -> 0 | H12: =G12*D12 -> 0 | I12: =공종별내역서!J187 -> 0 | J12: =I12*D12 -> 0 | K12: =E12+G12+I12 -> 0 | L12: =F12+H12+J12 -> 0 | N12: 010103 | P12: 0101 | R12: 3
A13: 010104 공조덕트공사 | D13: 1 | E13: =공종별내역서!F210 -> 0 | F13: =E13*D13 -> 0 | G13: =공종별내역서!H210 -> 0 | H13: =G13*D13 -> 0 | I13: =공종별내역서!J210 -> 0 | J13: =I13*D13 -> 0 | K13: =E13+G13+I13 -> 0 | L13: =F13+H13+J13 -> 0 | N13: 010104 | P13: 0101 | R13: 3
A14: 010105 의료가스배관공사 | D14: 1 | E14: =공종별내역서!F233 -> 0 | F14: =E14*D14 -> 0 | G14: =공종별내역서!H233 -> 0 | H14: =G14*D14 -> 0 | I14: =공종별내역서!J233 -> 0 | J14: =I14*D14 -> 0 | K14: =E14+G14+I14 -> 0 | L14: =F14+H14+J14 -> 0 | N14: 010105 | P14: 0101 | R14: 3
A15: 010106 자동제어공사 | D15: 1 | E15: =F16+F17 -> 0 | F15: =E15*D15 -> 0 | G15: =H16+H17 -> 0 | H15: =G15*D15 -> 0 | I15: =J16+J17 -> 0 | J15: =I15*D15 -> 0 | K15: =E15+G15+I15 -> 0 | L15: =F15+H15+J15 -> 0 | N15: 010106 | P15: 0101 | R15: 3
A16: 01010601 FCU 제어선공사 | D16: 1 | E16: =공종별내역서!F256 -> 0 | F16: =E16*D16 -> 0 | G16: =공종별내역서!H256 -> 0 | H16: =G16*D16 -> 0 | I16: =공종별내역서!J256 -> 0 | J16: =I16*D16 -> 0 | K16: =E16+G16+I16 -> 0 | L16: =F16+H16+J16 -> 0 | N16: 01010601 | P16: 010106 | R16: 4
A17: 01010602 실내 온도감지기공사 | D17: 1 | E17: =공종별내역서!F279 -> 0 | F17: =E17*D17 -> 0 | G17: =공종별내역서!H279 -> 0 | H17: =G17*D17 -> 0 | I17: =공종별내역서!J279 -> 0 | J17: =I17*D17 -> 0 | K17: =E17+G17+I17 -> 0 | L17: =F17+H17+J17 -> 0 | N17: 01010602 | P17: 010106 | R17: 4
A18: 010107 철거공사 | D18: 1 | E18: =F19+F23+F24+F25+F26 -> 0 | F18: =E18*D18 -> 0 | G18: =H19+H23+H24+H25+H26 -> 0 | H18: =G18*D18 -> 0 | I18: =J19+J23+J24+J25+J26 -> 0 | J18: =I18*D18 -> 0 | K18: =E18+G18+I18 -> 0 | L18: =F18+H18+J18 -> 0 | N18: 010107 | P18: 0101 | R18: 3
A19: 01010701 위생배관철거공사 | D19: 1 | E19: =F20+F21+F22 -> 0 | F19: =E19*D19 -> 0 | G19: =H20+H21+H22 -> 0 | H19: =G19*D19 -> 0 | I19: =J20+J21+J22 -> 0 | J19: =I19*D19 -> 0 | K19: =E19+G19+I19 -> 0 | L19: =F19+H19+J19 -> 0 | N19: 01010701 | P19: 010107 | R19: 4
A20: 0101070101 위생기구철거 | D20: 1 | E20: =공종별내역서!F302 -> 0 | F20: =E20*D20 -> 0 | G20: =공종별내역서!H302 -> 0 | H20: =G20*D20 -> 0 | I20: =공종별내역서!J302 -> 0 | J20: =I20*D20 -> 0 | K20: =E20+G20+I20 -> 0 | L20: =F20+H20+J20 -> 0 | N20: 0101070101 | P20: 01010701 | R20: 5
A21: 0101070102 급수급탕배관철거 | D21: 1 | E21: =공종별내역서!F325 -> 0 | F21: =E21*D21 -> 0 | G21: =공종별내역서!H325 -> 0 | H21: =G21*D21 -> 0 | I21: =공종별내역서!J325 -> 0 | J21: =I21*D21 -> 0 | K21: =E21+G21+I21 -> 0 | L21: =F21+H21+J21 -> 0 | N21: 0101070102 | P21: 01010701 | R21: 5
A22: 0101070103 오배수배관철거 | D22: 1 | E22: =공종별내역서!F348 -> 0 | F22: =E22*D22 -> 0 | G22: =공종별내역서!H348 -> 0 | H22: =G22*D22 -> 0 | I22: =공종별내역서!J348 -> 0 | J22: =I22*D22 -> 0 | K22: =E22+G22+I22 -> 0 | L22: =F22+H22+J22 -> 0 | N22: 0101070103 | P22: 01010701 | R22: 5
A23: 01010702 냉난방배관철거공사 | D23: 1 | E23: =공종별내역서!F371 -> 0 | F23: =E23*D23 -> 0 | G23: =공종별내역서!H371 -> 0 | H23: =G23*D23 -> 0 | I23: =공종별내역서!J371 -> 0 | J23: =I23*D23 -> 0 | K23: =E23+G23+I23 -> 0 | L23: =F23+H23+J23 -> 0 | N23: 01010702 | P23: 010107 | R23: 4
A24: 01010703 공조덕트철거공사 | D24: 1 | E24: =공종별내역서!F394 -> 0 | F24: =E24*D24 -> 0 | G24: =공종별내역서!H394 -> 0 | H24: =G24*D24 -> 0 | I24: =공종별내역서!J394 -> 0 | J24: =I24*D24 -> 0 | K24: =E24+G24+I24 -> 0 | L24: =F24+H24+J24 -> 0 | N24: 01010703 | P24: 010107 | R24: 4
A25: 01010704 의료가스배관철거공사 | D25: 1 | E25: =공종별내역서!F417 -> 0 | F25: =E25*D25 -> 0 | G25: =공종별내역서!H417 -> 0 | H25: =G25*D25 -> 0 | I25: =공종별내역서!J417 -> 0 | J25: =I25*D25 -> 0 | K25: =E25+G25+I25 -> 0 | L25: =F25+H25+J25 -> 0 | N25: 01010704 | P25: 010107 | R25: 4
A26: 01010705 자동제어철거공사 | D26: 1 | E26: =공종별내역서!F440 -> 0 | F26: =E26*D26 -> 0 | G26: =공종별내역서!H440 -> 0 | H26: =G26*D26 -> 0 | I26: =공종별내역서!J440 -> 0 | J26: =I26*D26 -> 0 | K26: =E26+G26+I26 -> 0 | L26: =F26+H26+J26 -> 0 | N26: 01010705 | P26: 010107 | R26: 4
A27: 0102 임상검사실 | D27: 1 | E27: =F28+F32+F33+F34+F37 -> 0 | F27: =E27*D27 -> 0 | G27: =H28+H32+H33+H34+H37 -> 0 | H27: =G27*D27 -> 0 | I27: =J28+J32+J33+J34+J37 -> 0 | J27: =I27*D27 -> 0 | K27: =E27+G27+I27 -> 0 | L27: =F27+H27+J27 -> 0 | N27: 0102 | P27: 01 | R27: 2
A28: 010201 위생배관공사 | D28: 1 | E28: =F29+F30+F31 -> 0 | F28: =E28*D28 -> 0 | G28: =H29+H30+H31 -> 0 | H28: =G28*D28 -> 0 | I28: =J29+J30+J31 -> 0 | J28: =I28*D28 -> 0 | K28: =E28+G28+I28 -> 0 | L28: =F28+H28+J28 -> 0 | N28: 010201 | P28: 0102 | R28: 3
A29: 01020101 위생기구설치공사 | D29: 1 | E29: =공종별내역서!F463 -> 0 | F29: =E29*D29 -> 0 | G29: =공종별내역서!H463 -> 0 | H29: =G29*D29 -> 0 | I29: =공종별내역서!J463 -> 0 | J29: =I29*D29 -> 0 | K29: =E29+G29+I29 -> 0 | L29: =F29+H29+J29 -> 0 | N29: 01020101 | P29: 010201 | R29: 4
A30: 01020102 오배수배관공사 | D30: 1 | E30: =공종별내역서!F486 -> 0 | F30: =E30*D30 -> 0 | G30: =공종별내역서!H486 -> 0 | H30: =G30*D30 -> 0 | I30: =공종별내역서!J486 -> 0 | J30: =I30*D30 -> 0 | K30: =E30+G30+I30 -> 0 | L30: =F30+H30+J30 -> 0 | N30: 01020102 | P30: 010201 | R30: 4
A31: 01020103 급수급탕배관공사 | D31: 1 | E31: =공종별내역서!F509 -> 0 | F31: =E31*D31 -> 0 | G31: =공종별내역서!H509 -> 0 | H31: =G31*D31 -> 0 | I31: =공종별내역서!J509 -> 0 | J31: =I31*D31 -> 0 | K31: =E31+G31+I31 -> 0 | L31: =F31+H31+J31 -> 0 | N31: 01020103 | P31: 010201 | R31: 4
A32: 010202 냉난방배관공사 | D32: 1 | E32: =공종별내역서!F532 -> 0 | F32: =E32*D32 -> 0 | G32: =공종별내역서!H532 -> 0 | H32: =G32*D32 -> 0 | I32: =공종별내역서!J532 -> 0 | J32: =I32*D32 -> 0 | K32: =E32+G32+I32 -> 0 | L32: =F32+H32+J32 -> 0 | N32: 010202 | P32: 0102 | R32: 3
A33: 010203 공조덕트공사 | D33: 1 | E33: =공종별내역서!F555 -> 0 | F33: =E33*D33 -> 0 | G33: =공종별내역서!H555 -> 0 | H33: =G33*D33 -> 0 | I33: =공종별내역서!J555 -> 0 | J33: =I33*D33 -> 0 | K33: =E33+G33+I33 -> 0 | L33: =F33+H33+J33 -> 0 | N33: 010203 | P33: 0102 | R33: 3
A34: 010204 자동제어공사 | D34: 1 | E34: =F35+F36 -> 0 | F34: =E34*D34 -> 0 | G34: =H35+H36 -> 0 | H34: =G34*D34 -> 0 | I34: =J35+J36 -> 0 | J34: =I34*D34 -> 0 | K34: =E34+G34+I34 -> 0 | L34: =F34+H34+J34 -> 0 | N34: 010204 | P34: 0102 | R34: 3
A35: 01020401 FCU 제어선공사 | D35: 1 | E35: =공종별내역서!F578 -> 0 | F35: =E35*D35 -> 0 | G35: =공종별내역서!H578 -> 0 | H35: =G35*D35 -> 0 | I35: =공종별내역서!J578 -> 0 | J35: =I35*D35 -> 0 | K35: =E35+G35+I35 -> 0 | L35: =F35+H35+J35 -> 0 | N35: 01020401 | P35: 010204 | R35: 4
A36: 01020402 실내 온도감지기공사 | D36: 1 | E36: =공종별내역서!F601 -> 0 | F36: =E36*D36 -> 0 | G36: =공종별내역서!H601 -> 0 | H36: =G36*D36 -> 0 | I36: =공종별내역서!J601 -> 0 | J36: =I36*D36 -> 0 | K36: =E36+G36+I36 -> 0 | L36: =F36+H36+J36 -> 0 | N36: 01020402 | P36: 010204 | R36: 4
A37: 010205 철거공사 | D37: 1 | E37: =F38+F42+F43+F44 -> 0 | F37: =E37*D37 -> 0 | G37: =H38+H42+H43+H44 -> 0 | H37: =G37*D37 -> 0 | I37: =J38+J42+J43+J44 -> 0 | J37: =I37*D37 -> 0 | K37: =E37+G37+I37 -> 0 | L37: =F37+H37+J37 -> 0 | N37: 010205 | P37: 0102 | R37: 3
A38: 01020501 위생배관철거공사 | D38: 1 | E38: =F39+F40+F41 -> 0 | F38: =E38*D38 -> 0 | G38: =H39+H40+H41 -> 0 | H38: =G38*D38 -> 0 | I38: =J39+J40+J41 -> 0 | J38: =I38*D38 -> 0 | K38: =E38+G38+I38 -> 0 | L38: =F38+H38+J38 -> 0 | N38: 01020501 | P38: 010205 | R38: 4
A39: 0102050101 위생기구철거 | D39: 1 | E39: =공종별내역서!F624 -> 0 | F39: =E39*D39 -> 0 | G39: =공종별내역서!H624 -> 0 | H39: =G39*D39 -> 0 | I39: =공종별내역서!J624 -> 0 | J39: =I39*D39 -> 0 | K39: =E39+G39+I39 -> 0 | L39: =F39+H39+J39 -> 0 | N39: 0102050101 | P39: 01020501 | R39: 5
A40: 0102050102 급수급탕배관철거 | D40: 1 | E40: =공종별내역서!F647 -> 0 | F40: =E40*D40 -> 0 | G40: =공종별내역서!H647 -> 0 | H40: =G40*D40 -> 0 | I40: =공종별내역서!J647 -> 0 | J40: =I40*D40 -> 0 | K40: =E40+G40+I40 -> 0 | L40: =F40+H40+J40 -> 0 | N40: 0102050102 | P40: 01020501 | R40: 5
A41: 0102050103 오배수배관철거 | D41: 1 | E41: =공종별내역서!F670 -> 0 | F41: =E41*D41 -> 0 | G41: =공종별내역서!H670 -> 0 | H41: =G41*D41 -> 0 | I41: =공종별내역서!J670 -> 0 | J41: =I41*D41 -> 0 | K41: =E41+G41+I41 -> 0 | L41: =F41+H41+J41 -> 0 | N41: 0102050103 | P41: 01020501 | R41: 5
A42: 01020502 냉난방배관철거공사 | D42: 1 | E42: =공종별내역서!F693 -> 0 | F42: =E42*D42 -> 0 | G42: =공종별내역서!H693 -> 0 | H42: =G42*D42 -> 0 | I42: =공종별내역서!J693 -> 0 | J42: =I42*D42 -> 0 | K42: =E42+G42+I42 -> 0 | L42: =F42+H42+J42 -> 0 | N42: 01020502 | P42: 010205 | R42: 4
A43: 01020503 공조덕트철거공사 | D43: 1 | E43: =공종별내역서!F716 -> 0 | F43: =E43*D43 -> 0 | G43: =공종별내역서!H716 -> 0 | H43: =G43*D43 -> 0 | I43: =공종별내역서!J716 -> 0 | J43: =I43*D43 -> 0 | K43: =E43+G43+I43 -> 0 | L43: =F43+H43+J43 -> 0 | N43: 01020503 | P43: 010205 | R43: 4
A44: 01020504 자동제어철거공사 | D44: 1 | E44: =공종별내역서!F739 -> 0 | F44: =E44*D44 -> 0 | G44: =공종별내역서!H739 -> 0 | H44: =G44*D44 -> 0 | I44: =공종별내역서!J739 -> 0 | J44: =I44*D44 -> 0 | K44: =E44+G44+I44 -> 0 | L44: =F44+H44+J44 -> 0 | N44: 01020504 | P44: 010205 | R44: 4
A46: [ 합 계 ] | F46: =F5 -> 0 | H46: =H5 -> 0 | J46: =J5 -> 0 | L46: =L5 -> 0

Sheet 공종별내역서
A1: [ 영주적십자병원 건강검진센터 리모델링공사 ]
A2: 품 명 | B2: 규 격 | C2: 단위 | D2: 수량 | E2: 재 료 비 | G2: 노 무 비 | I2: 경 비 | K2: 합 계 | M2: 비 고 | N2: 품목코드 | O2: 변수 | P2: 설정 | Q2: 공종코드 | R2: 일위 | S2: 단산 | T2: 자재 | U2: 손료적용 | V2: 손료저장 | W2: 적용율 | X2: JUK1 | Y2: JUK2 | Z2: JUK3 | AA2: JUK4 | AB2: JUK5 | AC2: JUK6 | AD2: JUK7 | AE2: JUK8 | AF2: JUK9 | AG2: JUK10 | AH2: JUK11 | AI2: JUK12 | AJ2: JUK13 | AK2: JUK14 | AL2: JUK15 | AM2: JUK16 | AN2: JUK17 | AO2: JUK18 | AP2: JUK19 | AQ2: JUK20 | AR2: 자재구분 | AS2: 공종구분 | AT2: 공종레벨 | AU2: 공종+자재 | AV2: 고유번호
E3: 단 가 | F3: 금 액 | G3: 단 가 | H3: 금 액 | I3: 단 가 | J3: 금 액 | K3: 단 가 | L3: 금 액
A4: 01010101 위생기구설치공사 | B4: 건강검진센터 위생배관공사 | Q4: 01010101
A5: 양변기(장애인용) | B5: F/V,자동세척밸브(전자감지식) | C5: 조 | D5: 2 | E5: =TRUNC(일위대가목록!E48,0) -> 0 | F5: =TRUNC(E5*D5, 0) -> 0 | G5: =TRUNC(일위대가목록!F48,0) -> 0 | H5: =TRUNC(G5*D5, 0) -> 0 | I5: =TRUNC(일위대가목록!G48,0) -> 0 | J5: =TRUNC(I5*D5, 0) -> 0 | K5: =TRUNC(E5+G5+I5, 0) -> 0 | L5: =TRUNC(F5+H5+J5, 0) -> 0 | M5: 호표 45 | N5: 59A545FFD152C7F20546AD8DEB1920 | Q5: 01010101 | R5: T | S5: F | T5: F | AU5: 0101010159A545FFD152C7F20546AD8DEB1920 | AV5: 327
A6: 세면기 | B6: CC-384 | C6: 조 | D6: 7 | E6: =TRUNC(일위대가목록!E51,0) -> 0 | F6: =TRUNC(E6*D6, 0) -> 0 | G6: =TRUNC(일위대가목록!F51,0) -> 0 | H6: =TRUNC(G6*D6, 0) -> 0 | I6: =TRUNC(일위대가목록!G51,0) -> 0 | J6: =TRUNC(I6*D6, 0) -> 0 | K6: =TRUNC(E6+G6+I6, 0) -> 0 | L6: =TRUNC(F6+H6+J6, 0) -> 0 | M6: 호표 48 | N6: 59A545FFD152C7F20546AD8DEA7508 | Q6: 01010101 | R6: T | S6: F | T6: F | AU6: 0101010159A545FFD152C7F20546AD8DEA7508 | AV6: 325
A7: 휴지걸이 | B7: 점보케이스 | C7: EA | D7: 2 | E7: =TRUNC(일위대가목록!E52,0) -> 0 | F7: =TRUNC(E7*D7, 0) -> 0 | G7: =TRUNC(일위대가목록!F52,0) -> 0 | H7: =TRUNC(G7*D7, 0) -> 0 | I7: =TRUNC(일위대가목록!G52,0) -> 0 | J7: =TRUNC(I7*D7, 0) -> 0 | K7: =TRUNC(E7+G7+I7, 0) -> 0 | L7: =TRUNC(F7+H7+J7, 0) -> 0 | M7: 호표 49 | N7: 59A545FC065EED329546288408E961 | Q7: 01010101 | R7: T | S7: F | T7: F | AU7: 0101010159A545FC065EED329546288408E961 | AV7: 326
A8: 에어타올(핸드드라이) | B8: 3중안전장치/적외선(고속형) | C8: 개소 | D8: 2 | E8: =TRUNC(일위대가목록!E50,0) -> 0 | F8: =TRUNC(E8*D8, 0) -> 0 | G8: =TRUNC(일위대가목록!F50,0) -> 0 | H8: =TRUNC(G8*D8, 0) -> 0 | I8: =TRUNC(일위대가목록!G50,0) -> 0 | J8: =TRUNC(I8*D8, 0) -> 0 | K8: =TRUNC(E8+G8+I8, 0) -> 0 | L8: =TRUNC(F8+H8+J8, 0) -> 0 | M8: 호표 47 | N8: 59A545FFD152C7F20546AD8DEB1EA3 | Q8: 01010101 | R8: T | S8: F | T8: F | AU8: 0101010159A545FFD152C7F20546AD8DEB1EA3 | AV8: 328
A9: 비누대 | B9: STS | C9: EA | D9: 7 | E9: =TRUNC(일위대가목록!E53,0) -> 0 | F9: =TRUNC(E9*D9, 0) -> 0 | G9: =TRUNC(일위대가목록!F53,0) -> 0 | H9: =TRUNC(G9*D9, 0) -> 0 | I9: =TRUNC(일위대가목록!G53,0) -> 0 | J9: =TRUNC(I9*D9, 0) -> 0 | K9: =TRUNC(E9+G9+I9, 0) -> 0 | L9: =TRUNC(F9+H9+J9, 0) -> 0 | M9: 호표 50 | N9: 59A545FC065E84B245EFC4845D5CBC | Q9: 01010101 | R9: T | S9: F | T9: F | AU9: 0101010159A545FC065E84B245EFC4845D5CBC | AV9: 329
A10: 여성용품수거함 | B10: ABS | C10: EA | D10: 1 | E10: =TRUNC(일위대가목록!E54,0) -> 0 | F10: =TRUNC(E10*D10, 0) -> 0 | G10: =TRUNC(일위대가목록!F54,0) -> 0 | H10: =TRUNC(G10*D10, 0) -> 0 | I10: =TRUNC(일위대가목록!G54,0) -> 0 | J10: =TRUNC(I10*D10, 0) -> 0 | K10: =TRUNC(E10+G10+I10, 0) -> 0 | L10: =TRUNC(F10+H10+J10, 0) -> 0 | M10: 호표 51 | N10: 59A545FC065E84B245EFC4845D5CBB | Q10: 01010101 | R10: T | S10: F | T10: F | AU10: 0101010159A545FC065E84B245EFC4845D5CBB | AV10: 330
A11: 장애자용손잡이 | B11: 대변기 - 고정식 | C11: 개 | D11: 2 | E11: =TRUNC(일위대가목록!E46,0) -> 0 | F11: =TRUNC(E11*D11, 0) -> 0 | G11: =TRUNC(일위대가목록!F46,0) -> 0 | H11: =TRUNC(G11*D11, 0) -> 0 | I11: =TRUNC(일위대가목록!G46,0) -> 0 | J11: =TRUNC(I11*D11, 0) -> 0 | K11: =TRUNC(E11+G11+I11, 0) -> 0 | L11: =TRUNC(F11+H11+J11, 0) -> 0 | M11: 호표 43 | N11: 59A5B53E7153F9B2C50B8680D5E9F5 | Q11: 01010101 | R11: T | S11: F | T11: F | AU11: 0101010159A5B53E7153F9B2C50B8680D5E9F5 | AV11: 331
A12: 장애자용손잡이 | B12: 대변기 - 가동식 | C12: 개 | D12: 2 | E12: =TRUNC(일위대가목록!E47,0) -> 0 | F12: =TRUNC(E12*D12, 0) -> 0 | G12: =TRUNC(일위대가목록!F47,0) -> 0 | H12: =TRUNC(G12*D12, 0) -> 0 | I12: =TRUNC(일위대가목록!G47,0) -> 0 | J12: =TRUNC(I12*D12, 0) -> 0 | K12: =TRUNC(E12+G12+I12, 0) -> 0 | L12: =TRUNC(F12+H12+J12, 0) -> 0 | M12: 호표 44 | N12: 59A5B53E7153F9B2C50B8680D4C3F1 | Q12: 01010101 | R12: T | S12: F | T12: F | AU12: 0101010159A5B53E7153F9B2C50B8680D4C3F1 | AV12: 332
A13: 안전손잡이 설치 | B13: 고정단 2개 | C13: 개 | D13: 4 | E13: =TRUNC(일위대가목록!E45,0) -> 0 | F13: =TRUNC(E13*D13, 0) -> 0 | G13: =TRUNC(일위대가목록!F45,0) -> 0 | H13: =TRUNC(G13*D13, 0) -> 0 | I13: =TRUNC(일위대가목록!G45,0) -> 0 | J13: =TRUNC(I13*D13, 0) -> 0 | K13: =TRUNC(E13+G13+I13, 0) -> 0 | L13: =TRUNC(F13+H13+J13, 0) -> 0 | M13: 호표 42 | N13: 59A5B53E7153F9B2C50B8680D5E9F4 | Q13: 01010101 | R13: T | S13: F | T13: F | AU13: 0101010159A5B53E7153F9B2C50B8680D5E9F4 | AV13: 333
A14: 유아용 거치대 | B14: 유아 보호형 | C14: EA | D14: 1 | E14: =TRUNC(일위대가목록!E55,0) -> 0 | F14: =TRUNC(E14*D14, 0) -> 0 | G14: =TRUNC(일위대가목록!F55,0) -> 0 | H14: =TRUNC(G14*D14, 0) -> 0 | I14: =TRUNC(일위대가목록!G55,0) -> 0 | J14: =TRUNC(I14*D14, 0) -> 0 | K14: =TRUNC(E14+G14+I14, 0) -> 0 | L14: =TRUNC(F14+H14+J14, 0) -> 0 | M14: 호표 52 | N14: 59A545FC065E84B245EFC4845D5CBA | Q14: 01010101 | R14: T | S14: F | T14: F | AU14: 0101010159A545FC065E84B245EFC4845D5CBA | AV14: 334
Q15: 01010101
Q16: 01010101
Q17: 01010101
Q18: 01010101
Q19: 01010101
Q20: 01010101
Q21: 01010101
Q22: 01010101
Q23: 01010101
Q24: 01010101
Q25: 01010101
A26: [ 합 계 ] | F26: =SUMIF(Q5:Q25,"01010101",F5:F25) -> 0 | H26: =SUMIF(Q5:Q25,"01010101",H5:H25) -> 0 | J26: =SUMIF(Q5:Q25,"01010101",J5:J25) -> 0 | L26: =SUMIF(Q5:Q25,"01010101",L5:L25) -> 0 | N26: TOTAL
A27: 01010102 급수급탕배관공사 | B27: 건강검진센터 위생배관공사 | Q27: 01010102
A28: 스테인리스강관배관(K-TYPE-옥내) | B28: D13 | C28: M | D28: 64 | E28: =TRUNC(일위대가목록!E19,0) -> 0 | F28: =TRUNC(E28*D28, 0) -> 0 | G28: =TRUNC(일위대가목록!F19,0) -> 0 | H28: =TRUNC(G28*D28, 0) -> 0 | I28: =TRUNC(일위대가목록!G19,0) -> 0 | J28: =TRUNC(I28*D28, 0) -> 0 | K28: =TRUNC(E28+G28+I28, 0) -> 0 | L28: =TRUNC(F28+H28+J28, 0) -> 0 | M28: 호표 16 | N28: 59A5E5876659820265492B8BDE7966 | Q28: 01010102 | R28: T | S28: F | T28: F | AU28: 0101010259A5E5876659820265492B8BDE7966 | AV28: 11
A29: 스테인리스강관배관(K-TYPE-옥내) | B29: D20 | C29: M | D29: 86 | E29: =TRUNC(일위대가목록!E20,0) -> 0 | F29: =TRUNC(E29*D29, 0) -> 0 | G29: =TRUNC(일위대가목록!F20,0) -> 0 | H29: =TRUNC(G29*D29, 0) -> 0 | I29: =TRUNC(일위대가목록!G20,0) -> 0 | J29: =TRUNC(I29*D29, 0) -> 0 | K29: =TRUNC(E29+G29+I29, 0) -> 0 | L29: =TRUNC(F29+H29+J29, 0) -> 0 | M29: 호표 17 | N29: 59A5E5876659BF42852F82892EB892 | Q29: 01010102 | R29: T | S29: F | T29: F | AU29: 0101010259A5E5876659BF42852F82892EB892 | AV29: 12
A30: 스테인리스강관배관(K-TYPE-옥내) | B30: D25 | C30: M | D30: 35 | E30: =TRUNC(일위대가목록!E21,0) -> 0 | F30: =TRUNC(E30*D30, 0) -> 0 | G30: =TRUNC(일위대가목록!F21,0) -> 0 | H30: =TRUNC(G30*D30, 0) -> 0 | I30: =TRUNC(일위대가목록!G21,0) -> 0 | J30: =TRUNC(I30*D30, 0) -> 0 | K30: =TRUNC(E30+G30+I30, 0) -> 0 | L30: =TRUNC(F30+H30+J30, 0) -> 0 | M30: 호표 18 | N30: 59A5E5876659AEF255EB4A8A56648B | Q30: 01010102 | R30: T | S30: F | T30: F | AU30: 0101010259A5E5876659AEF255EB4A8A56648B | AV30: 13
A31: 스테인리스강관배관(K-TYPE-옥내) | B31: D30 | C31: M | D31: 30 | E31: =TRUNC(일위대가목록!E22,0) -> 0 | F31: =TRUNC(E31*D31, 0) -> 0 | G31: =TRUNC(일위대가목록!F22,0) -> 0 | H31: =TRUNC(G31*D31, 0) -> 0 | I31: =TRUNC(일위대가목록!G22,0) -> 0 | J31: =TRUNC(I31*D31, 0) -> 0 | K31: =TRUNC(E31+G31+I31, 0) -> 0 | L31: =TRUNC(F31+H31+J31, 0) -> 0 | M31: 호표 19 | N31: 59A5E5876659DA32055AEA8F38A11B | Q31: 01010102 | R31: T | S31: F | T31: F | AU31: 0101010259A5E5876659DA32055AEA8F38A11B | AV31: 14
A32: 관보온(고무발포, 매직테프) | B32: 25t*D15 | C32: M | D32: 64 | E32: =TRUNC(일위대가목록!E33,0) -> 0 | F32: =TRUNC(E32*D32, 0) -> 0 | G32: =TRUNC(일위대가목록!F33,0) -> 0 | H32: =TRUNC(G32*D32, 0) -> 0 | I32: =TRUNC(일위대가목록!G33,0) -> 0 | J32: =TRUNC(I32*D32, 0) -> 0 | K32: =TRUNC(E32+G32+I32, 0) -> 0 | L32: =TRUNC(F32+H32+J32, 0) -> 0 | M32: 호표 30 | N32: 59A585188F51F8A2D592B18B2026CB | Q32: 01010102 | R32: T | S32: F | T32: F | AU32: 0101010259A585188F51F8A2D592B18B2026CB | AV32: 15
A33: 관보온(고무발포, 매직테프) | B33: 25t*D20 | C33: M | D33: 86 | E33: =TRUNC(일위대가목록!E34,0) -> 0 | F33: =TRUNC(E33*D33, 0) -> 0 | G33: =TRUNC(일위대가목록!F34,0) -> 0 | H33: =TRUNC(G33*D33, 0) -> 0 | I33: =TRUNC(일위대가목록!G34,0) -> 0 | J33: =TRUNC(I33*D33, 0) -> 0 | K33: =TRUNC(E33+G33+I33, 0) -> 0 | L33: =TRUNC(F33+H33+J33, 0) -> 0 | M33: 호표 31 | N33: 59A585188F51CC52F5F13280896056 | Q33: 01010102 | R33: T | S33: F | T33: F | AU33: 0101010259A585188F51CC52F5F13280896056 | AV33: 16
A34: 관보온(고무발포, 매직테프) | B34: 25t*D25 | C34: M | D34: 35 | E34: =TRUNC(일위대가목록!E35,0) -> 0 | F34: =TRUNC(E34*D34, 0) -> 0 | G34: =TRUNC(일위대가목록!F35,0) -> 0 | H34: =TRUNC(G34*D34, 0) -> 0 | I34: =TRUNC(일위대가목록!G35,0) -> 0 | J34: =TRUNC(I34*D34, 0) -> 0 | K34: =TRUNC(E34+G34+I34, 0) -> 0 | L34: =TRUNC(F34+H34+J34, 0) -> 0 | M34: 호표 32 | N34: 59A585188F51DDC275D43885978CE7 | Q34: 01010102 | R34: T | S34: F | T34: F | AU34: 0101010259A585188F51DDC275D43885978CE7 | AV34: 17
A35: 관보온(고무발포, 매직테프) | B35: 25t*D32 | C35: M | D35: 30 | E35: =TRUNC(일위대가목록!E36,0) -> 0 | F35: =TRUNC(E35*D35, 0) -> 0 | G35: =TRUNC(일위대가목록!F36,0) -> 0 | H35: =TRUNC(G35*D35, 0) -> 0 | I35: =TRUNC(일위대가목록!G36,0) -> 0 | J35: =TRUNC(I35*D35, 0) -> 0 | K35: =TRUNC(E35+G35+I35, 0) -> 0 | L35: =TRUNC(F35+H35+J35, 0) -> 0 | M35: 호표 33 | N35: 59A585188F51A082D5F99E8F502586 | Q35: 01010102 | R35: T | S35: F | T35: F | AU35: 0101010259A585188F51A082D5F99E8F502586 | AV35: 18
A36: 볼밸브설치(스텐, 10kg) | B36: D15 | C36: 개 | D36: 2 | E36: =TRUNC(일위대가목록!E38,0) -> 0 | F36: =TRUNC(E36*D36, 0) -> 0 | G36: =TRUNC(일위대가목록!F38,0) -> 0 | H36: =TRUNC(G36*D36, 0) -> 0 | I36: =TRUNC(일위대가목록!G38,0) -> 0 | J36: =TRUNC(I36*D36, 0) -> 0 | K36: =TRUNC(E36+G36+I36, 0) -> 0 | L36: =TRUNC(F36+H36+J36, 0) -> 0 | M36: 호표 35 | N36: 59A5A566BE5E6A92A5D7FE8226B755 | Q36: 01010102 | R36: T | S36: F | T36: F | AU36: 0101010259A5A566BE5E6A92A5D7FE8226B755 | AV36: 19
A37: 볼밸브설치(스텐, 10kg) | B37: D20 | C37: 개 | D37: 4 | E37: =TRUNC(일위대가목록!E39,0) -> 0 | F37: =TRUNC(E37*D37, 0) -> 0 | G37: =TRUNC(일위대가목록!F39,0) -> 0 | H37: =TRUNC(G37*D37, 0) -> 0 | I37: =TRUNC(일위대가목록!G39,0) -> 0 | J37: =TRUNC(I37*D37, 0) -> 0 | K37: =TRUNC(E37+G37+I37, 0) -> 0 | L37: =TRUNC(F37+H37+J37, 0) -> 0 | M37: 호표 36 | N37: 59A5A566BE5E586275F0DF842E0BDC | Q37: 01010102 | R37: T | S37: F | T37: F | AU37: 0101010259A5A566BE5E586275F0DF842E0BDC | AV37: 20
A38: 볼밸브설치(스텐, 10kg) | B38: D25 | C38: 개 | D38: 1 | E38: =TRUNC(일위대가목록!E41,0) -> 0 | F38: =TRUNC(E38*D38, 0) -> 0 | G38: =TRUNC(일위대가목록!F41,0) -> 0 | H38: =TRUNC(G38*D38, 0) -> 0 | I38: =TRUNC(일위대가목록!G41,0) -> 0 | J38: =TRUNC(I38*D38, 0) -> 0 | K38: =TRUNC(E38+G38+I38, 0) -> 0 | L38: =TRUNC(F38+H38+J38, 0) -> 0 | M38: 호표 38 | N38: 59A5A566BE5E4FF2A5DAE28218A7E8 | Q38: 01010102 | R38: T | S38: F | T38: F | AU38: 0101010259A5A566BE5E4FF2A5DAE28218A7E8 | AV38: 21
A39: 볼밸브설치(스텐, 10kg) | B39: D32 | C39: 개 | D39: 1 | E39: =TRUNC(일위대가목록!E42,0) -> 0 | F39: =TRUNC(E39*D39, 0) -> 0 | G39: =TRUNC(일위대가목록!F42,0) -> 0 | H39: =TRUNC(G39*D39, 0) -> 0 | I39: =TRUNC(일위대가목록!G42,0) -> 0 | J39: =TRUNC(I39*D39, 0) -> 0 | K39: =TRUNC(E39+G39+I39, 0) -> 0 | L39: =TRUNC(F39+H39+J39, 0) -> 0 | M39: 호표 39 | N39: 59A5A566BE5E3D52C5F66B8AE11712 | Q39: 01010102 | R39: T | S39: F | T39: F | AU39: 0101010259A5A566BE5E3D52C5F66B8AE11712 | AV39: 22
A40: 신축접수(STS형, 복식-10K) | B40: D20 | C40: 개 | D40: 1 | E40: =TRUNC(일위대가목록!E43,0) -> 0 | F40: =TRUNC(E40*D40, 0) -> 0 | G40: =TRUNC(일위대가목록!F43,0) -> 0 | H40: =TRUNC(G40*D40, 0) -> 0 | I40: =TRUNC(일위대가목록!G43,0) -> 0 | J40: =TRUNC(I40*D40, 0) -> 0 | K40: =TRUNC(E40+G40+I40, 0) -> 0 | L40: =TRUNC(F40+H40+J40, 0) -> 0 | M40: 호표 40 | N40: 59A5A56F9855F0328575478BB4DE5F | Q40: 01010102 | R40: T | S40: F | T40: F | AU40: 0101010259A5A56F9855F0328575478BB4DE5F | AV40: 23
A41: 신축접수(STS형, 복식-10K) | B41: D25 | C41: 개 | D41: 1 | E41: =TRUNC(일위대가목록!E44,0) -> 0 | F41: =TRUNC(E41*D41, 0) -> 0 | G41: =TRUNC(일위대가목록!F44,0) -> 0 | H41: =TRUNC(G41*D41, 0) -> 0 | I41: =TRUNC(일위대가목록!G44,0) -> 0 | J41: =TRUNC(I41*D41, 0) -> 0 | K41: =TRUNC(E41+G41+I41, 0) -> 0 | L41: =TRUNC(F41+H41+J41, 0) -> 0 | M41: 호표 41 | N41: 59A5A56F9855E7D2D5C9EE82CEE1A5 | Q41: 01010102 | R41: T | S41: F | T41: F | AU41: 0101010259A5A56F9855E7D2D5C9EE82CEE1A5 | AV41: 24
A42: 스테인리스용접(TIG) | B42: D125 | C42: 개소 | D42: 3 | E42: =TRUNC(일위대가목록!E23,0) -> 0 | F42: =TRUNC(E42*D42, 0) -> 0 | G42: =TRUNC(일위대가목록!F23,0) -> 0 | H42: =TRUNC(G42*D42, 0) -> 0 | I42: =TRUNC(일위대가목록!G23,0) -> 0 | J42: =TRUNC(I42*D42, 0) -> 0 | K42: =TRUNC(E42+G42+I42, 0) -> 0 | L42: =TRUNC(F42+H42+J42, 0) -> 0 | M42: 호표 20 | N42: 59A5E5849253A88225031B8E8F91E8 | Q42: 01010102 | R42: T | S42: F | T42: F | AU42: 0101010259A5E5849253A88225031B8E8F91E8 | AV42: 10
A43: 구멍뚫기(코어드릴) | B43: D50, 콘크리트 150mm | C43: 개소 | D43: 18 | E43: =TRUNC(일위대가목록!E68,0) -> 0 | F43: =TRUNC(E43*D43, 0) -> 0 | G43: =TRUNC(일위대가목록!F68,0) -> 0 | H43: =TRUNC(G43*D43, 0) -> 0 | I43: =TRUNC(일위대가목록!G68,0) -> 0 | J43: =TRUNC(I43*D43, 0) -> 0 | K43: =TRUNC(E43+G43+I43, 0) -> 0 | L43: =TRUNC(F43+H43+J43, 0) -> 0 | M43: 호표 65 | N43: 59A565CD6955C74265243F839791AF | Q43: 01010102 | R43: T | S43: F | T43: F | AU43: 0101010259A565CD6955C74265243F839791AF | AV43: 25
A44: 구멍뚫기(코어드릴) | B44: D75, 콘크리트 150mm, 벽 | C44: 개소 | D44: 4 | E44: =TRUNC(일위대가목록!E70,0) -> 0 | F44: =TRUNC(E44*D44, 0) -> 0 | G44: =TRUNC(일위대가목록!F70,0) -> 0 | H44: =TRUNC(G44*D44, 0) -> 0 | I44: =TRUNC(일위대가목록!G70,0) -> 0 | J44: =TRUNC(I44*D44, 0) -> 0 | K44: =TRUNC(E44+G44+I44, 0) -> 0 | L44: =TRUNC(F44+H44+J44, 0) -> 0 | M44: 호표 67 | N44: 59A565CD6955271235542D8E271430 | Q44: 01010102 | R44: T | S44: F | T44: F | AU44: 0101010259A565CD6955271235542D8E271430 | AV44: 26
A45: 구멍뚫기(코어드릴) | B45: D100, 콘크리트 150mm, 벽 | C45: 개소 | D45: 6 | E45: =TRUNC(일위대가목록!E71,0) -> 0 | F45: =TRUNC(E45*D45, 0) -> 0 | G45: =TRUNC(일위대가목록!F71,0) -> 0 | H45: =TRUNC(G45*D45, 0) -> 0 | I45: =TRUNC(일위대가목록!G71,0) -> 0 | J45: =TRUNC(I45*D45, 0) -> 0 | K45: =TRUNC(E45+G45+I45, 0) -> 0 | L45: =TRUNC(F45+H45+J45, 0) -> 0 | M45: 호표 68 | N45: 59A565CE725786C275DCB08E61F8B0 | Q45: 01010102 | R45: T | S45: F | T45: F | AU45: 0101010259A565CE725786C275DCB08E61F8B0 | AV45: 27
A46: 슬리브 설치(바닥) | B46: ∮50 | C46: 개소 | D46: 18 | E46: =TRUNC(일위대가목록!E72,0) -> 0 | F46: =TRUNC(E46*D46, 0) -> 0 | G46: =TRUNC(일위대가목록!F72,0) -> 0 | H46: =TRUNC(G46*D46, 0) -> 0 | I46: =TRUNC(일위대가목록!G72,0) -> 0 | J46: =TRUNC(I46*D46, 0) -> 0 | K46: =TRUNC(E46+G46+I46, 0) -> 0 | L46: =TRUNC(F46+H46+J46, 0) -> 0 | M46: 호표 69 | N46: 59A565C98E58AF522547A7869C860A | Q46: 01010102 | R46: T | S46: F | T46: F | AU46: 0101010259A565C98E58AF522547A7869C860A | AV46: 28
A47: 슬리브 설치(벽체) | B47: ∮80 | C47: 개소 | D47: 4 | E47: =TRUNC(일위대가목록!E77,0) -> 0 | F47: =TRUNC(E47*D47, 0) -> 0 | G47: =TRUNC(일위대가목록!F77,0) -> 0 | H47: =TRUNC(G47*D47, 0) -> 0 | I47: =TRUNC(일위대가목록!G77,0) -> 0 | J47: =TRUNC(I47*D47, 0) -> 0 | K47: =TRUNC(E47+G47+I47, 0) -> 0 | L47: =TRUNC(F47+H47+J47, 0) -> 0 | M47: 호표 74 | N47: 59A565C98E58AF522547A7869DA892 | Q47: 01010102 | R47: T | S47: F | T47: F | AU47: 0101010259A565C98E58AF522547A7869DA892 | AV47: 29
A48: 슬리브 설치(벽체) | B48: ∮100 | C48: 개소 | D48: 6 | E48: =TRUNC(일위대가목록!E78,0) -> 0 | F48: =TRUNC(E48*D48, 0) -> 0 | G48: =TRUNC(일위대가목록!F78,0) -> 0 | H48: =TRUNC(G48*D48, 0) -> 0 | I48: =TRUNC(일위대가목록!G78,0) -> 0 | J48: =TRUNC(I48*D48, 0) -> 0 | K48: =TRUNC(E48+G48+I48, 0) -> 0 | L48: =TRUNC(F48+H48+J48, 0) -> 0 | M48: 호표 75 | N48: 59A565C98E58AF522547A7869DAFC1 | Q48: 01010102 | R48: T | S48: F | T48: F | AU48: 0101010259A565C98E58AF522547A7869DAFC1 | AV48: 30
A49: 슬리브 설치(벽체) | B49: ∮150 | C49: 개소 | D49: 2 | E49: =TRUNC(일위대가목록!E80,0) -> 0 | F49: =TRUNC(E49*D49, 0) -> 0 | G49: =TRUNC(일위대가목록!F80,0) -> 0 | H49: =TRUNC(G49*D49, 0) -> 0 | I49: =TRUNC(일위대가목록!G80,0) -> 0 | J49: =TRUNC(I49*D49, 0) -> 0 | K49: =TRUNC(E49+G49+I49, 0) -> 0 | L49: =TRUNC(F49+H49+J49, 0) -> 0 | M49: 호표 77 | N49: 59A565C98E58AF522547A7869DAD14 | Q49: 01010102 | R49: T | S49: F | T49: F | AU49: 0101010259A565C98E58AF522547A7869DAD14 | AV49: 31
A50: 절연행가(전산볼트) | B50: D15 | C50: 개소 | D50: 37 | E50: =TRUNC(일위대가목록!E60,0) -> 0 | F50: =TRUNC(E50*D50, 0) -> 0 | G50: =TRUNC(일위대가목록!F60,0) -> 0 | H50: =TRUNC(G50*D50, 0) -> 0 | I50: =TRUNC(일위대가목록!G60,0) -> 0 | J50: =TRUNC(I50*D50, 0) -> 0 | K50: =TRUNC(E50+G50+I50, 0) -> 0 | L50: =TRUNC(F50+H50+J50, 0) -> 0 | M50: 호표 57 | N50: 59A545FA5756D2A225B85F854EC40B | Q50: 01010102 | R50: T | S50: F | T50: F | AU50: 0101010259A545FA5756D2A225B85F854EC40B | AV50: 32
A51: 절연행가(전산볼트) | B51: D20 | C51: 개소 | D51: 43 | E51: =TRUNC(일위대가목록!E61,0) -> 0 | F51: =TRUNC(E51*D51, 0) -> 0 | G51: =TRUNC(일위대가목록!F61,0) -> 0 | H51: =TRUNC(G51*D51, 0) -> 0 | I51: =TRUNC(일위대가목록!G61,0) -> 0 | J51: =TRUNC(I51*D51, 0) -> 0 | K51: =TRUNC(E51+G51+I51, 0) -> 0 | L51: =TRUNC(F51+H51+J51, 0) -> 0 | M51: 호표 58 | N51: 59A545FA5756D2A225B85F8655359D | Q51: 01010102 | R51: T | S51: F | T51: F | AU51: 0101010259A545FA5756D2A225B85F8655359D | AV51: 33
A52: 절연행가(전산볼트) | B52: D25 | C52: 개소 | D52: 18 | E52: =TRUNC(일위대가목록!E62,0) -> 0 | F52: =TRUNC(E52*D52, 0) -> 0 | G52: =TRUNC(일위대가목록!F62,0) -> 0 | H52: =TRUNC(G52*D52, 0) -> 0 | I52: =TRUNC(일위대가목록!G62,0) -> 0 | J52: =TRUNC(I52*D52, 0) -> 0 | K52: =TRUNC(E52+G52+I52, 0) -> 0 | L52: =TRUNC(F52+H52+J52, 0) -> 0 | M52: 호표 59 | N52: 59A545FA5756D2A225B85F877CDFBD | Q52: 01010102 | R52: T | S52: F | T52: F | AU52: 0101010259A545FA5756D2A225B85F877CDFBD | AV52: 34
A53: 절연행가(전산볼트) | B53: D32 | C53: 개소 | D53: 15 | E53: =TRUNC(일위대가목록!E63,0) -> 0 | F53: =TRUNC(E53*D53, 0) -> 0 | G53: =TRUNC(일위대가목록!F63,0) -> 0 | H53: =TRUNC(G53*D53, 0) -> 0 | I53: =TRUNC(일위대가목록!G63,0) -> 0 | J53: =TRUNC(I53*D53, 0) -> 0 | K53: =TRUNC(E53+G53+I53, 0) -> 0 | L53: =TRUNC(F53+H53+J53, 0) -> 0 | M53: 호표 60 | N53: 59A545FA5756D2A225B85F80CC8984 | Q53: 01010102 | R53: T | S53: F | T53: F | AU53: 0101010259A545FA5756D2A225B85F80CC8984 | AV53: 35
A54: 앙카슈 | B54: D40이하 | C54: 개소 | D54: 4 | E54: =TRUNC(일위대가목록!E67,0) -> 0 | F54: =TRUNC(E54*D54, 0) -> 0 | G54: =TRUNC(일위대가목록!F67,0) -> 0 | H54: =TRUNC(G54*D54, 0) -> 0 | I54: =TRUNC(일위대가목록!G67,0) -> 0 | J54: =TRUNC(I54*D54, 0) -> 0 | K54: =TRUNC(E54+G54+I54, 0) -> 0 | L54: =TRUNC(F54+H54+J54, 0) -> 0 | M54: 호표 64 | N54: 59A565CD6B50AD12D520E7888172C3 | Q54: 01010102 | R54: T | S54: F | T54: F | AU54: 0101010259A565CD6B50AD12D520E7888172C3 | AV54: 36
A55: 신축접수 고정 앙카가대 | C55: 개소 | D55: 2 | E55: =TRUNC(일위대가목록!E65,0) -> 0 | F55: =TRUNC(E55*D55, 0) -> 0 | G55: =TRUNC(일위대가목록!F65,0) -> 0 | H55: =TRUNC(G55*D55, 0) -> 0 | I55: =TRUNC(일위대가목록!G65,0) -> 0 | J55: =TRUNC(I55*D55, 0) -> 0 | K55: =TRUNC(E55+G55+I55, 0) -> 0 | L55: =TRUNC(F55+H55+J55, 0) -> 0 | M55: 호표 62 | N55: 59A565CD6B509CB28546CD8093BF6F | Q55: 01010102 | R55: T | S55: F | T55: F | AU55: 0101010259A565CD6B509CB28546CD8093BF6F | AV55: 37
A56: 일반배관용스테인리스강관관이음쇠 | B56: ∮125mm, 용접식, 티, #10 | C56: 개 | D56: 1 | E56: =TRUNC(단가대비표!O94,0) -> 0 | F56: =TRUNC(E56*D56, 0) -> 0 | G56: =TRUNC(단가대비표!P94,0) -> 0 | H56: =TRUNC(G56*D56, 0) -> 0 | I56: =TRUNC(단가대비표!V94,0) -> 0 | J56: =TRUNC(I56*D56, 0) -> 0 | K56: =TRUNC(E56+G56+I56, 0) -> 0 | L56: =TRUNC(F56+H56+J56, 0) -> 0 | N56: 5E3D850141581712E52A2F85B849E8C69C7975 | Q56: 01010102 | R56: F | S56: F | T56: T | AU56: 010101025E3D850141581712E52A2F85B849E8C69C7975 | AV56: 38
A57: 일반배관용스테인리스강관관이음쇠 | B57: ∮13mm, 엘보90°, SP | C57: 개 | D57: 24 | E57: =TRUNC(단가대비표!O92,0) -> 0 | F57: =TRUNC(E57*D57, 0) -> 0 | G57: =TRUNC(단가대비표!P92,0) -> 0 | H57: =TRUNC(G57*D57, 0) -> 0 | I57: =TRUNC(단가대비표!V92,0) -> 0 | J57: =TRUNC(I57*D57, 0) -> 0 | K57: =TRUNC(E57+G57+I57, 0) -> 0 | L57: =TRUNC(F57+H57+J57, 0) -> 0 | N57: 5E3D850141581712E52A2F85B849E8C69C7011 | Q57: 01010102 | R57: F | S57: F | T57: T | AU57: 010101025E3D850141581712E52A2F85B849E8C69C7011 | AV57: 39
A58: 일반배관용스테인리스강관관이음쇠 | B58: ∮25mm, 엘보90°, SP | C58: 개 | D58: 2 | E58: =TRUNC(단가대비표!O93,0) -> 0 | F58: =TRUNC(E58*D58, 0) -> 0 | G58: =TRUNC(단가대비표!P93,0) -> 0 | H58: =TRUNC(G58*D58, 0) -> 0 | I58: =TRUNC(단가대비표!V93,0) -> 0 | J58: =TRUNC(I58*D58, 0) -> 0 | K58: =TRUNC(E58+G58+I58, 0) -> 0 | L58: =TRUNC(F58+H58+J58, 0) -> 0 | N58: 5E3D850141581712E52A2F85B849E8C69C7017 | Q58: 01010102 | R58: F | S58: F | T58: T | AU58: 010101025E3D850141581712E52A2F85B849E8C69C7017 | AV58: 40
A59: 일반배관용스테인리스강관관이음쇠 | B59: ∮20*13mm, 티, SP | C59: 개 | D59: 16 | E59: =TRUNC(단가대비표!O95,0) -> 0 | F59: =TRUNC(E59*D59, 0) -> 0 | G59: =TRUNC(단가대비표!P95,0) -> 0 | H59: =TRUNC(G59*D59, 0) -> 0 | I59: =TRUNC(단가대비표!V95,0) -> 0 | J59: =TRUNC(I59*D59, 0) -> 0 | K59: =TRUNC(E59+G59+I59, 0) -> 0 | L59: =TRUNC(F59+H59+J59, 0) -> 0 | N59: 5E3D850141581712E52A2F85B849E8C58FFE0E | Q59: 01010102 | R59: F | S59: F | T59: T | AU59: 010101025E3D850141581712E52A2F85B849E8C58FFE0E | AV59: 41
A60: 일반배관용스테인리스강관관이음쇠 | B60: ∮25*25mm, 티, SP | C60: 개 | D60: 1 | E60: =TRUNC(단가대비표!O96,0) -> 0 | F60: =TRUNC(E60*D60, 0) -> 0 | G60: =TRUNC(단가대비표!P96,0) -> 0 | H60: =TRUNC(G60*D60, 0) -> 0 | I60: =TRUNC(단가대비표!V96,0) -> 0 | J60: =TRUNC(I60*D60, 0) -> 0 | K60: =TRUNC(E60+G60+I60, 0) -> 0 | L60: =TRUNC(F60+H60+J60, 0) -> 0 | N60: 5E3D850141581712E52A2F85B849E8C58FFE08 | Q60: 01010102 | R60: F | S60: F | T60: T | AU60: 010101025E3D850141581712E52A2F85B849E8C58FFE08 | AV60: 42
A61: 일반배관용스테인리스강관관이음쇠 | B61: ∮25*13mm, 티, SP | C61: 개 | D61: 2 | E61: =TRUNC(단가대비표!O97,0) -> 0 | F61: =TRUNC(E61*D61, 0) -> 0 | G61: =TRUNC(단가대비표!P97,0) -> 0 | H61: =TRUNC(G61*D61, 0) -> 0 | I61: =TRUNC(단가대비표!V97,0) -> 0 | J61: =TRUNC(I61*D61, 0) -> 0 | K61: =TRUNC(E61+G61+I61, 0) -> 0 | L61: =TRUNC(F61+H61+J61, 0) -> 0 | N61: 5E3D850141581712E52A2F85B849E8C58FFE0B | Q61: 01010102 | R61: F | S61: F | T61: T | AU61: 010101025E3D850141581712E52A2F85B849E8C58FFE0B | AV61: 43
A62: 일반배관용스테인리스강관관이음쇠 | B62: ∮30*25mm, 티, SP | C62: 개 | D62: 1 | E62: =TRUNC(단가대비표!O99,0) -> 0 | F62: =TRUNC(E62*D62, 0) -> 0 | G62: =TRUNC(단가대비표!P99,0) -> 0 | H62: =TRUNC(G62*D62, 0) -> 0 | I62: =TRUNC(단가대비표!V99,0) -> 0 | J62: =TRUNC(I62*D62, 0) -> 0 | K62: =TRUNC(E62+G62+I62, 0) -> 0 | L62: =TRUNC(F62+H62+J62, 0) -> 0 | N62: 5E3D850141581712E52A2F85B849E8C58FFF12 | Q62: 01010102 | R62: F | S62: F | T62: T | AU62: 010101025E3D850141581712E52A2F85B849E8C58FFF12 | AV62: 44
A63: 일반배관용스테인리스강관관이음쇠 | B63: ∮50*20mm, 티, SP | C63: 개 | D63: 1 | E63: =TRUNC(단가대비표!O100,0) -> 0 | F63: =TRUNC(E63*D63, 0) -> 0 | G63: =TRUNC(단가대비표!P100,0) -> 0 | H63: =TRUNC(G63*D63, 0) -> 0 | I63: =TRUNC(단가대비표!V100,0) -> 0 | J63: =TRUNC(I63*D63, 0) -> 0 | K63: =TRUNC(E63+G63+I63, 0) -> 0 | L63: =TRUNC(F63+H63+J63, 0) -> 0 | N63: 5E3D850141581712E52A2F85B849E8C58FFF1A | Q63: 01010102 | R63: F | S63: F | T63: T | AU63: 010101025E3D850141581712E52A2F85B849E8C58FFF1A | AV63: 45
A64: 일반배관용스테인리스강관관이음쇠 | B64: ∮30*20mm, 티, SP | C64: 개 | D64: 1 | E64: =TRUNC(단가대비표!O101,0) -> 0 | F64: =TRUNC(E64*D64, 0) -> 0 | G64: =TRUNC(단가대비표!P101,0) -> 0 | H64: =TRUNC(G64*D64, 0) -> 0 | I64: =TRUNC(단가대비표!V101,0) -> 0 | J64: =TRUNC(I64*D64, 0) -> 0 | K64: =TRUNC(E64+G64+I64, 0) -> 0 | L64: =TRUNC(F64+H64+J64, 0) -> 0 | N64: 5E3D850141581712E52A2F85B849E8C58ED037 | Q64: 01010102 | R64: F | S64: F | T64: T | AU64: 010101025E3D850141581712E52A2F85B849E8C58ED037 | AV64: 46
A65: 일반배관용스테인리스강관관이음쇠 | B65: ∮60*30mm, 티, SP | C65: 개 | D65: 1 | E65: =TRUNC(단가대비표!O102,0) -> 0 | F65: =TRUNC(E65*D65, 0) -> 0 | G65: =TRUNC(단가대비표!P102,0) -> 0 | H65: =TRUNC(G65*D65, 0) -> 0 | I65: =TRUNC(단가대비표!V102,0) -> 0 | J65: =TRUNC(I65*D65, 0) -> 0 | K65: =TRUNC(E65+G65+I65, 0) -> 0 | L65: =TRUNC(F65+H65+J65, 0) -> 0 | N65: 5E3D850141581712E52A2F85B849E8C58ED033 | Q65: 01010102 | R65: F | S65: F | T65: T | AU65: 010101025E3D850141581712E52A2F85B849E8C58ED033 | AV65: 47
A66: 일반배관용스테인리스강관관이음쇠 | B66: ∮13*12.7mm, 급수전티, SP | C66: 개 | D66: 14 | E66: =TRUNC(단가대비표!O103,0) -> 0 | F66: =TRUNC(E66*D66, 0) -> 0 | G66: =TRUNC(단가대비표!P103,0) -> 0 | H66: =TRUNC(G66*D66, 0) -> 0 | I66: =TRUNC(단가대비표!V103,0) -> 0 | J66: =TRUNC(I66*D66, 0) -> 0 | K66: =TRUNC(E66+G66+I66, 0) -> 0 | L66: =TRUNC(F66+H66+J66, 0) -> 0 | N66: 5E3D850141581712E52A2F85B849E8C58ED1DA | Q66: 01010102 | R66: F | S66: F | T66: T | AU66: 010101025E3D850141581712E52A2F85B849E8C58ED1DA | AV66: 48
A67: 일반배관용스테인리스강관관이음쇠 | B67: ∮25*12.7mm, 급수전티, SP | C67: 개 | D67: 2 | E67: =TRUNC(단가대비표!O104,0) -> 0 | F67: =TRUNC(E67*D67, 0) -> 0 | G67: =TRUNC(단가대비표!P104,0) -> 0 | H67: =TRUNC(G67*D67, 0) -> 0 | I67: =TRUNC(단가대비표!V104,0) -> 0 | J67: =TRUNC(I67*D67, 0) -> 0 | K67: =TRUNC(E67+G67+I67, 0) -> 0 | L67: =TRUNC(F67+H67+J67, 0) -> 0 | N67: 5E3D850141581712E52A2F85B849E8C58ED1D9 | Q67: 01010102 | R67: F | S67: F | T67: T | AU67: 010101025E3D850141581712E52A2F85B849E8C58ED1D9 | AV67: 49
A68: 일반배관용스테인리스강관관이음쇠 | B68: ∮40*20mm, 리듀서, SP | C68: 개 | D68: 1 | E68: =TRUNC(단가대비표!O105,0) -> 0 | F68: =TRUNC(E68*D68, 0) -> 0 | G68: =TRUNC(단가대비표!P105,0) -> 0 | H68: =TRUNC(G68*D68, 0) -> 0 | I68: =TRUNC(단가대비표!V105,0) -> 0 | J68: =TRUNC(I68*D68, 0) -> 0 | K68: =TRUNC(E68+G68+I68, 0) -> 0 | L68: =TRUNC(F68+H68+J68, 0) -> 0 | N68: 5E3D850141581712E52A2F85B849E8C58C229E | Q68: 01010102 | R68: F | S68: F | T68: T | AU68: 010101025E3D850141581712E52A2F85B849E8C58C229E | AV68: 50
A69: 일반배관용스테인리스강관관이음쇠 | B69: ∮40*25mm, 리듀서, SP | C69: 개 | D69: 1 | E69: =TRUNC(단가대비표!O106,0) -> 0 | F69: =TRUNC(E69*D69, 0) -> 0 | G69: =TRUNC(단가대비표!P106,0) -> 0 | H69: =TRUNC(G69*D69, 0) -> 0 | I69: =TRUNC(단가대비표!V106,0) -> 0 | J69: =TRUNC(I69*D69, 0) -> 0 | K69: =TRUNC(E69+G69+I69, 0) -> 0 | L69: =TRUNC(F69+H69+J69, 0) -> 0 | N69: 5E3D850141581712E52A2F85B849E8C58C2291 | Q69: 01010102 | R69: F | S69: F | T69: T | AU69: 010101025E3D850141581712E52A2F85B849E8C58C2291 | AV69: 51
A70: 일반배관용스테인리스강관관이음쇠 | B70: ∮50*30mm, 리듀서, SP | C70: 개 | D70: 1 | E70: =TRUNC(단가대비표!O107,0) -> 0 | F70: =TRUNC(E70*D70, 0) -> 0 | G70: =TRUNC(단가대비표!P107,0) -> 0 | H70: =TRUNC(G70*D70, 0) -> 0 | I70: =TRUNC(단가대비표!V107,0) -> 0 | J70: =TRUNC(I70*D70, 0) -> 0 | K70: =TRUNC(E70+G70+I70, 0) -> 0 | L70: =TRUNC(F70+H70+J70, 0) -> 0 | N70: 5E3D850141581712E52A2F85B849E8C58C23A3 | Q70: 01010102 | R70: F | S70: F | T70: T | AU70: 010101025E3D850141581712E52A2F85B849E8C58C23A3 | AV70: 52
A71: 일반배관용스테인리스강관관이음쇠 | B71: ∮13mm, 캡, SP | C71: 개 | D71: 17 | E71: =TRUNC(단가대비표!O108,0) -> 0 | F71: =TRUNC(E71*D71, 0) -> 0 | G71: =TRUNC(단가대비표!P108,0) -> 0 | H71: =TRUNC(G71*D71, 0) -> 0 | I71: =TRUNC(단가대비표!V108,0) -> 0 | J71: =TRUNC(I71*D71, 0) -> 0 | K71: =TRUNC(E71+G71+I71, 0) -> 0 | L71: =TRUNC(F71+H71+J71, 0) -> 0 | N71: 5E3D850141581712E52A2F85B849E8C58B1D5D | Q71: 01010102 | R71: F | S71: F | T71: T | AU71: 010101025E3D850141581712E52A2F85B849E8C58B1D5D | AV71: 53
A72: 일반배관용스테인리스강관관이음쇠 | B72: ∮20mm, 캡, SP | C72: 개 | D72: 3 | E72: =TRUNC(단가대비표!O109,0) -> 0 | F72: =TRUNC(E72*D72, 0) -> 0 | G72: =TRUNC(단가대비표!P109,0) -> 0 | H72: =TRUNC(G72*D72, 0) -> 0 | I72: =TRUNC(단가대비표!V109,0) -> 0 | J72: =TRUNC(I72*D72, 0) -> 0 | K72: =TRUNC(E72+G72+I72, 0) -> 0 | L72: =TRUNC(F72+H72+J72, 0) -> 0 | N72: 5E3D850141581712E52A2F85B849E8C58B1D5C | Q72: 01010102 | R72: F | S72: F | T72: T | AU72: 010101025E3D850141581712E52A2F85B849E8C58B1D5C | AV72: 54
A73: 일반배관용스테인리스강관관이음쇠 | B73: ∮25mm, 캡, SP | C73: 개 | D73: 3 | E73: =TRUNC(단가대비표!O110,0) -> 0 | F73: =TRUNC(E73*D73, 0) -> 0 | G73: =TRUNC(단가대비표!P110,0) -> 0 | H73: =TRUNC(G73*D73, 0) -> 0 | I73: =TRUNC(단가대비표!V110,0) -> 0 | J73: =TRUNC(I73*D73, 0) -> 0 | K73: =TRUNC(E73+G73+I73, 0) -> 0 | L73: =TRUNC(F73+H73+J73, 0) -> 0 | N73: 5E3D850141581712E52A2F85B849E8C58B1C4E | Q73: 01010102 | R73: F | S73: F | T73: T | AU73: 010101025E3D850141581712E52A2F85B849E8C58B1C4E | AV73: 55
... A88: 일반배관용스테인리스강관관이음쇠 | B88: ∮100*40mm, 티, SP | C88: 개 | D88: 1 | E88: =TRUNC(단가대비표!O125,0) -> 0 | F88: =TRUNC(E88*D88, 0) -> 0 | G88: =TRUNC(단가대비표!P125,0) -> 0 | H88: =TRUNC(G88*D88, 0) -> 0 | I88: =TRUNC(단가대비표!V125,0) -> 0 | J88: =TRUNC(I88*D88, 0) -> 0 | K88: =TRUNC(E88+G88+I88, 0) -> 0 | L88: =TRUNC(F88+H88+J88, 0) -> 0 | N88: 5E3D850141581712E52A2F84909891113FC1BB | Q88: 01010102 | R88: F | S88: F | T88: T | AU88: 010101025E3D850141581712E52A2F84909891113FC1BB | AV88: 70
Q89: 01010102
Q90: 01010102
Q91: 01010102
Q92: 01010102
Q93: 01010102
Q94: 01010102
A95: [ 합 계 ] | F95: =SUMIF(Q28:Q94,"01010102",F28:F94) -> 0 | H95: =SUMIF(Q28:Q94,"01010102",H28:H94) -> 0 | J95: =SUMIF(Q28:Q94,"01010102",J28:J94) -> 0 | L95: =SUMIF(Q28:Q94,"01010102",L28:L94) -> 0 | N95: TOTAL
A96: 01010103 오배수배관공사 | B96: 건강검진센터 위생배관공사 | Q96: 01010103
A97: 경질염화비닐관(고무링 캡조임-일반 PVC) | B97: PVC관(VG1), D50 | C97: M | D97: 16 | E97: =TRUNC(일위대가목록!E24,0) -> 0 | F97: =TRUNC(E97*D97, 0) -> 0 | G97: =TRUNC(일위대가목록!F24,0) -> 0 | H97: =TRUNC(G97*D97, 0) -> 0 | I97: =TRUNC(일위대가목록!G24,0) -> 0 | J97: =TRUNC(I97*D97, 0) -> 0 | K97: =TRUNC(E97+G97+I97, 0) -> 0 | L97: =TRUNC(F97+H97+J97, 0) -> 0 | M97: 호표 21 | N97: 59A5E58BC05E4352A535A7825FBA3A | Q97: 01010103 | R97: T | S97: F | T97: F | AU97: 0101010359A5E58BC05E4352A535A7825FBA3A | AV97: 72
A98: 경질염화비닐관(고무링 캡조임-일반 PVC) | B98: PVC관(VG1), D75 | C98: M | D98: 2 | E98: =TRUNC(일위대가목록!E25,0) -> 0 | F98: =TRUNC(E98*D98, 0) -> 0 | G98: =TRUNC(일위대가목록!F25,0) -> 0 | H98: =TRUNC(G98*D98, 0) -> 0 | I98: =TRUNC(일위대가목록!G25,0) -> 0 | J98: =TRUNC(I98*D98, 0) -> 0 | K98: =TRUNC(E98+G98+I98, 0) -> 0 | L98: =TRUNC(F98+H98+J98, 0) -> 0 | M98: 호표 22 | N98: 59A5E58BC05EA5D215FDD6836481F7 | Q98: 01010103 | R98: T | S98: F | T98: F | AU98: 0101010359A5E58BC05EA5D215FDD6836481F7 | AV98: 73
A99: 경질염화비닐관(고무링 캡조임-일반 PVC) | B99: PVC관(VG1), D100 | C99: M | D99: 59 | E99: =TRUNC(일위대가목록!E27,0) -> 0 | F99: =TRUNC(E99*D99, 0) -> 0 | G99: =TRUNC(일위대가목록!F27,0) -> 0 | H99: =TRUNC(G99*D99, 0) -> 0 | I99: =TRUNC(일위대가목록!G27,0) -> 0 | J99: =TRUNC(I99*D99, 0) -> 0 | K99: =TRUNC(E99+G99+I99, 0) -> 0 | L99: =TRUNC(F99+H99+J99, 0) -> 0 | M99: 호표 24 | N99: 59A5E5880C57D6C2A58E62808417E0 | Q99: 01010103 | R99: T | S99: F | T99: F | AU99: 0101010359A5E5880C57D6C2A58E62808417E0 | AV99: 74
A100: 경질염화비닐관(고무링 캡조임-일반 PVC) | B100: PVC관(VG2), D75 | C100: M | D100: 32 | E100: =TRUNC(일위대가목록!E26,0) -> 0 | F100: =TRUNC(E100*D100, 0) -> 0 | G100: =TRUNC(일위대가목록!F26,0) -> 0 | H100: =TRUNC(G100*D100, 0) -> 0 | I100: =TRUNC(일위대가목록!G26,0) -> 0 | J100: =TRUNC(I100*D100, 0) -> 0 | K100: =TRUNC(E100+G100+I100, 0) -> 0 | L100: =TRUNC(F100+H100+J100, 0) -> 0 | M100: 호표 23 | N100: 59A5E58BC35BE3A275289E8C89C3DC | Q100: 01010103 | R100: T | S100: F | T100: F | AU100: 0101010359A5E58BC35BE3A275289E8C89C3DC | AV100: 75
A101: 슬리브 설치(바닥) | B101: ∮100 | C101: 개소 | D101: 5 | E101: =TRUNC(일위대가목록!E74,0) -> 0 | F101: =TRUNC(E101*D101, 0) -> 0 | G101: =TRUNC(일위대가목록!F74,0) -> 0 | H101: =TRUNC(G101*D101, 0) -> 0 | I101: =TRUNC(일위대가목록!G74,0) -> 0 | J101: =TRUNC(I101*D101, 0) -> 0 | K101: =TRUNC(E101+G101+I101, 0) -> 0 | L101: =TRUNC(F101+H101+J101, 0) -> 0 | M101: 호표 71 | N101: 59A565C98E58AF522547A7869C80E2 | Q101: 01010103 | R101: T | S101: F | T101: F | AU101: 0101010359A565C98E58AF522547A7869C80E2 | AV101: 76
A102: 슬리브 설치(바닥) | B102: ∮150 | C102: 개소 | D102: 2 | E102: =TRUNC(일위대가목록!E75,0) -> 0 | F102: =TRUNC(E102*D102, 0) -> 0 | G102: =TRUNC(일위대가목록!F75,0) -> 0 | H102: =TRUNC(G102*D102, 0) -> 0 | I102: =TRUNC(일위대가목록!G75,0) -> 0 | J102: =TRUNC(I102*D102, 0) -> 0 | K102: =TRUNC(E102+G102+I102, 0) -> 0 | L102: =TRUNC(F102+H102+J102, 0) -> 0 | M102: 호표 72 | N102: 59A565C98E58AF522547A7869C82AF | Q102: 01010103 | R102: T | S102: F | T102: F | AU102: 0101010359A565C98E58AF522547A7869C82AF | AV102: 77
A103: 슬리브 설치(벽체) | B103: ∮80 | C103: 개소 | D103: 2 | E103: =TRUNC(일위대가목록!E77,0) -> 0 | F103: =TRUNC(E103*D103, 0) -> 0 | G103: =TRUNC(일위대가목록!F77,0) -> 0 | H103: =TRUNC(G103*D103, 0) -> 0 | I103: =TRUNC(일위대가목록!G77,0) -> 0 | J103: =TRUNC(I103*D103, 0) -> 0 | K103: =TRUNC(E103+G103+I103, 0) -> 0 | L103: =TRUNC(F103+H103+J103, 0) -> 0 | M103: 호표 74 | N103: 59A565C98E58AF522547A7869DA892 | Q103: 01010103 | R103: T | S103: F | T103: F | AU103: 0101010359A565C98E58AF522547A7869DA892 | AV103: 78
A104: 슬리브 설치(벽체) | B104: ∮100 | C104: 개소 | D104: 4 | E104: =TRUNC(일위대가목록!E78,0) -> 0 | F104: =TRUNC(E104*D104, 0) -> 0 | G104: =TRUNC(일위대가목록!F78,0) -> 0 | H104: =TRUNC(G104*D104, 0) -> 0 | I104: =TRUNC(일위대가목록!G78,0) -> 0 | J104: =TRUNC(I104*D104, 0) -> 0 | K104: =TRUNC(E104+G104+I104, 0) -> 0 | L104: =TRUNC(F104+H104+J104, 0) -> 0 | M104: 호표 75 | N104: 59A565C98E58AF522547A7869DAFC1 | Q104: 01010103 | R104: T | S104: F | T104: F | AU104: 0101010359A565C98E58AF522547A7869DAFC1 | AV104: 79
A105: 슬리브 설치(벽체) | B105: ∮125 | C105: 개소 | D105: 2 | E105: =TRUNC(일위대가목록!E79,0) -> 0 | F105: =TRUNC(E105*D105, 0) -> 0 | G105: =TRUNC(일위대가목록!F79,0) -> 0 | H105: =TRUNC(G105*D105, 0) -> 0 | I105: =TRUNC(일위대가목록!G79,0) -> 0 | J105: =TRUNC(I105*D105, 0) -> 0 | K105: =TRUNC(E105+G105+I105, 0) -> 0 | L105: =TRUNC(F105+H105+J105, 0) -> 0 | M105: 호표 76 | N105: 59A565C98E58AF522547A7869DAE3A | Q105: 01010103 | R105: T | S105: F | T105: F | AU105: 0101010359A565C98E58AF522547A7869DAE3A | AV105: 80
A106: 구멍뚫기(코어드릴) | B106: D100, 콘크리트 150mm, 바닥 | C106: 개소 | D106: 5 | E106: =TRUNC(일위대가목록!E84,0) -> 0 | F106: =TRUNC(E106*D106, 0) -> 0 | G106: =TRUNC(일위대가목록!F84,0) -> 0 | H106: =TRUNC(G106*D106, 0) -> 0 | I106: =TRUNC(일위대가목록!G84,0) -> 0 | J106: =TRUNC(I106*D106, 0) -> 0 | K106: =TRUNC(E106+G106+I106, 0) -> 0 | L106: =TRUNC(F106+H106+J106, 0) -> 0 | M106: 호표 81 | N106: 59A565C98E58AF5225627C8B72A3F2 | Q106: 01010103 | R106: T | S106: F | T106: F | AU106: 0101010359A565C98E58AF5225627C8B72A3F2 | AV106: 81
A107: 구멍뚫기(코어드릴) | B107: D150, 콘크리트 150mm, 바닥 | C107: 개소 | D107: 2 | E107: =TRUNC(일위대가목록!E85,0) -> 0 | F107: =TRUNC(E107*D107, 0) -> 0 | G107: =TRUNC(일위대가목록!F85,0) -> 0 | H107: =TRUNC(G107*D107, 0) -> 0 | I107: =TRUNC(일위대가목록!G85,0) -> 0 | J107: =TRUNC(I107*D107, 0) -> 0 | K107: =TRUNC(E107+G107+I107, 0) -> 0 | L107: =TRUNC(F107+H107+J107, 0) -> 0 | M107: 호표 82 | N107: 59A565C98E58AF5225627C8B72A2EB | Q107: 01010103 | R107: T | S107: F | T107: F | AU107: 0101010359A565C98E58AF5225627C8B72A2EB | AV107: 82
A108: 구멍뚫기(코어드릴) | B108: D75, 콘크리트 150mm, 벽체 | C108: 개소 | D108: 2 | E108: =TRUNC(일위대가목록!E86,0) -> 0 | F108: =TRUNC(E108*D108, 0) -> 0 | G108: =TRUNC(일위대가목록!F86,0) -> 0 | H108: =TRUNC(G108*D108, 0) -> 0 | I108: =TRUNC(일위대가목록!G86,0) -> 0 | J108: =TRUNC(I108*D108, 0) -> 0 | K108: =TRUNC(E108+G108+I108, 0) -> 0 | L108: =TRUNC(F108+H108+J108, 0) -> 0 | M108: 호표 83 | N108: 59A565C98E58AF5225627C8B70F9F1 | Q108: 01010103 | R108: T | S108: F | T108: F | AU108: 0101010359A565C98E58AF5225627C8B70F9F1 | AV108: 83
A109: 구멍뚫기(코어드릴) | B109: D100, 콘크리트 150mm, 벽체 | C109: 개소 | D109: 4 | E109: =TRUNC(일위대가목록!E87,0) -> 0 | F109: =TRUNC(E109*D109, 0) -> 0 | G109: =TRUNC(일위대가목록!F87,0) -> 0 | H109: =TRUNC(G109*D109, 0) -> 0 | I109: =TRUNC(일위대가목록!G87,0) -> 0 | J109: =TRUNC(I109*D109, 0) -> 0 | K109: =TRUNC(E109+G109+I109, 0) -> 0 | L109: =TRUNC(F109+H109+J109, 0) -> 0 | M109: 호표 84 | N109: 59A565C98E58AF5225627C8B70FE73 | Q109: 01010103 | R109: T | S109: F | T109: F | AU109: 0101010359A565C98E58AF5225627C8B70FE73 | AV109: 84
A110: 구멍뚫기(코어드릴) | B110: D150, 콘크리트 150mm, 벽체 | C110: 개소 | D110: 2 | E110: =TRUNC(일위대가목록!E88,0) -> 0 | F110: =TRUNC(E110*D110, 0) -> 0 | G110: =TRUNC(일위대가목록!F88,0) -> 0 | H110: =TRUNC(G110*D110, 0) -> 0 | I110: =TRUNC(일위대가목록!G88,0) -> 0 | J110: =TRUNC(I110*D110, 0) -> 0 | K110: =TRUNC(E110+G110+I110, 0) -> 0 | L110: =TRUNC(F110+H110+J110, 0) -> 0 | M110: 호표 85 | N110: 59A565C98E58AF5225627C8B70FF19 | Q110: 01010103 | R110: T | S110: F | T110: F | AU110: 0101010359A565C98E58AF5225627C8B70FF19 | AV110: 85
A111: 일반행가(전산볼트) | B111: D50 | C111: 개소 | D111: 18 | E111: =TRUNC(일위대가목록!E57,0) -> 0 | F111: =TRUNC(E111*D111, 0) -> 0 | G111: =TRUNC(일위대가목록!F57,0) -> 0 | H111: =TRUNC(G111*D111, 0) -> 0 | I111: =TRUNC(일위대가목록!G57,0) -> 0 | J111: =TRUNC(I111*D111, 0) -> 0 | K111: =TRUNC(E111+G111+I111, 0) -> 0 | L111: =TRUNC(F111+H111+J111, 0) -> 0 | M111: 호표 54 | N111: 59A545FA5756D2B2351D0C87D289AE | Q111: 01010103 | R111: T | S111: F | T111: F | AU111: 0101010359A545FA5756D2B2351D0C87D289AE | AV111: 86
A112: 일반행가(전산볼트) | B112: D80 | C112: 개소 | D112: 30 | E112: =TRUNC(일위대가목록!E58,0) -> 0 | F112: =TRUNC(E112*D112, 0) -> 0 | G112: =TRUNC(일위대가목록!F58,0) -> 0 | H112: =TRUNC(G112*D112, 0) -> 0 | I112: =TRUNC(일위대가목록!G58,0) -> 0 | J112: =TRUNC(I112*D112, 0) -> 0 | K112: =TRUNC(E112+G112+I112, 0) -> 0 | L112: =TRUNC(F112+H112+J112, 0) -> 0 | M112: 호표 55 | N112: 59A545FA5756D2B2351D0C898065D6 | Q112: 01010103 | R112: T | S112: F | T112: F | AU112: 0101010359A545FA5756D2B2351D0C898065D6 | AV112: 87
A113: 일반행가(전산볼트) | B113: D100 | C113: 개소 | D113: 9 | E113: =TRUNC(일위대가목록!E59,0) -> 0 | F113: =TRUNC(E113*D113, 0) -> 0 | G113: =TRUNC(일위대가목록!F59,0) -> 0 | H113: =TRUNC(G113*D113, 0) -> 0 | I113: =TRUNC(일위대가목록!G59,0) -> 0 | J113: =TRUNC(I113*D113, 0) -> 0 | K113: =TRUNC(E113+G113+I113, 0) -> 0 | L113: =TRUNC(F113+H113+J113, 0) -> 0 | M113: 호표 56 | N113: 59A545FA5756D2B2351D0C88F99377 | Q113: 01010103 | R113: T | S113: F | T113: F | AU113: 0101010359A545FA5756D2B2351D0C88F99377 | AV113: 88
A114: 배수용주철이형관(F.D.) | B114: D75 | C114: EA | D114: 2 | E114: =TRUNC(일위대가목록!E56,0) -> 0 | F114: =TRUNC(E114*D114, 0) -> 0 | G114: =TRUNC(일위대가목록!F56,0) -> 0 | H114: =TRUNC(G114*D114, 0) -> 0 | I114: =TRUNC(일위대가목록!G56,0) -> 0 | J114: =TRUNC(I114*D114, 0) -> 0 | K114: =TRUNC(E114+G114+I114, 0) -> 0 | L114: =TRUNC(F114+H114+J114, 0) -> 0 | M114: 호표 53 | N114: 59A545FD2B5C99A2B592998C0FB120 | Q114: 01010103 | R114: T | S114: F | T114: F | AU114: 0101010359A545FD2B5C99A2B592998C0FB120 | AV114: 340
...

Sheet 일위대가목록
B1: 일 위 대 가 목 록
B2: [ 영주적십자병원 건강검진센터 리모델링공사 ]
A3: 코 드 | B3: 품 명 | C3: 규 격 | D3: 단위 | E3: 재 료 비 | F3: 노 무 비 | G3: 경 비 | H3: 합 계 | I3: 번 호 | J3: 비 고 | K3: 노임계수 | L3: 할증 | M3: 품셈개요 | N3: 장비일위
A4: 5E7B35D0CE5B2332653F208FDBA6DC6340D320DC | B4: 코아드릴 | C4: 25.40cm | D4: HR | E4: =일위대가!F6 -> 0 | F4: =일위대가!H6 -> 0 | G4: =일위대가!J6 -> 0 | H4: =E4+F4+G4 -> 0 | I4: 호표 1 | K4: A | M4: 공통 8-3(5901) | N4: T
A5: 594FB5F90B50D3E27503CA83106FD7 | B5: 디퓨져(철거) | C5: D150이하 | D5: EA | E5: =일위대가!F11 -> 0 | F5: =일위대가!H11 -> 0 | G5: =일위대가!J11 -> 0 | H5: =E5+F5+G5 -> 0 | I5: 호표 2
A6: 594FB5F90B50D3E27503CA83106FDF | B6: 휀코일유니트(신설) | C6: 1-WAY, 1,186kcal/h | D6: 대 | E6: =일위대가!F17 -> 0 | F6: =일위대가!H17 -> 0 | G6: =일위대가!J17 -> 0 | H6: =E6+F6+G6 -> 0 | I6: 호표 3
A7: 594FB5F90B50D3E27503CA83106ECF | B7: 휀코일유니트(철거후재설치) | C7: 2-WAY, 2,326kcal/h | D7: 대 | E7: =일위대가!F23 -> 0 | F7: =일위대가!H23 -> 0 | G7: =일위대가!J23 -> 0 | H7: =E7+F7+G7 -> 0 | I7: 호표 4
A8: 594FB5F90B50D3E27503CA83106ECE | B8: 휀코일유니트(철거후재설치) | C8: 4-WAY, 2,289kcal/h | D8: 대 | E8: =일위대가!F29 -> 0 | F8: =일위대가!H29 -> 0 | G8: =일위대가!J29 -> 0 | H8: =E8+F8+G8 -> 0 | I8: 호표 5
A9: 594FB5F90B50D3E27503CA83106ECD | B9: 휀코일유니트(철거후재설치) | C9: 4-WAY, 3,215kcal/h | D9: 대 | E9: =일위대가!F35 -> 0 | F9: =일위대가!H35 -> 0 | G9: =일위대가!J35 -> 0 | H9: =E9+F9+G9 -> 0 | I9: 호표 6
A10: 593995DDC4562482D5BFE580C3A4FF | B10: V.D(볼륨댐퍼) | C10: 200*200 | D10: 개소 | E10: =일위대가!F40 -> 0 | F10: =일위대가!H40 -> 0 | G10: =일위대가!J40 -> 0 | H10: =E10+F10+G10 -> 0 | I10: 호표 7
A11: 592A359E6D55EBC275D4208718E327 | B11: 강제전선관-노출 | C11: 아연도, 16mm | D11: M | E11: =일위대가!F48 -> 0 | F11: =일위대가!H48 -> 0 | G11: =일위대가!J48 -> 0 | H11: =E11+F11+G11 -> 0 | I11: 호표 8 | M11: 전기 5-1
A12: 592A359E6F50D3B2B5403B82825FBA | B12: 케이블600V(통신선) | C12: VCTF1.5/2C | D12: M | E12: =일위대가!F55 -> 0 | F12: =일위대가!H55 -> 0 | G12: =일위대가!J55 -> 0 | H12: =E12+F12+G12 -> 0 | I12: 호표 9 | M12: 전기 5-13
A13: 592A359E6F50D3B2B5403B82836585 | B13: 케이블600V(룸컨트롤선) | C13: 24AWG*4C | D13: M | E13: =일위대가!F62 -> 0 | F13: =일위대가!H62 -> 0 | G13: =일위대가!J62 -> 0 | H13: =E13+F13+G13 -> 0 | I13: 호표 10 | M13: 전기 5-13
A14: 592AA56AF65B5A02A5815A81AB910B | B14: 강제전선관-철거 | C14: ST 16C | D14: M | E14: =일위대가!F67 -> 0 | F14: =일위대가!H67 -> 0 | G14: =일위대가!J67 -> 0 | H14: =E14+F14+G14 -> 0 | I14: 호표 11
A15: 592AA56AF65B5A02A5815A81AB910A | B15: 제어용케이블-철거 | D15: M | E15: =일위대가!F72 -> 0 | F15: =일위대가!H72 -> 0 | G15: =일위대가!J72 -> 0 | H15: =E15+F15+G15 -> 0 | I15: 호표 12
A16: 59A5E581D85E9A62D5D78C837C9F5D | B16: 동관옥내배관(L-TYPE) | C16: D20 | D16: M | E16: =일위대가!F80 -> 0 | F16: =일위대가!H80 -> 0 | G16: =일위대가!J80 -> 0 | H16: =E16+F16+G16 -> 0 | I16: 호표 13 | M16: 기계 1-2-2
A17: 59A5E58766599C72A5C5C28F7D7ABC | B17: 스테인리스용접(TIG) | C17: D20 | D17: 개소 | E17: =일위대가!F87 -> 0 | F17: =일위대가!H87 -> 0 | G17: =일위대가!J87 -> 0 | H17: =E17+F17+G17 -> 0 | I17: 호표 14 | M17: 기계 1-3-1
A18: 59A5E58766599C72A5C5C28E5777C4 | B18: 스테인리스용접(TIG) | C18: D25 | D18: 개소 | E18: =일위대가!F94 -> 0 | F18: =일위대가!H94 -> 0 | G18: =일위대가!J94 -> 0 | H18: =E18+F18+G18 -> 0 | I18: 호표 15 | M18: 기계 1-3-1
A19: 59A5E5876659820265492B8BDE7966 | B19: 스테인리스강관배관(K-TYPE-옥내) | C19: D13 | D19: M | E19: =일위대가!F102 -> 0 | F19: =일위대가!H102 -> 0 | G19: =일위대가!J102 -> 0 | H19: =E19+F19+G19 -> 0 | I19: 호표 16 | M19: 기계 1-3-4
A20: 59A5E5876659BF42852F82892EB892 | B20: 스테인리스강관배관(K-TYPE-옥내) | C20: D20 | D20: M | E20: =일위대가!F110 -> 0 | F20: =일위대가!H110 -> 0 | G20: =일위대가!J110 -> 0 | H20: =E20+F20+G20 -> 0 | I20: 호표 17 | M20: 기계 1-3-4
A21: 59A5E5876659AEF255EB4A8A56648B | B21: 스테인리스강관배관(K-TYPE-옥내) | C21: D25 | D21: M | E21: =일위대가!F118 -> 0 | F21: =일위대가!H118 -> 0 | G21: =일위대가!J118 -> 0 | H21: =E21+F21+G21 -> 0 | I21: 호표 18 | M21: 기계 1-3-4
A22: 59A5E5876659DA32055AEA8F38A11B | B22: 스테인리스강관배관(K-TYPE-옥내) | C22: D30 | D22: M | E22: =일위대가!F126 -> 0 | F22: =일위대가!H126 -> 0 | G22: =일위대가!J126 -> 0 | H22: =E22+F22+G22 -> 0 | I22: 호표 19 | M22: 기계 1-3-4
A23: 59A5E5849253A88225031B8E8F91E8 | B23: 스테인리스용접(TIG) | C23: D125 | D23: 개소 | E23: =일위대가!F133 -> 0 | F23: =일위대가!H133 -> 0 | G23: =일위대가!J133 -> 0 | H23: =E23+F23+G23 -> 0 | I23: 호표 20 | M23: 기계 1-3-1
A24: 59A5E58BC05E4352A535A7825FBA3A | B24: 경질염화비닐관(고무링 캡조임-일반 PVC) | C24: PVC관(VG1), D50 | D24: M | E24: =일위대가!F141 -> 0 | F24: =일위대가!H141 -> 0 | G24: =일위대가!J141 -> 0 | H24: =E24+F24+G24 -> 0 | I24: 호표 21 | M24: 기계 1-5-2
A25: 59A5E58BC05EA5D215FDD6836481F7 | B25: 경질염화비닐관(고무링 캡조임-일반 PVC) | C25: PVC관(VG1), D75 | D25: M | E25: =일위대가!F149 -> 0 | F25: =일위대가!H149 -> 0 | G25: =일위대가!J149 -> 0 | H25: =E25+F25+G25 -> 0 | I25: 호표 22 | M25: 기계 1-5-2
A26: 59A5E58BC35BE3A275289E8C89C3DC | B26: 경질염화비닐관(고무링 캡조임-일반 PVC) | C26: PVC관(VG2), D75 | D26: M | E26: =일위대가!F157 -> 0 | F26: =일위대가!H157 -> 0 | G26: =일위대가!J157 -> 0 | H26: =E26+F26+G26 -> 0 | I26: 호표 23 | M26: 기계 1-5-2
A27: 59A5E5880C57D6C2A58E62808417E0 | B27: 경질염화비닐관(고무링 캡조임-일반 PVC) | C27: PVC관(VG1), D100 | D27: M | E27: =일위대가!F165 -> 0 | F27: =일위대가!H165 -> 0 | G27: =일위대가!J165 -> 0 | H27: =E27+F27+G27 -> 0 | I27: 호표 24 | M27: 기계 1-5-2
A28: 59A5E592725E7A2205158D8625F0A6 | B28: 스테인리스 합 후렌지 | C28: D20 | D28: 개소 | E28: =일위대가!F173 -> 0 | F28: =일위대가!H173 -> 0 | G28: =일위대가!J173 -> 0 | H28: =E28+F28+G28 -> 0 | I28: 호표 25 | M28: 대한기계설비건설협회
A29: 59A5E592725E69B2150A8B84023A49 | B29: 스테인리스 합 후렌지 | C29: D25 | D29: 개소 | E29: =일위대가!F181 -> 0 | F29: =일위대가!H181 -> 0 | G29: =일위대가!J181 -> 0 | H29: =E29+F29+G29 -> 0 | I29: 호표 26 | M29: 대한기계설비건설협회
A30: 59A5F5E8B654D91235E2D988DF3BB0 | B30: 아연도금강관덕트(각형닥트) 설치 | C30: 0.5t | D30: M2 | E30: =일위대가!F188 -> 0 | F30: =일위대가!H188 -> 0 | G30: =일위대가!J188 -> 0 | H30: =E30+F30+G30 -> 0 | I30: 호표 27 | M30: 기계 2-1-1
A31: 59A5F5E8B0520B02850FB2894E707C | B31: 공조덕트(플렉시블) | C31: D150*0.02t, 보온, AL foil 2p | D31: M | E31: =일위대가!F194 -> 0 | F31: =일위대가!H194 -> 0 | G31: =일위대가!J194 -> 0 | H31: =E31+F31+G31 -> 0 | I31: 호표 28 | M31: 기계 2-1-6
A32: 59A5F5ED3D50948255E9908EDFFB8E | B32: 디퓨저 | C32: 원형PAN, D150, AL | D32: 개 | E32: =일위대가!F200 -> 0 | F32: =일위대가!H200 -> 0 | G32: =일위대가!J200 -> 0 | H32: =E32+F32+G32 -> 0 | I32: 호표 29 | M32: 기계 2-2-1
A33: 59A585188F51F8A2D592B18B2026CB | B33: 관보온(고무발포, 매직테프) | C33: 25t*D15 | D33: M | E33: =일위대가!F212 -> 0 | F33: =일위대가!H212 -> 0 | G33: =일위대가!J212 -> 0 | H33: =E33+F33+G33 -> 0 | I33: 호표 30 | M33: 대한기계설비건설협회
A34: 59A585188F51CC52F5F13280896056 | B34: 관보온(고무발포, 매직테프) | C34: 25t*D20 | D34: M | E34: =일위대가!F224 -> 0 | F34: =일위대가!H224 -> 0 | G34: =일위대가!J224 -> 0 | H34: =E34+F34+G34 -> 0 | I34: 호표 31 | M34: 대한기계설비건설협회
A35: 59A585188F51DDC275D43885978CE7 | B35: 관보온(고무발포, 매직테프) | C35: 25t*D25 | D35: M | E35: =일위대가!F236 -> 0 | F35: =일위대가!H236 -> 0 | G35: =일위대가!J236 -> 0 | H35: =E35+F35+G35 -> 0 | I35: 호표 32 | M35: 대한기계설비건설협회
A36: 59A585188F51A082D5F99E8F502586 | B36: 관보온(고무발포, 매직테프) | C36: 25t*D32 | D36: M | E36: =일위대가!F248 -> 0 | F36: =일위대가!H248 -> 0 | G36: =일위대가!J248 -> 0 | H36: =E36+F36+G36 -> 0 | I36: 호표 33 | M36: 대한기계설비건설협회
A37: 59A5851C6454714275EB8180C6A0E7 | B37: 각형닥트보온(발포폴리에틸렌 보온) | C37: 25t | D37: M2 | E37: =일위대가!F258 -> 0 | F37: =일위대가!H258 -> 0 | G37: =일위대가!J258 -> 0 | H37: =E37+F37+G37 -> 0 | I37: 호표 34 | M37: 대한기계설비건설협회
A38: 59A5A566BE5E6A92A5D7FE8226B755 | B38: 볼밸브설치(스텐, 10kg) | C38: D15 | D38: 개 | E38: =일위대가!F264 -> 0 | F38: =일위대가!H264 -> 0 | G38: =일위대가!J264 -> 0 | H38: =E38+F38+G38 -> 0 | I38: 호표 35 | M38: 기계 5-1-1
A39: 59A5A566BE5E586275F0DF842E0BDC | B39: 볼밸브설치(스텐, 10kg) | C39: D20 | D39: 개 | E39: =일위대가!F270 -> 0 | F39: =일위대가!H270 -> 0 | G39: =일위대가!J270 -> 0 | H39: =E39+F39+G39 -> 0 | I39: 호표 36 | M39: 기계 5-1-1
A40: 59A5A566BE5E586275D4008934569B | B40: 볼밸브설치(황동, 10kg) | C40: D20 | D40: 개 | E40: =일위대가!F276 -> 0 | F40: =일위대가!H276 -> 0 | G40: =일위대가!J276 -> 0 | H40: =E40+F40+G40 -> 0 | I40: 호표 37 | M40: 기계 5-1-1
A41: 59A5A566BE5E4FF2A5DAE28218A7E8 | B41: 볼밸브설치(스텐, 10kg) | C41: D25 | D41: 개 | E41: =일위대가!F282 -> 0 | F41: =일위대가!H282 -> 0 | G41: =일위대가!J282 -> 0 | H41: =E41+F41+G41 -> 0 | I41: 호표 38 | M41: 기계 5-1-1
A42: 59A5A566BE5E3D52C5F66B8AE11712 | B42: 볼밸브설치(스텐, 10kg) | C42: D32 | D42: 개 | E42: =일위대가!F288 -> 0 | F42: =일위대가!H288 -> 0 | G42: =일위대가!J288 -> 0 | H42: =E42+F42+G42 -> 0 | I42: 호표 39 | M42: 기계 5-1-1
A43: 59A5A56F9855F0328575478BB4DE5F | B43: 신축접수(STS형, 복식-10K) | C43: D20 | D43: 개 | E43: =일위대가!F296 -> 0 | F43: =일위대가!H296 -> 0 | G43: =일위대가!J296 -> 0 | H43: =E43+F43+G43 -> 0 | I43: 호표 40 | M43: 기계 5-3-1
A44: 59A5A56F9855E7D2D5C9EE82CEE1A5 | B44: 신축접수(STS형, 복식-10K) | C44: D25 | D44: 개 | E44: =일위대가!F304 -> 0 | F44: =일위대가!H304 -> 0 | G44: =일위대가!J304 -> 0 | H44: =E44+F44+G44 -> 0 | I44: 호표 41 | M44: 기계 5-3-1
A45: 59A5B53E7153F9B2C50B8680D5E9F4 | B45: 안전손잡이 설치 | C45: 고정단 2개 | D45: 개 | E45: =일위대가!F310 -> 0 | F45: =일위대가!H310 -> 0 | G45: =일위대가!J310 -> 0 | H45: =E45+F45+G45 -> 0 | I45: 호표 42 | M45: 기계 7-3-4
A46: 59A5B53E7153F9B2C50B8680D5E9F5 | B46: 장애자용손잡이 | C46: 대변기 - 고정식 | D46: 개 | E46: =일위대가!F317 -> 0 | F46: =일위대가!H317 -> 0 | G46: =일위대가!J317 -> 0 | H46: =E46+F46+G46 -> 0 | I46: 호표 43 | M46: 기계 7-3-4
A47: 59A5B53E7153F9B2C50B8680D4C3F1 | B47: 장애자용손잡이 | C47: 대변기 - 가동식 | D47: 개 | E47: =일위대가!F324 -> 0 | F47: =일위대가!H324 -> 0 | G47: =일위대가!J324 -> 0 | H47: =E47+F47+G47 -> 0 | I47: 호표 44 | M47: 기계 7-3-4
A48: 59A545FFD152C7F20546AD8DEB1920 | B48: 양변기(장애인용) | C48: F/V,자동세척밸브(전자감지식) | D48: 조 | E48: =일위대가!F331 -> 0 | F48: =일위대가!H331 -> 0 | G48: =일위대가!J331 -> 0 | H48: =E48+F48+G48 -> 0 | I48: 호표 45 | M48: 기계 7-1-2
A49: 59A545FFD152C7F20546AD8DEB1AC5 | B49: 소변기(전자감응식/밧데리식) | C49: KSVU-410, 센서내장형 | D49: 조 | E49: =일위대가!F338 -> 0 | F49: =일위대가!H338 -> 0 | G49: =일위대가!J338 -> 0 | H49: =E49+F49+G49 -> 0 | I49: 호표 46 | M49: 기계 7-1-1
A50: 59A545FFD152C7F20546AD8DEB1EA3 | B50: 에어타올(핸드드라이) | C50: 3중안전장치/적외선(고속형) | D50: 개소 | E50: =일위대가!F344 -> 0 | F50: =일위대가!H344 -> 0 | G50: =일위대가!J344 -> 0 | H50: =E50+F50+G50 -> 0 | I50: 호표 47 | M50: 기계 7-1
A51: 59A545FFD152C7F20546AD8DEA7508 | B51: 세면기 | C51: CC-384 | D51: 조 | E51: =일위대가!F357 -> 0 | F51: =일위대가!H357 -> 0 | G51: =일위대가!J357 -> 0 | H51: =E51+F51+G51 -> 0 | I51: 호표 48 | M51: 기계 7-1-3
A52: 59A545FC065EED329546288408E961 | B52: 휴지걸이 | C52: 점보케이스 | D52: EA | E52: =일위대가!F363 -> 0 | F52: =일위대가!H363 -> 0 | G52: =일위대가!J363 -> 0 | H52: =E52+F52+G52 -> 0 | I52: 호표 49 | M52: 기계 7-1
A53: 59A545FC065E84B245EFC4845D5CBC | B53: 비누대 | C53: STS | D53: EA | E53: =일위대가!F369 -> 0 | F53: =일위대가!H369 -> 0 | G53: =일위대가!J369 -> 0 | H53: =E53+F53+G53 -> 0 | I53: 호표 50 | M53: 기계 7-1
A54: 59A545FC065E84B245EFC4845D5CBB | B54: 여성용품수거함 | C54: ABS | D54: EA | E54: =일위대가!F375 -> 0 | F54: =일위대가!H375 -> 0 | G54: =일위대가!J375 -> 0 | H54: =E54+F54+G54 -> 0 | I54: 호표 51 | M54: 기계 7-1
A55: 59A545FC065E84B245EFC4845D5CBA | B55: 유아용 거치대 | C55: 유아 보호형 | D55: EA | E55: =일위대가!F382 -> 0 | F55: =일위대가!H382 -> 0 | G55: =일위대가!J382 -> 0 | H55: =E55+F55+G55 -> 0 | I55: 호표 52 | M55: 기계 7-1
A56: 59A545FD2B5C99A2B592998C0FB120 | B56: 배수용주철이형관(F.D.) | C56: D75 | D56: EA | E56: =일위대가!F389 -> 0 | F56: =일위대가!H389 -> 0 | G56: =일위대가!J389 -> 0 | H56: =E56+F56+G56 -> 0 | I56: 호표 53 | M56: 기계 7-3-3
A57: 59A545FA5756D2B2351D0C87D289AE | B57: 일반행가(전산볼트) | C57: D50 | D57: 개소 | E57: =일위대가!F395 -> 0 | F57: =일위대가!H395 -> 0 | G57: =일위대가!J395 -> 0 | H57: =E57+F57+G57 -> 0 | I57: 호표 54
A58: 59A545FA5756D2B2351D0C898065D6 | B58: 일반행가(전산볼트) | C58: D80 | D58: 개소 | E58: =일위대가!F401 -> 0 | F58: =일위대가!H401 -> 0 | G58: =일위대가!J401 -> 0 | H58: =E58+F58+G58 -> 0 | I58: 호표 55
A59: 59A545FA5756D2B2351D0C88F99377 | B59: 일반행가(전산볼트) | C59: D100 | D59: 개소 | E59: =일위대가!F407 -> 0 | F59: =일위대가!H407 -> 0 | G59: =일위대가!J407 -> 0 | H59: =E59+F59+G59 -> 0 | I59: 호표 56
A60: 59A545FA5756D2A225B85F854EC40B | B60: 절연행가(전산볼트) | C60: D15 | D60: 개소 | E60: =일위대가!F413 -> 0 | F60: =일위대가!H413 -> 0 | G60: =일위대가!J413 -> 0 | H60: =E60+F60+G60 -> 0 | I60: 호표 57
A61: 59A545FA5756D2A225B85F8655359D | B61: 절연행가(전산볼트) | C61: D20 | D61: 개소 | E61: =일위대가!F419 -> 0 | F61: =일위대가!H419 -> 0 | G61: =일위대가!J419 -> 0 | H61: =E61+F61+G61 -> 0 | I61: 호표 58
A62: 59A545FA5756D2A225B85F877CDFBD | B62: 절연행가(전산볼트) | C62: D25 | D62: 개소 | E62: =일위대가!F425 -> 0 | F62: =일위대가!H425 -> 0 | G62: =일위대가!J425 -> 0 | H62: =E62+F62+G62 -> 0 | I62: 호표 59
A63: 59A545FA5756D2A225B85F80CC8984 | B63: 절연행가(전산볼트) | C63: D32 | D63: 개소 | E63: =일위대가!F431 -> 0 | F63: =일위대가!H431 -> 0 | G63: =일위대가!J431 -> 0 | H63: =E63+F63+G63 -> 0 | I63: 호표 60
A64: 59A555952F5A34D215CEAF8F8611AD | B64: 잡철물 제작 및 설치 | C64: 규격철물 설치, 일반철재 | D64: kg | E64: =일위대가!F440 -> 0 | F64: =일위대가!H440 -> 0 | G64: =일위대가!J440 -> 0 | H64: =E64+F64+G64 -> 0 | I64: 호표 61 | M64: 기계 9-1-2
A65: 59A565CD6B509CB28546CD8093BF6F | B65: 신축접수 고정 앙카가대 | D65: 개소 | E65: =일위대가!F447 -> 0 | F65: =일위대가!H447 -> 0 | G65: =일위대가!J447 -> 0 | H65: =E65+F65+G65 -> 0 | I65: 호표 62 | M65: 대한기계설비건설협회
A66: 59A565CD6B509CB28546CD83671DC8 | B66: 인서트플레이트 | C66: 200*200*9t | D66: 개소 | E66: =일위대가!F453 -> 0 | F66: =일위대가!H453 -> 0 | G66: =일위대가!J453 -> 0 | H66: =E66+F66+G66 -> 0 | I66: 호표 63 | M66: 대한기계설비건설협회
A67: 59A565CD6B50AD12D520E7888172C3 | B67: 앙카슈 | C67: D40이하 | D67: 개소 | E67: =일위대가!F460 -> 0 | F67: =일위대가!H460 -> 0 | G67: =일위대가!J460 -> 0 | H67: =E67+F67+G67 -> 0 | I67: 호표 64 | M67: 대한기계설비건설협회
A68: 59A565CD6955C74265243F839791AF | B68: 구멍뚫기(코어드릴) | C68: D50, 콘크리트 150mm | D68: 개소 | E68: =일위대가!F466 -> 0 | F68: =일위대가!H466 -> 0 | G68: =일위대가!J466 -> 0 | H68: =E68+F68+G68 -> 0 | I68: 호표 65 | M68: 기계 9-3-2
A69: 59A565CD6955C74265243F80C22C05 | B69: 구멍뚫기(코어드릴) | C69: D50, 콘크리트 150mm, 벽 | D69: 개소 | E69: =일위대가!F472 -> 0 | F69: =일위대가!H472 -> 0 | G69: =일위대가!J472 -> 0 | H69: =E69+F69+G69 -> 0 | I69: 호표 66 | M69: 기계 9-3-2
A70: 59A565CD6955271235542D8E271430 | B70: 구멍뚫기(코어드릴) | C70: D75, 콘크리트 150mm, 벽 | D70: 개소 | E70: =일위대가!F478 -> 0 | F70: =일위대가!H478 -> 0 | G70: =일위대가!J478 -> 0 | H70: =E70+F70+G70 -> 0 | I70: 호표 67 | M70: 기계 9-3-2
A71: 59A565CE725786C275DCB08E61F8B0 | B71: 구멍뚫기(코어드릴) | C71: D100, 콘크리트 150mm, 벽 | D71: 개소 | E71: =일위대가!F484 -> 0 | F71: =일위대가!H484 -> 0 | G71: =일위대가!J484 -> 0 | H71: =E71+F71+G71 -> 0 | I71: 호표 68 | M71: 기계 9-3-2
A72: 59A565C98E58AF522547A7869C860A | B72: 슬리브 설치(바닥) | C72: ∮50 | D72: 개소 | E72: =일위대가!F489 -> 0 | F72: =일위대가!H489 -> 0 | G72: =일위대가!J489 -> 0 | H72: =E72+F72+G72 -> 0 | I72: 호표 69 | M72: 대한기계설비건설협회
A73: 59A565C98E58AF522547A7869C8711 | B73: 슬리브 설치(바닥) | C73: ∮80 | D73: 개소 | E73: =일위대가!F494 -> 0 | F73: =일위대가!H494 -> 0 | G73: =일위대가!J494 -> 0 | H73: =E73+F73+G73 -> 0 | I73: 호표 70 | M73: 대한기계설비건설협회
A74: 59A565C98E58AF522547A7869C80E2 | B74: 슬리브 설치(바닥) | C74: ∮100 | D74: 개소 | E74: =일위대가!F499 -> 0 | F74: =일위대가!H499 -> 0 | G74: =일위대가!J499 -> 0 | H74: =E74+F74+G74 -> 0 | I74: 호표 71 | M74: 대한기계설비건설협회
A75: 59A565C98E58AF522547A7869C82AF | B75: 슬리브 설치(바닥) | C75: ∮150 | D75: 개소 | E75: =일위대가!F504 -> 0 | F75: =일위대가!H504 -> 0 | G75: =일위대가!J504 -> 0 | H75: =E75+F75+G75 -> 0 | I75: 호표 72 | M75: 대한기계설비건설협회
A76: 59A565C98E58AF522547A7869DA9B9 | B76: 슬리브 설치(벽체) | C76: ∮50 | D76: 개소 | E76: =일위대가!F509 -> 0 | F76: =일위대가!H509 -> 0 | G76: =일위대가!J509 -> 0 | H76: =E76+F76+G76 -> 0 | I76: 호표 73 | M76: 대한기계설비건설협회
A77: 59A565C98E58AF522547A7869DA892 | B77: 슬리브 설치(벽체) | C77: ∮80 | D77: 개소 | E77: =일위대가!F514 -> 0 | F77: =일위대가!H514 -> 0 | G77: =일위대가!J514 -> 0 | H77: =E77+F77+G77 -> 0 | I77: 호표 74 | M77: 대한기계설비건설협회
A78: 59A565C98E58AF522547A7869DAFC1 | B78: 슬리브 설치(벽체) | C78: ∮100 | D78: 개소 | E78: =일위대가!F519 -> 0 | F78: =일위대가!H519 -> 0 | G78: =일위대가!J519 -> 0 | H78: =E78+F78+G78 -> 0 | I78: 호표 75 | M78: 대한기계설비건설협회
A79: 59A565C98E58AF522547A7869DAE3A | B79: 슬리브 설치(벽체) | C79: ∮125 | D79: 개소 | E79: =일위대가!F524 -> 0 | F79: =일위대가!H524 -> 0 | G79: =일위대가!J524 -> 0 | H79: =E79+F79+G79 -> 0 | I79: 호표 76 | M79: 대한기계설비건설협회
A80: 59A565C98E58AF522547A7869DAD14 | B80: 슬리브 설치(벽체) | C80: ∮150 | D80: 개소 | E80: =일위대가!F529 -> 0 | F80: =일위대가!H529 -> 0 | G80: =일위대가!J529 -> 0 | H80: =E80+F80+G80 -> 0 | I80: 호표 77 | M80: 대한기계설비건설협회
A81: 59A565C98E58AF522547A787A3F6B3 | B81: 슬리브 설치(바닥) | C81: D25 - D50 | D81: 개소 | E81: =일위대가!F535 -> 0 | F81: =일위대가!H535 -> 0 | G81: =일위대가!J535 -> 0 | H81: =E81+F81+G81 -> 0 | I81: 호표 78 | M81: 기계 9-3-1
A82: 59A565C98E58AF522547A784EFCF3E | B82: 슬리브 설치(바닥) | C82: D65 - D100 | D82: 개소 | E82: =일위대가!F541 -> 0 | F82: =일위대가!H541 -> 0 | G82: =일위대가!J541 -> 0 | H82: =E82+F82+G82 -> 0 | I82: 호표 79 | M82: 기계 9-3-1
A83: 59A565C98E58AF522547A785F621BE | B83: 슬리브 설치(바닥) | C83: D125 - D150 | D83: 개소 | E83: =일위대가!F547 -> 0 | F83: =일위대가!H547 -> 0 | G83: =일위대가!J547 -> 0 | H83: =E83+F83+G83 -> 0 | I83: 호표 80 | M83: 기계 9-3-1
A84: 59A565C98E58AF5225627C8B72A3F2 | B84: 구멍뚫기(코어드릴) | C84: D100, 콘크리트 150mm, 바닥 | D84: 개소 | E84: =일위대가!F554 -> 0 | F84: =일위대가!H554 -> 0 | G84: =일위대가!J554 -> 0 | H84: =E84+F84+G84 -> 0 | I84: 호표 81 | M84: 대한기계설비건설협회
A85: 59A565C98E58AF5225627C8B72A2EB | B85: 구멍뚫기(코어드릴) | C85: D150, 콘크리트 150mm, 바닥 | D85: 개소 | E85: =일위대가!F561 -> 0 | F85: =일위대가!H561 -> 0 | G85: =일위대가!J561 -> 0 | H85: =E85+F85+G85 -> 0 | I85: 호표 82 | M85: 대한기계설비건설협회
A86: 59A565C98E58AF5225627C8B70F9F1 | B86: 구멍뚫기(코어드릴) | C86: D75, 콘크리트 150mm, 벽체 | D86: 개소 | E86: =일위대가!F568 -> 0 | F86: =일위대가!H568 -> 0 | G86: =일위대가!J568 -> 0 | H86: =E86+F86+G86 -> 0 | I86: 호표 83 | M86: 대한기계설비건설협회
A87: 59A565C98E58AF5225627C8B70FE73 | B87: 구멍뚫기(코어드릴) | C87: D100, 콘크리트 150mm, 벽체 | D87: 개소 | E87: =일위대가!F575 -> 0 | F87: =일위대가!H575 -> 0 | G87: =일위대가!J575 -> 0 | H87: =E87+F87+G87 -> 0 | I87: 호표 84 | M87: 대한기계설비건설협회
A88: 59A565C98E58AF5225627C8B70FF19 | B88: 구멍뚫기(코어드릴) | C88: D150, 콘크리트 150mm, 벽체 | D88: 개소 | E88: =일위대가!F582 -> 0 | F88: =일위대가!H582 -> 0 | G88: =일위대가!J582 -> 0 | H88: =E88+F88+G88 -> 0 | I88: 호표 85 | M88: 대한기계설비건설협회
A89: 59A565C98E58AF225509B5870A6094 | B89: 슬리브 설치(벽) | C89: D25 - D50 | D89: 개소 | E89: =일위대가!F588 -> 0 | F89: =일위대가!H588 -> 0 | G89: =일위대가!J588 -> 0 | H89: =E89+F89+G89 -> 0 | I89: 호표 86 | M89: 기계 9-3-1
A90: 59A565C98E58AF225509B584B51B62 | B90: 슬리브 설치(벽) | C90: D65 - D100 | D90: 개소 | E90: =일위대가!F594 -> 0 | F90: =일위대가!H594 -> 0 | G90: =일위대가!J594 -> 0 | H90: =E90+F90+G90 -> 0 | I90: 호표 87 | M90: 기계 9-3-1
A91: 59A565C98E58AF225509B5855C8572 | B91: 슬리브 설치(벽) | C91: D125 - D150 | D91: 개소 | E91: =일위대가!F600 -> 0 | F91: =일위대가!H600 -> 0 | G91: =일위대가!J600 -> 0 | H91: =E91+F91+G91 -> 0 | I91: 호표 88 | M91: 기계 9-3-1
A92: 59A565C98E58F7820566B8892F4A48 | B92: 강판전기아크용접(V형 횡향) | C92: 6mm | D92: M | E92: =일위대가!F608 -> 0 | F92: =일위대가!H608 -> 0 | G92: =일위대가!J608 -> 0 | H92: =E92+F92+G92 -> 0 | I92: 호표 89 | M92: 대한기계설비건설협회
A93: 59A565C98E58CA42A57EBE8F021549 | B93: 강판절단(수동) | C93: 6mm | D93: M | E93: =일위대가!F616 -> 0 | F93: =일위대가!H616 -> 0 | G93: =일위대가!J616 -> 0 | H93: =E93+F93+G93 -> 0 | I93: 호표 90 | M93: 대한기계설비건설협회
A94: 59A505131651FB42E5B4C4846F1436 | B94: 실내온도감지기(철거후재설치) | E94: =일위대가!F621 -> 0 | F94: =일위대가!H621 -> 0 | G94: =일위대가!J621 -> 0 | H94: =E94+F94+G94 -> 0 | I94: 호표 91
A95: 59A525C14E5D5BB235AEFB8BAFAA9D | B95: 배관 해체(강관) | C95: D15이하 | D95: M | E95: =일위대가!F627 -> 0 | F95: =일위대가!H627 -> 0 | G95: =일위대가!J627 -> 0 | H95: =E95+F95+G95 -> 0 | I95: 호표 92 | M95: 유지 4-1-1
A96: 59A525C14E5D5BB235AEFB8BAFA9F7 | B96: 배관 해체(강관) | C96: D20 | D96: M | E96: =일위대가!F633 -> 0 | F96: =일위대가!H633 -> 0 | G96: =일위대가!J633 -> 0 | H96: =E96+F96+G96 -> 0 | I96: 호표 93 | M96: 유지 4-1-1
A97: 59A525C14E5D5BB235AEFB8BAFA8D0 | B97: 배관 해체(강관) | C97: D25 | D97: M | E97: =일위대가!F639 -> 0 | F97: =일위대가!H639 -> 0 | G97: =일위대가!J639 -> 0 | H97: =E97+F97+G97 -> 0 | I97: 호표 94 | M97: 유지 4-1-1
A98: 59A525C14E5D5BB235AEFB8BAFAF1F | B98: 배관 해체(강관) | C98: D32 | D98: M | E98: =일위대가!F645 -> 0 | F98: =일위대가!H645 -> 0 | G98: =일위대가!J645 -> 0 | H98: =E98+F98+G98 -> 0 | I98: 호표 95 | M98: 유지 4-1-1
A99: 59A525C14E5D5BB235AEFB8BAFAE78 | B99: 배관 해체(강관) | C99: D40 | D99: M | E99: =일위대가!F651 -> 0 | F99: =일위대가!H651 -> 0 | G99: =일위대가!J651 -> 0 | H99: =E99+F99+G99 -> 0 | I99: 호표 96 | M99: 유지 4-1-1
A100: 59A525C14E5D5BB235AEFB8BAFAD52 | B100: 배관 해체(강관) | C100: D50 | D100: M | E100: =일위대가!F657 -> 0 | F100: =일위대가!H657 -> 0 | G100: =일위대가!J657 -> 0 | H100: =E100+F100+G100 -> 0 | I100: 호표 97 | M100: 유지 4-1-1
...

Sheet 일위대가
A1: [ 영주적십자병원 건강검진센터 리모델링공사 ]
A2: 품 명 | B2: 규 격 | C2: 단위 | D2: 수량 | E2: 재 료 비 | G2: 노 무 비 | I2: 경 비 | K2: 합 계 | M2: 비 고 | N2: 일위대가 | O2: 품목코드 | P2: 일위 | Q2: 단산 | R2: 자재 | S2: 손료적용 | T2: 손료저장 | U2: 적용율 | V2: JUK1 | W2: JUK2 | X2: JUK3 | Y2: JUK4 | Z2: JUK5 | AA2: JUK6 | AB2: JUK7 | AC2: JUK8 | AD2: JUK9 | AE2: JUK10 | AF2: JUK11 | AG2: JUK12 | AH2: JUK13 | AI2: JUK14 | AJ2: JUK15 | AK2: JUK16 | AL2: JUK17 | AM2: JUK18 | AN2: JUK19 | AO2: JUK20 | AP2: 할증적용 | AQ2: 할증저장 | AR2: 할증율 | AS2: HAL1 | AT2: HAL2 | AU2: HAL3 | AV2: 자재구분 | AW2: 일위대가+자재 | AX2: 장비일위 | AY2: 설정 | AZ2: 할증체크
E3: 단 가 | F3: 금 액 | G3: 단 가 | H3: 금 액 | I3: 단 가 | J3: 금 액 | K3: 단 가 | L3: 금 액
A4: 코아드릴 25.40cm HR 공통 8-3(5901) ( 호표 1 ) | N4: 5E7B35D0CE5B2332653F208FDBA6DC6340D320DC
A5: 코어드릴 | B5: 25.40cm | C5: 대 | D5: 0.5268 | E5: =단가대비표!O5 -> 0 | F5: =TRUNC(E5*D5,1) -> 0 | G5: =단가대비표!P5 -> 0 | H5: =TRUNC(G5*D5,1) -> 0 | I5: =단가대비표!V5 -> 0 | J5: =TRUNC(I5*D5,1) -> 0 | K5: =TRUNC(E5+G5+I5,1) -> 0 | L5: =TRUNC(F5+H5+J5,1) -> 0 | M5: 천원 | N5: 5E7B35D0CE5B2332653F208FDBA6DC6340D320DC | O5: 5E7B35D0CE5B2332653F208FDBA6DC6340D320 | P5: F | Q5: F | R5: T | AW5: 5E7B35D0CE5B2332653F208FDBA6DC6340D320DC5E7B35D0CE5B2332653F208FDBA6DC6340D320
A6: [ 합 계 ] | F6: =TRUNC(SUMIF(N5:N5, N4, F5:F5),0) -> 0 | H6: =TRUNC(SUMIF(N5:N5, N4, H5:H5),0) -> 0 | J6: =TRUNC(SUMIF(N5:N5, N4, J5:J5),0) -> 0 | L6: =F6+H6+J6 -> 0 | N6: TOTAL | O6: TOTAL | AX6: T
A8: 디퓨져(철거) D150이하 EA ( 호표 2 ) | N8: 594FB5F90B50D3E27503CA83106FD7
A9: 덕트공 | B9: 일반공사 직종 | C9: 인 | D9: 0.172 | E9: =단가대비표!O174 -> 0 | F9: =TRUNC(E9*D9,1) -> 0 | G9: =단가대비표!P174 -> 0 | H9: =TRUNC(G9*D9,1) -> 0 | I9: =단가대비표!V174 -> 0 | J9: =TRUNC(I9*D9,1) -> 0 | K9: =TRUNC(E9+G9+I9,1) -> 0 | L9: =TRUNC(F9+H9+J9,1) -> 0 | N9: 594FB5F90B50D3E27503CA83106FD7 | O9: 59B325ECC451AAD2053E648450FCF1A190946E | P9: F | Q9: F | R9: T | V9: 1 | AW9: 594FB5F90B50D3E27503CA83106FD759B325ECC451AAD2053E648450FCF1A190946E
A10: 공구손료 | B10: 인력품의 2% | C10: 식 | D10: 1 | E10: =TRUNC(SUMIF(V9:V10, RIGHTB(O10, 1), H9:H10)*U10, 2) -> 0 | F10: =TRUNC(E10*D10,1) -> 0 | G10: 0 | H10: =TRUNC(G10*D10,1) -> 0 | I10: 0 | J10: =TRUNC(I10*D10,1) -> 0 | K10: =TRUNC(E10+G10+I10,1) -> 0 | L10: =TRUNC(F10+H10+J10,1) -> 0 | N10: 594FB5F90B50D3E27503CA83106FD7 | O10: 587AB5E9EB597672B58E9580482A001 | P10: F | Q10: F | R10: F | S10: 1 | T10: 0 | U10: 0.02 | AW10: 594FB5F90B50D3E27503CA83106FD7587AB5E9EB597672B58E9580482A001
A11: [ 합 계 ] | F11: =TRUNC(SUMIF(N9:N10, N8, F9:F10),0) -> 0 | H11: =TRUNC(SUMIF(N9:N10, N8, H9:H10),0) -> 0 | J11: =TRUNC(SUMIF(N9:N10, N8, J9:J10),0) -> 0 | L11: =F11+H11+J11 -> 0 | N11: TOTAL | O11: TOTAL
A13: 휀코일유니트(신설) 1-WAY, 1,186kcal/h 대 ( 호표 3 ) | N13: 594FB5F90B50D3E27503CA83106FDF
A14: 기계설비공 | B14: 일반공사 직종 | C14: 인 | D14: 1.5 | E14: =단가대비표!O176 -> 0 | F14: =TRUNC(E14*D14,1) -> 0 | G14: =단가대비표!P176 -> 0 | H14: =TRUNC(G14*D14,1) -> 0 | I14: =단가대비표!V176 -> 0 | J14: =TRUNC(I14*D14,1) -> 0 | K14: =TRUNC(E14+G14+I14,1) -> 0 | L14: =TRUNC(F14+H14+J14,1) -> 0 | N14: 594FB5F90B50D3E27503CA83106FDF | O14: 59B325ECC451AAD2053E648450FCF1A1909575 | P14: F | Q14: F | R14: T | V14: 1 | AW14: 594FB5F90B50D3E27503CA83106FDF59B325ECC451AAD2053E648450FCF1A1909575
A15: 보통인부 | B15: 일반공사 직종 | C15: 인 | D15: 0.5 | E15: =단가대비표!O166 -> 0 | F15: =TRUNC(E15*D15,1) -> 0 | G15: =단가대비표!P166 -> 0 | H15: =TRUNC(G15*D15,1) -> 0 | I15: =단가대비표!V166 -> 0 | J15: =TRUNC(I15*D15,1) -> 0 | K15: =TRUNC(E15+G15+I15,1) -> 0 | L15: =TRUNC(F15+H15+J15,1) -> 0 | N15: 594FB5F90B50D3E27503CA83106FDF | O15: 59B325ECC451AAD2053E648450FCF1A19090F0 | P15: F | Q15: F | R15: T | V15: 1 | AW15: 594FB5F90B50D3E27503CA83106FDF59B325ECC451AAD2053E648450FCF1A19090F0
A16: 공구손료 | B16: 인력품의 2% | C16: 식 | D16: 1 | E16: =TRUNC(SUMIF(V14:V16, RIGHTB(O16, 1), H14:H16)*U16, 2) -> 0 | F16: =TRUNC(E16*D16,1) -> 0 | G16: 0 | H16: =TRUNC(G16*D16,1) -> 0 | I16: 0 | J16: =TRUNC(I16*D16,1) -> 0 | K16: =TRUNC(E16+G16+I16,1) -> 0 | L16: =TRUNC(F16+H16+J16,1) -> 0 | N16: 594FB5F90B50D3E27503CA83106FDF | O16: 587AB5E9EB597672B58E9580482A001 | P16: F | Q16: F | R16: F | S16: 1 | T16: 0 | U16: 0.02 | AW16: 594FB5F90B50D3E27503CA83106FDF587AB5E9EB597672B58E9580482A001
A17: [ 합 계 ] | F17: =TRUNC(SUMIF(N14:N16, N13, F14:F16),0) -> 0 | H17: =TRUNC(SUMIF(N14:N16, N13, H14:H16),0) -> 0 | J17: =TRUNC(SUMIF(N14:N16, N13, J14:J16),0) -> 0 | L17: =F17+H17+J17 -> 0 | N17: TOTAL | O17: TOTAL
A19: 휀코일유니트(철거후재설치) 2-WAY, 2,326kcal/h 대 ( 호표 4 ) | N19: 594FB5F90B50D3E27503CA83106ECF
A20: 기계설비공 | B20: 일반공사 직종 | C20: 인 | D20: 2.4 | E20: =단가대비표!O176 -> 0 | F20: =TRUNC(E20*D20,1) -> 0 | G20: =단가대비표!P176 -> 0 | H20: =TRUNC(G20*D20,1) -> 0 | I20: =단가대비표!V176 -> 0 | J20: =TRUNC(I20*D20,1) -> 0 | K20: =TRUNC(E20+G20+I20,1) -> 0 | L20: =TRUNC(F20+H20+J20,1) -> 0 | N20: 594FB5F90B50D3E27503CA83106ECF | O20: 59B325ECC451AAD2053E648450FCF1A1909575 | P20: F | Q20: F | R20: T | V20: 1 | AW20: 594FB5F90B50D3E27503CA83106ECF59B325ECC451AAD2053E648450FCF1A1909575
A21: 보통인부 | B21: 일반공사 직종 | C21: 인 | D21: 0.8 | E21: =단가대비표!O166 -> 0 | F21: =TRUNC(E21*D21,1) -> 0 | G21: =단가대비표!P166 -> 0 | H21: =TRUNC(G21*D21,1) -> 0 | I21: =단가대비표!V166 -> 0 | J21: =TRUNC(I21*D21,1) -> 0 | K21: =TRUNC(E21+G21+I21,1) -> 0 | L21: =TRUNC(F21+H21+J21,1) -> 0 | N21: 594FB5F90B50D3E27503CA83106ECF | O21: 59B325ECC451AAD2053E648450FCF1A19090F0 | P21: F | Q21: F | R21: T | V21: 1 | AW21: 594FB5F90B50D3E27503CA83106ECF59B325ECC451AAD2053E648450FCF1A19090F0
A22: 공구손료 | B22: 인력품의 2% | C22: 식 | D22: 1 | E22: =TRUNC(SUMIF(V20:V22, RIGHTB(O22, 1), H20:H22)*U22, 2) -> 0 | F22: =TRUNC(E22*D22,1) -> 0 | G22: 0 | H22: =TRUNC(G22*D22,1) -> 0 | I22: 0 | J22: =TRUNC(I22*D22,1) -> 0 | K22: =TRUNC(E22+G22+I22,1) -> 0 | L22: =TRUNC(F22+H22+J22,1) -> 0 | N22: 594FB5F90B50D3E27503CA83106ECF | O22: 587AB5E9EB597672B58E9580482A001 | P22: F | Q22: F | R22: F | S22: 1 | T22: 0 | U22: 0.02 | AW22: 594FB5F90B50D3E27503CA83106ECF587AB5E9EB597672B58E9580482A001
A23: [ 합 계 ] | F23: =TRUNC(SUMIF(N20:N22, N19, F20:F22),0) -> 0 | H23: =TRUNC(SUMIF(N20:N22, N19, H20:H22),0) -> 0 | J23: =TRUNC(SUMIF(N20:N22, N19, J20:J22),0) -> 0 | L23: =F23+H23+J23 -> 0 | N23: TOTAL | O23: TOTAL
A25: 휀코일유니트(철거후재설치) 4-WAY, 2,289kcal/h 대 ( 호표 5 ) | N25: 594FB5F90B50D3E27503CA83106ECE
A26: 기계설비공 | B26: 일반공사 직종 | C26: 인 | D26: 2.4 | E26: =단가대비표!O176 -> 0 | F26: =TRUNC(E26*D26,1) -> 0 | G26: =단가대비표!P176 -> 0 | H26: =TRUNC(G26*D26,1) -> 0 | I26: =단가대비표!V176 -> 0 | J26: =TRUNC(I26*D26,1) -> 0 | K26: =TRUNC(E26+G26+I26,1) -> 0 | L26: =TRUNC(F26+H26+J26,1) -> 0 | N26: 594FB5F90B50D3E27503CA83106ECE | O26: 59B325ECC451AAD2053E648450FCF1A1909575 | P26: F | Q26: F | R26: T | V26: 1 | AW26: 594FB5F90B50D3E27503CA83106ECE59B325ECC451AAD2053E648450FCF1A1909575
A27: 보통인부 | B27: 일반공사 직종 | C27: 인 | D27: 0.8 | E27: =단가대비표!O166 -> 0 | F27: =TRUNC(E27*D27,1) -> 0 | G27: =단가대비표!P166 -> 0 | H27: =TRUNC(G27*D27,1) -> 0 | I27: =단가대비표!V166 -> 0 | J27: =TRUNC(I27*D27,1) -> 0 | K27: =TRUNC(E27+G27+I27,1) -> 0 | L27: =TRUNC(F27+H27+J27,1) -> 0 | N27: 594FB5F90B50D3E27503CA83106ECE | O27: 59B325ECC451AAD2053E648450FCF1A19090F0 | P27: F | Q27: F | R27: T | V27: 1 | AW27: 594FB5F90B50D3E27503CA83106ECE59B325ECC451AAD2053E648450FCF1A19090F0
A28: 공구손료 | B28: 인력품의 2% | C28: 식 | D28: 1 | E28: =TRUNC(SUMIF(V26:V28, RIGHTB(O28, 1), H26:H28)*U28, 2) -> 0 | F28: =TRUNC(E28*D28,1) -> 0 | G28: 0 | H28: =TRUNC(G28*D28,1) -> 0 | I28: 0 | J28: =TRUNC(I28*D28,1) -> 0 | K28: =TRUNC(E28+G28+I28,1) -> 0 | L28: =TRUNC(F28+H28+J28,1) -> 0 | N28: 594FB5F90B50D3E27503CA83106ECE | O28: 587AB5E9EB597672B58E9580482A001 | P28: F | Q28: F | R28: F | S28: 1 | T28: 0 | U28: 0.02 | AW28: 594FB5F90B50D3E27503CA83106ECE587AB5E9EB597672B58E9580482A001
A29: [ 합 계 ] | F29: =TRUNC(SUMIF(N26:N28, N25, F26:F28),0) -> 0 | H29: =TRUNC(SUMIF(N26:N28, N25, H26:H28),0) -> 0 | J29: =TRUNC(SUMIF(N26:N28, N25, J26:J28),0) -> 0 | L29: =F29+H29+J29 -> 0 | N29: TOTAL | O29: TOTAL
A31: 휀코일유니트(철거후재설치) 4-WAY, 3,215kcal/h 대 ( 호표 6 ) | N31: 594FB5F90B50D3E27503CA83106ECD
A32: 기계설비공 | B32: 일반공사 직종 | C32: 인 | D32: 2.4 | E32: =단가대비표!O176 -> 0 | F32: =TRUNC(E32*D32,1) -> 0 | G32: =단가대비표!P176 -> 0 | H32: =TRUNC(G32*D32,1) -> 0 | I32: =단가대비표!V176 -> 0 | J32: =TRUNC(I32*D32,1) -> 0 | K32: =TRUNC(E32+G32+I32,1) -> 0 | L32: =TRUNC(F32+H32+J32,1) -> 0 | N32: 594FB5F90B50D3E27503CA83106ECD | O32: 59B325ECC451AAD2053E648450FCF1A1909575 | P32: F | Q32: F | R32: T | V32: 1 | AW32: 594FB5F90B50D3E27503CA83106ECD59B325ECC451AAD2053E648450FCF1A1909575
A33: 보통인부 | B33: 일반공사 직종 | C33: 인 | D33: 0.8 | E33: =단가대비표!O166 -> 0 | F33: =TRUNC(E33*D33,1) -> 0 | G33: =단가대비표!P166 -> 0 | H33: =TRUNC(G33*D33,1) -> 0 | I33: =단가대비표!V166 -> 0 | J33: =TRUNC(I33*D33,1) -> 0 | K33: =TRUNC(E33+G33+I33,1) -> 0 | L33: =TRUNC(F33+H33+J33,1) -> 0 | N33: 594FB5F90B50D3E27503CA83106ECD | O33: 59B325ECC451AAD2053E648450FCF1A19090F0 | P33: F | Q33: F | R33: T | V33: 1 | AW33: 594FB5F90B50D3E27503CA83106ECD59B325ECC451AAD2053E648450FCF1A19090F0
A34: 공구손료 | B34: 인력품의 2% | C34: 식 | D34: 1 | E34: =TRUNC(SUMIF(V32:V34, RIGHTB(O34, 1), H32:H34)*U34, 2) -> 0 | F34: =TRUNC(E34*D34,1) -> 0 | G34: 0 | H34: =TRUNC(G34*D34,1) -> 0 | I34: 0 | J34: =TRUNC(I34*D34,1) -> 0 | K34: =TRUNC(E34+G34+I34,1) -> 0 | L34: =TRUNC(F34+H34+J34,1) -> 0 | N34: 594FB5F90B50D3E27503CA83106ECD | O34: 587AB5E9EB597672B58E9580482A001 | P34: F | Q34: F | R34: F | S34: 1 | T34: 0 | U34: 0.02 | AW34: 594FB5F90B50D3E27503CA83106ECD587AB5E9EB597672B58E9580482A001
A35: [ 합 계 ] | F35: =TRUNC(SUMIF(N32:N34, N31, F32:F34),0) -> 0 | H35: =TRUNC(SUMIF(N32:N34, N31, H32:H34),0) -> 0 | J35: =TRUNC(SUMIF(N32:N34, N31, J32:J34),0) -> 0 | L35: =F35+H35+J35 -> 0 | N35: TOTAL | O35: TOTAL
A37: V.D(볼륨댐퍼) 200*200 개소 ( 호표 7 ) | N37: 593995DDC4562482D5BFE580C3A4FF
A38: 덕트공 | B38: 일반공사 직종 | C38: 인 | D38: 0.375 | E38: =단가대비표!O174 -> 0 | F38: =TRUNC(E38*D38,1) -> 0 | G38: =단가대비표!P174 -> 0 | H38: =TRUNC(G38*D38,1) -> 0 | I38: =단가대비표!V174 -> 0 | J38: =TRUNC(I38*D38,1) -> 0 | K38: =TRUNC(E38+G38+I38,1) -> 0 | L38: =TRUNC(F38+H38+J38,1) -> 0 | N38: 593995DDC4562482D5BFE580C3A4FF | O38: 59B325ECC451AAD2053E648450FCF1A190946E | P38: F | Q38: F | R38: T | V38: 1 | AW38: 593995DDC4562482D5BFE580C3A4FF59B325ECC451AAD2053E648450FCF1A190946E
A39: 공구손료 | B39: 인력품의 2% | C39: 식 | D39: 1 | E39: =TRUNC(SUMIF(V38:V39, RIGHTB(O39, 1), H38:H39)*U39, 2) -> 0 | F39: =TRUNC(E39*D39,1) -> 0 | G39: 0 | H39: =TRUNC(G39*D39,1) -> 0 | I39: 0 | J39: =TRUNC(I39*D39,1) -> 0 | K39: =TRUNC(E39+G39+I39,1) -> 0 | L39: =TRUNC(F39+H39+J39,1) -> 0 | N39: 593995DDC4562482D5BFE580C3A4FF | O39: 587AB5E9EB597672B58E9580482A001 | P39: F | Q39: F | R39: F | S39: 1 | T39: 0 | U39: 0.02 | AW39: 593995DDC4562482D5BFE580C3A4FF587AB5E9EB597672B58E9580482A001
A40: [ 합 계 ] | F40: =TRUNC(SUMIF(N38:N39, N37, F38:F39),0) -> 0 | H40: =TRUNC(SUMIF(N38:N39, N37, H38:H39),0) -> 0 | J40: =TRUNC(SUMIF(N38:N39, N37, J38:J39),0) -> 0 | L40: =F40+H40+J40 -> 0 | N40: TOTAL | O40: TOTAL
A42: 강제전선관-노출 아연도, 16mm M 전기 5-1 ( 호표 8 ) | N42: 592A359E6D55EBC275D4208718E327
A43: 강제전선관 | B43: 강제전선관, 후강전선관, 아연도, 16mm | C43: M | D43: 1.1 | E43: =단가대비표!O66 -> 0 | F43: =TRUNC(E43*D43,1) -> 0 | G43: =단가대비표!P66 -> 0 | H43: =TRUNC(G43*D43,1) -> 0 | I43: =단가대비표!V66 -> 0 | J43: =TRUNC(I43*D43,1) -> 0 | K43: =TRUNC(E43+G43+I43,1) -> 0 | L43: =TRUNC(F43+H43+J43,1) -> 0 | N43: 592A359E6D55EBC275D4208718E327 | O43: 5E4F65CC0D564C5265F9578EC7E774EBEA3E5E | P43: F | Q43: F | R43: T | V43: 1 | W43: 2 | AW43: 592A359E6D55EBC275D4208718E3275E4F65CC0D564C5265F9578EC7E774EBEA3E5E
A44: 전선관부속품비 | B44: 전선관의 15% | C44: 식 | D44: 1 | E44: =TRUNC(SUMIF(V43:V47, RIGHTB(O44, 1), F43:F47)*U44, 2) -> 0 | F44: =TRUNC(E44*D44,1) -> 0 | G44: 0 | H44: =TRUNC(G44*D44,1) -> 0 | I44: 0 | J44: =TRUNC(I44*D44,1) -> 0 | K44: =TRUNC(E44+G44+I44,1) -> 0 | L44: =TRUNC(F44+H44+J44,1) -> 0 | N44: 592A359E6D55EBC275D4208718E327 | O44: 587AB5E9EB597672B58E9580482A001 | P44: F | Q44: F | R44: F | S44: 0 | T44: 0 | U44: 0.15 | AW44: 592A359E6D55EBC275D4208718E327587AB5E9EB597672B58E9580482A001
A45: 잡재료비 | B45: 배관배선의 2% | C45: 식 | D45: 1 | E45: =TRUNC(SUMIF(W43:W47, RIGHTB(O45, 1), F43:F47)*U45, 2) -> 0 | F45: =TRUNC(E45*D45,1) -> 0 | G45: 0 | H45: =TRUNC(G45*D45,1) -> 0 | I45: 0 | J45: =TRUNC(I45*D45,1) -> 0 | K45: =TRUNC(E45+G45+I45,1) -> 0 | L45: =TRUNC(F45+H45+J45,1) -> 0 | N45: 592A359E6D55EBC275D4208718E327 | O45: 587AB5E9EB597672B58E95804829002 | P45: F | Q45: F | R45: F | S45: 0 | T45: 0 | U45: 0.02 | AW45: 592A359E6D55EBC275D4208718E327587AB5E9EB597672B58E95804829002
A46: 내선전공 | B46: 일반공사 직종 | C46: 인 | D46: 0.096 | E46: =단가대비표!O177 -> 0 | F46: =TRUNC(E46*D46,1) -> 0 | G46: =단가대비표!P177 -> 0 | H46: =TRUNC(G46*D46,1) -> 0 | I46: =단가대비표!V177 -> 0 | J46: =TRUNC(I46*D46,1) -> 0 | K46: =TRUNC(E46+G46+I46,1) -> 0 | L46: =TRUNC(F46+H46+J46,1) -> 0 | N46: 592A359E6D55EBC275D4208718E327 | O46: 59B325ECC451AAD2053E648450FCF1A1909724 | P46: F | Q46: F | R46: T | X46: 3 | AW46: 592A359E6D55EBC275D4208718E32759B325ECC451AAD2053E648450FCF1A1909724
A47: 공구손료 | B47: 인력품의 3% | C47: 식 | D47: 1 | E47: =TRUNC(SUMIF(X43:X47, RIGHTB(O47, 1), H43:H47)*U47, 2) -> 0 | F47: =TRUNC(E47*D47,1) -> 0 | G47: 0 | H47: =TRUNC(G47*D47,1) -> 0 | I47: 0 | J47: =TRUNC(I47*D47,1) -> 0 | K47: =TRUNC(E47+G47+I47,1) -> 0 | L47: =TRUNC(F47+H47+J47,1) -> 0 | N47: 592A359E6D55EBC275D4208718E327 | O47: 587AB5E9EB597672B58E95804828003 | P47: F | Q47: F | R47: F | S47: 1 | T47: 0 | U47: 0.03 | AW47: 592A359E6D55EBC275D4208718E327587AB5E9EB597672B58E95804828003
A48: [ 합 계 ] | F48: =TRUNC(SUMIF(N43:N47, N42, F43:F47),0) -> 0 | H48: =TRUNC(SUMIF(N43:N47, N42, H43:H47),0) -> 0 | J48: =TRUNC(SUMIF(N43:N47, N42, J43:J47),0) -> 0 | L48: =F48+H48+J48 -> 0 | N48: TOTAL | O48: TOTAL
A50: 케이블600V(통신선) VCTF1.5/2C M 전기 5-13 ( 호표 9 ) | N50: 592A359E6F50D3B2B5403B82825FBA
A51: 제어케이블 | B51: 제어케이블, 0.6/1kv, TFR-CVV, 2C*1.5㎟ | C51: M | D51: 1.05 | E51: =단가대비표!O11 -> 0 | F51: =TRUNC(E51*D51,1) -> 0 | G51: =단가대비표!P11 -> 0 | H51: =TRUNC(G51*D51,1) -> 0 | I51: =단가대비표!V11 -> 0 | J51: =TRUNC(I51*D51,1) -> 0 | K51: =TRUNC(E51+G51+I51,1) -> 0 | L51: =TRUNC(F51+H51+J51,1) -> 0 | N51: 592A359E6F50D3B2B5403B82825FBA | O51: 5E580552965DE3B235BE1387ED11960C3BF9AC | P51: F | Q51: F | R51: T | V51: 1 | AW51: 592A359E6F50D3B2B5403B82825FBA5E580552965DE3B235BE1387ED11960C3BF9AC
A52: 잡재료비 | B52: 배관배선의 2% | C52: 식 | D52: 1 | E52: =TRUNC(SUMIF(V51:V54, RIGHTB(O52, 1), F51:F54)*U52, 2) -> 0 | F52: =TRUNC(E52*D52,1) -> 0 | G52: 0 | H52: =TRUNC(G52*D52,1) -> 0 | I52: 0 | J52: =TRUNC(I52*D52,1) -> 0 | K52: =TRUNC(E52+G52+I52,1) -> 0 | L52: =TRUNC(F52+H52+J52,1) -> 0 | N52: 592A359E6F50D3B2B5403B82825FBA | O52: 587AB5E9EB597672B58E9580482A001 | P52: F | Q52: F | R52: F | S52: 0 | T52: 0 | U52: 0.02 | AW52: 592A359E6F50D3B2B5403B82825FBA587AB5E9EB597672B58E9580482A001
A53: 저압케이블전공 | B53: 일반공사 직종 | C53: 인 | D53: 0.014 | E53: =단가대비표!O178 -> 0 | F53: =TRUNC(E53*D53,1) -> 0 | G53: =단가대비표!P178 -> 0 | H53: =TRUNC(G53*D53,1) -> 0 | I53: =단가대비표!V178 -> 0 | J53: =TRUNC(I53*D53,1) -> 0 | K53: =TRUNC(E53+G53+I53,1) -> 0 | L53: =TRUNC(F53+H53+J53,1) -> 0 | N53: 592A359E6F50D3B2B5403B82825FBA | O53: 59B325ECC451AAD2053E648450FCF1A1909729 | P53: F | Q53: F | R53: T | W53: 2 | AW53: 592A359E6F50D3B2B5403B82825FBA59B325ECC451AAD2053E648450FCF1A1909729
A54: 공구손료 | B54: 인력품의 3% | C54: 식 | D54: 1 | E54: =TRUNC(SUMIF(W51:W54, RIGHTB(O54, 1), H51:H54)*U54, 2) -> 0 | F54: =TRUNC(E54*D54,1) -> 0 | G54: 0 | H54: =TRUNC(G54*D54,1) -> 0 | I54: 0 | J54: =TRUNC(I54*D54,1) -> 0 | K54: =TRUNC(E54+G54+I54,1) -> 0 | L54: =TRUNC(F54+H54+J54,1) -> 0 | N54: 592A359E6F50D3B2B5403B82825FBA | O54: 587AB5E9EB597672B58E95804829002 | P54: F | Q54: F | R54: F | S54: 1 | T54: 0 | U54: 0.03 | AW54: 592A359E6F50D3B2B5403B82825FBA587AB5E9EB597672B58E95804829002
A55: [ 합 계 ] | F55: =TRUNC(SUMIF(N51:N54, N50, F51:F54),0) -> 0 | H55: =TRUNC(SUMIF(N51:N54, N50, H51:H54),0) -> 0 | J55: =TRUNC(SUMIF(N51:N54, N50, J51:J54),0) -> 0 | L55: =F55+H55+J55 -> 0 | N55: TOTAL | O55: TOTAL
A57: 케이블600V(룸컨트롤선) 24AWG*4C M 전기 5-13 ( 호표 10 ) | N57: 592A359E6F50D3B2B5403B82836585
A58: 제어케이블 | B58: 제어케이블, 0.6/1kv, TFR-CVV, 4C*2.5㎟ | C58: M | D58: 1.05 | E58: =단가대비표!O12 -> 0 | F58: =TRUNC(E58*D58,1) -> 0 | G58: =단가대비표!P12 -> 0 | H58: =TRUNC(G58*D58,1) -> 0 | I58: =단가대비표!V12 -> 0 | J58: =TRUNC(I58*D58,1) -> 0 | K58: =TRUNC(E58+G58+I58,1) -> 0 | L58: =TRUNC(F58+H58+J58,1) -> 0 | N58: 592A359E6F50D3B2B5403B82836585 | O58: 5E580552965DE3B235BE1387ED11960C3BF884 | P58: F | Q58: F | R58: T | V58: 1 | AW58: 592A359E6F50D3B2B5403B828365855E580552965DE3B235BE1387ED11960C3BF884
A59: 잡재료비 | B59: 배관배선의 2% | C59: 식 | D59: 1 | E59: =TRUNC(SUMIF(V58:V61, RIGHTB(O59, 1), F58:F61)*U59, 2) -> 0 | F59: =TRUNC(E59*D59,1) -> 0 | G59: 0 | H59: =TRUNC(G59*D59,1) -> 0 | I59: 0 | J59: =TRUNC(I59*D59,1) -> 0 | K59: =TRUNC(E59+G59+I59,1) -> 0 | L59: =TRUNC(F59+H59+J59,1) -> 0 | N59: 592A359E6F50D3B2B5403B82836585 | O59: 587AB5E9EB597672B58E9580482A001 | P59: F | Q59: F | R59: F | S59: 0 | T59: 0 | U59: 0.02 | AW59: 592A359E6F50D3B2B5403B82836585587AB5E9EB597672B58E9580482A001
A60: 저압케이블전공 | B60: 일반공사 직종 | C60: 인 | D60: 0.026 | E60: =단가대비표!O178 -> 0 | F60: =TRUNC(E60*D60,1) -> 0 | G60: =단가대비표!P178 -> 0 | H60: =TRUNC(G60*D60,1) -> 0 | I60: =단가대비표!V178 -> 0 | J60: =TRUNC(I60*D60,1) -> 0 | K60: =TRUNC(E60+G60+I60,1) -> 0 | L60: =TRUNC(F60+H60+J60,1) -> 0 | N60: 592A359E6F50D3B2B5403B82836585 | O60: 59B325ECC451AAD2053E648450FCF1A1909729 | P60: F | Q60: F | R60: T | W60: 2 | AW60: 592A359E6F50D3B2B5403B8283658559B325ECC451AAD2053E648450FCF1A1909729
A61: 공구손료 | B61: 인력품의 3% | C61: 식 | D61: 1 | E61: =TRUNC(SUMIF(W58:W61, RIGHTB(O61, 1), H58:H61)*U61, 2) -> 0 | F61: =TRUNC(E61*D61,1) -> 0 | G61: 0 | H61: =TRUNC(G61*D61,1) -> 0 | I61: 0 | J61: =TRUNC(I61*D61,1) -> 0 | K61: =TRUNC(E61+G61+I61,1) -> 0 | L61: =TRUNC(F61+H61+J61,1) -> 0 | N61: 592A359E6F50D3B2B5403B82836585 | O61: 587AB5E9EB597672B58E95804829002 | P61: F | Q61: F | R61: F | S61: 1 | T61: 0 | U61: 0.03 | AW61: 592A359E6F50D3B2B5403B82836585587AB5E9EB597672B58E95804829002
A62: [ 합 계 ] | F62: =TRUNC(SUMIF(N58:N61, N57, F58:F61),0) -> 0 | H62: =TRUNC(SUMIF(N58:N61, N57, H58:H61),0) -> 0 | J62: =TRUNC(SUMIF(N58:N61, N57, J58:J61),0) -> 0 | L62: =F62+H62+J62 -> 0 | N62: TOTAL | O62: TOTAL
A64: 강제전선관-철거 ST 16C M ( 호표 11 ) | N64: 592AA56AF65B5A02A5815A81AB910B
A65: 내선전공 | B65: 일반공사 직종 | C65: 인 | D65: 0.024 | E65: =단가대비표!O177 -> 0 | F65: =TRUNC(E65*D65,1) -> 0 | G65: =단가대비표!P177 -> 0 | H65: =TRUNC(G65*D65,1) -> 0 | I65: =단가대비표!V177 -> 0 | J65: =TRUNC(I65*D65,1) -> 0 | K65: =TRUNC(E65+G65+I65,1) -> 0 | L65: =TRUNC(F65+H65+J65,1) -> 0 | N65: 592AA56AF65B5A02A5815A81AB910B | O65: 59B325ECC451AAD2053E648450FCF1A1909724 | P65: F | Q65: F | R65: T | V65: 1 | AW65: 592AA56AF65B5A02A5815A81AB910B59B325ECC451AAD2053E648450FCF1A1909724
A66: 공구손료 | B66: 인력품의 3% | C66: 식 | D66: 1 | E66: =TRUNC(SUMIF(V65:V66, RIGHTB(O66, 1), H65:H66)*U66, 2) -> 0 | F66: =TRUNC(E66*D66,1) -> 0 | G66: 0 | H66: =TRUNC(G66*D66,1) -> 0 | I66: 0 | J66: =TRUNC(I66*D66,1) -> 0 | K66: =TRUNC(E66+G66+I66,1) -> 0 | L66: =TRUNC(F66+H66+J66,1) -> 0 | N66: 592AA56AF65B5A02A5815A81AB910B | O66: 587AB5E9EB597672B58E9580482A001 | P66: F | Q66: F | R66: F | S66: 1 | T66: 0 | U66: 0.03 | AW66: 592AA56AF65B5A02A5815A81AB910B587AB5E9EB597672B58E9580482A001
A67: [ 합 계 ] | F67: =TRUNC(SUMIF(N65:N66, N64, F65:F66),0) -> 0 | H67: =TRUNC(SUMIF(N65:N66, N64, H65:H66),0) -> 0 | J67: =TRUNC(SUMIF(N65:N66, N64, J65:J66),0) -> 0 | L67: =F67+H67+J67 -> 0 | N67: TOTAL | O67: TOTAL
A69: 제어용케이블-철거 M ( 호표 12 ) | N69: 592AA56AF65B5A02A5815A81AB910A
A70: 저압케이블전공 | B70: 일반공사 직종 | C70: 인 | D70: 0.013 | E70: =단가대비표!O178 -> 0 | F70: =TRUNC(E70*D70,1) -> 0 | G70: =단가대비표!P178 -> 0 | H70: =TRUNC(G70*D70,1) -> 0 | I70: =단가대비표!V178 -> 0 | J70: =TRUNC(I70*D70,1) -> 0 | K70: =TRUNC(E70+G70+I70,1) -> 0 | L70: =TRUNC(F70+H70+J70,1) -> 0 | N70: 592AA56AF65B5A02A5815A81AB910A | O70: 59B325ECC451AAD2053E648450FCF1A1909729 | P70: F | Q70: F | R70: T | V70: 1 | AW70: 592AA56AF65B5A02A5815A81AB910A59B325ECC451AAD2053E648450FCF1A1909729
A71: 공구손료 | B71: 인력품의 3% | C71: 식 | D71: 1 | E71: =TRUNC(SUMIF(V70:V71, RIGHTB(O71, 1), H70:H71)*U71, 2) -> 0 | F71: =TRUNC(E71*D71,1) -> 0 | G71: 0 | H71: =TRUNC(G71*D71,1) -> 0 | I71: 0 | J71: =TRUNC(I71*D71,1) -> 0 | K71: =TRUNC(E71+G71+I71,1) -> 0 | L71: =TRUNC(F71+H71+J71,1) -> 0 | N71: 592AA56AF65B5A02A5815A81AB910A | O71: 587AB5E9EB597672B58E9580482A001 | P71: F | Q71: F | R71: F | S71: 1 | T71: 0 | U71: 0.03 | AW71: 592AA56AF65B5A02A5815A81AB910A587AB5E9EB597672B58E9580482A001
A72: [ 합 계 ] | F72: =TRUNC(SUMIF(N70:N71, N69, F70:F71),0) -> 0 | H72: =TRUNC(SUMIF(N70:N71, N69, H70:H71),0) -> 0 | J72: =TRUNC(SUMIF(N70:N71, N69, J70:J71),0) -> 0 | L72: =F72+H72+J72 -> 0 | N72: TOTAL | O72: TOTAL
A74: 동관옥내배관(L-TYPE) D20 M 기계 1-2-2 ( 호표 13 ) | N74: 59A5E581D85E9A62D5D78C837C9F5D
A75: 이음매없는동및동합금관 | B75: 이음매없는동및동합금관, 배관용동관, L형, ∮20mm | C75: M | D75: 1.05 | E75: =단가대비표!O81 -> 0 | F75: =TRUNC(E75*D75,1) -> 0 | G75: =단가대비표!P81 -> 0 | H75: =TRUNC(G75*D75,1) -> 0 | I75: =단가대비표!V81 -> 0 | J75: =TRUNC(I75*D75,1) -> 0 | K75: =TRUNC(E75+G75+I75,1) -> 0 | L75: =TRUNC(F75+H75+J75,1) -> 0 | N75: 59A5E581D85E9A62D5D78C837C9F5D | O75: 5E3D8501415817329597D382CC6198A0100DEE | P75: F | Q75: F | R75: T | V75: 1 | AW75: 59A5E581D85E9A62D5D78C837C9F5D5E3D8501415817329597D382CC6198A0100DEE
A76: 잡재료비 | B76: 주재료비의 3% | C76: 식 | D76: 1 | E76: =TRUNC(SUMIF(V75:V79, RIGHTB(O76, 1), F75:F79)*U76, 2) -> 0 | F76: =TRUNC(E76*D76,1) -> 0 | G76: 0 | H76: =TRUNC(G76*D76,1) -> 0 | I76: 0 | J76: =TRUNC(I76*D76,1) -> 0 | K76: =TRUNC(E76+G76+I76,1) -> 0 | L76: =TRUNC(F76+H76+J76,1) -> 0 | N76: 59A5E581D85E9A62D5D78C837C9F5D | O76: 587AB5E9EB597672B58E9580482A001 | P76: F | Q76: F | R76: F | S76: 0 | T76: 0 | U76: 0.03 | AW76: 59A5E581D85E9A62D5D78C837C9F5D587AB5E9EB597672B58E9580482A001
A77: 배관공 | B77: 일반공사 직종 | C77: 인 | D77: 0.035 | E77: =단가대비표!O172 -> 0 | F77: =TRUNC(E77*D77,1) -> 0 | G77: =단가대비표!P172 -> 0 | H77: =TRUNC(G77*D77,1) -> 0 | I77: =단가대비표!V172 -> 0 | J77: =TRUNC(I77*D77,1) -> 0 | K77: =TRUNC(E77+G77+I77,1) -> 0 | L77: =TRUNC(F77+H77+J77,1) -> 0 | N77: 59A5E581D85E9A62D5D78C837C9F5D | O77: 59B325ECC451AAD2053E648450FCF1A190934F | P77: F | Q77: F | R77: T | W77: 2 | AW77: 59A5E581D85E9A62D5D78C837C9F5D59B325ECC451AAD2053E648450FCF1A190934F
A78: 보통인부 | B78: 일반공사 직종 | C78: 인 | D78: 0.012 | E78: =단가대비표!O166 -> 0 | F78: =TRUNC(E78*D78,1) -> 0 | G78: =단가대비표!P166 -> 0 | H78: =TRUNC(G78*D78,1) -> 0 | I78: =단가대비표!V166 -> 0 | J78: =TRUNC(I78*D78,1) -> 0 | K78: =TRUNC(E78+G78+I78,1) -> 0 | L78: =TRUNC(F78+H78+J78,1) -> 0 | N78: 59A5E581D85E9A62D5D78C837C9F5D | O78: 59B325ECC451AAD2053E648450FCF1A19090F0 | P78: F | Q78: F | R78: T | W78: 2 | AW78: 59A5E581D85E9A62D5D78C837C9F5D59B325ECC451AAD2053E648450FCF1A19090F0
A79: 공구손료 | B79: 인력품의 2% | C79: 식 | D79: 1 | E79: =TRUNC(SUMIF(W75:W79, RIGHTB(O79, 1), H75:H79)*U79, 2) -> 0 | F79: =TRUNC(E79*D79,1) -> 0 | G79: 0 | H79: =TRUNC(G79*D79,1) -> 0 | I79: 0 | J79: =TRUNC(I79*D79,1) -> 0 | K79: =TRUNC(E79+G79+I79,1) -> 0 | L79: =TRUNC(F79+H79+J79,1) -> 0 | N79: 59A5E581D85E9A62D5D78C837C9F5D | O79: 587AB5E9EB597672B58E95804829002 | P79: F | Q79: F | R79: F | S79: 1 | T79: 0 | U79: 0.02 | AW79: 59A5E581D85E9A62D5D78C837C9F5D587AB5E9EB597672B58E95804829002
A80: [ 합 계 ] | F80: =TRUNC(SUMIF(N75:N79, N74, F75:F79),0) -> 0 | H80: =TRUNC(SUMIF(N75:N79, N74, H75:H79),0) -> 0 | J80: =TRUNC(SUMIF(N75:N79, N74, J75:J79),0) -> 0 | L80: =F80+H80+J80 -> 0 | N80: TOTAL | O80: TOTAL
A82: 스테인리스용접(TIG) D20 개소 기계 1-3-1 ( 호표 14 ) | N82: 59A5E58766599C72A5C5C28F7D7ABC
A83: 스테인리스강용알곤용접봉 | B83: 스테인리스강용알곤용접봉, ∮3.2mm, T-308 | C83: kg | D83: 0.013 | E83: =단가대비표!O10 -> 0 | F83: =TRUNC(E83*D83,1) -> 0 | G83: =단가대비표!P10 -> 0 | H83: =TRUNC(G83*D83,1) -> 0 | I83: =단가대비표!V10 -> 0 | J83: =TRUNC(I83*D83,1) -> 0 | K83: =TRUNC(E83+G83+I83,1) -> 0 | L83: =TRUNC(F83+H83+J83,1) -> 0 | N83: 59A5E58766599C72A5C5C28F7D7ABC | O83: 5E5855D7655D69226556CD8DBDB8EB3A907B76 | P83: F | Q83: F | R83: T | AW83: 59A5E58766599C72A5C5C28F7D7ABC5E5855D7655D69226556CD8DBDB8EB3A907B76
A84: 아르곤가스 | B84: 아르곤가스, 건설용알곤가스 | C84: L | D84: 95 | E84: =단가대비표!O7 -> 0 | F84: =TRUNC(E84*D84,1) -> 0 | G84: =단가대비표!P7 -> 0 | H84: =TRUNC(G84*D84,1) -> 0 | I84: =단가대비표!V7 -> 0 | J84: =TRUNC(I84*D84,1) -> 0 | K84: =TRUNC(E84+G84+I84,1) -> 0 | L84: =TRUNC(F84+H84+J84,1) -> 0 | N84: 59A5E58766599C72A5C5C28F7D7ABC | O84: 5E6AE5AD955879A215DE3E8A4ADFF35F6F4D5A | P84: F | Q84: F | R84: T | AW84: 59A5E58766599C72A5C5C28F7D7ABC5E6AE5AD955879A215DE3E8A4ADFF35F6F4D5A
A85: 용접공 | B85: 일반공사 직종 | C85: 인 | D85: 0.057 | E85: =단가대비표!O169 -> 0 | F85: =TRUNC(E85*D85,1) -> 0 | G85: =단가대비표!P169 -> 0 | H85: =TRUNC(G85*D85,1) -> 0 | I85: =단가대비표!V169 -> 0 | J85: =TRUNC(I85*D85,1) -> 0 | K85: =TRUNC(E85+G85+I85,1) -> 0 | L85: =TRUNC(F85+H85+J85,1) -> 0 | N85: 59A5E58766599C72A5C5C28F7D7ABC | O85: 59B325ECC451AAD2053E648450FCF1A190919B | P85: F | Q85: F | R85: T | V85: 1 | AW85: 59A5E58766599C72A5C5C28F7D7ABC59B325ECC451AAD2053E648450FCF1A190919B
A86: 공구손료 | B86: 인력품의 4% | C86: 식 | D86: 1 | E86: =TRUNC(SUMIF(V83:V86, RIGHTB(O86, 1), H83:H86)*U86, 2) -> 0 | F86: =TRUNC(E86*D86,1) -> 0 | G86: 0 | H86: =TRUNC(G86*D86,1) -> 0 | I86: 0 | J86: =TRUNC(I86*D86,1) -> 0 | K86: =TRUNC(E86+G86+I86,1) -> 0 | L86: =TRUNC(F86+H86+J86,1) -> 0 | N86: 59A5E58766599C72A5C5C28F7D7ABC | O86: 587AB5E9EB597672B58E9580482A001 | P86: F | Q86: F | R86: F | S86: 1 | T86: 0 | U86: 0.04 | AW86: 59A5E58766599C72A5C5C28F7D7ABC587AB5E9EB597672B58E9580482A001
A87: [ 합 계 ] | F87: =TRUNC(SUMIF(N83:N86, N82, F83:F86),0) -> 0 | H87: =TRUNC(SUMIF(N83:N86, N82, H83:H86),0) -> 0 | J87: =TRUNC(SUMIF(N83:N86, N82, J83:J86),0) -> 0 | L87: =F87+H87+J87 -> 0 | N87: TOTAL | O87: TOTAL
A89: 스테인리스용접(TIG) D25 개소 기계 1-3-1 ( 호표 15 ) | N89: 59A5E58766599C72A5C5C28E5777C4
A90: 스테인리스강용알곤용접봉 | B90: 스테인리스강용알곤용접봉, ∮3.2mm, T-308 | C90: kg | D90: 0.02 | E90: =단가대비표!O10 -> 0 | F90: =TRUNC(E90*D90,1) -> 0 | G90: =단가대비표!P10 -> 0 | H90: =TRUNC(G90*D90,1) -> 0 | I90: =단가대비표!V10 -> 0 | J90: =TRUNC(I90*D90,1) -> 0 | K90: =TRUNC(E90+G90+I90,1) -> 0 | L90: =TRUNC(F90+H90+J90,1) -> 0 | N90: 59A5E58766599C72A5C5C28E5777C4 | O90: 5E5855D7655D69226556CD8DBDB8EB3A907B76 | P90: F | Q90: F | R90: T | AW90: 59A5E58766599C72A5C5C28E5777C45E5855D7655D69226556CD8DBDB8EB3A907B76
A91: 아르곤가스 | B91: 아르곤가스, 건설용알곤가스 | C91: L | D91: 129 | E91: =단가대비표!O7 -> 0 | F91: =TRUNC(E91*D91,1) -> 0 | G91: =단가대비표!P7 -> 0 | H91: =TRUNC(G91*D91,1) -> 0 | I91: =단가대비표!V7 -> 0 | J91: =TRUNC(I91*D91,1) -> 0 | K91: =TRUNC(E91+G91+I91,1) -> 0 | L91: =TRUNC(F91+H91+J91,1) -> 0 | N91: 59A5E58766599C72A5C5C28E5777C4 | O91: 5E6AE5AD955879A215DE3E8A4ADFF35F6F4D5A | P91: F | Q91: F | R91: T | AW91: 59A5E58766599C72A5C5C28E5777C45E6AE5AD955879A215DE3E8A4ADFF35F6F4D5A
A92: 용접공 | B92: 일반공사 직종 | C92: 인 | D92: 0.066 | E92: =단가대비표!O169 -> 0 | F92: =TRUNC(E92*D92,1) -> 0 | G92: =단가대비표!P169 -> 0 | H92: =TRUNC(G92*D92,1) -> 0 | I92: =단가대비표!V169 -> 0 | J92: =TRUNC(I92*D92,1) -> 0 | K92: =TRUNC(E92+G92+I92,1) -> 0 | L92: =TRUNC(F92+H92+J92,1) -> 0 | N92: 59A5E58766599C72A5C5C28E5777C4 | O92: 59B325ECC451AAD2053E648450FCF1A190919B | P92: F | Q92: F | R92: T | V92: 1 | AW92: 59A5E58766599C72A5C5C28E5777C459B325ECC451AAD2053E648450FCF1A190919B
A93: 공구손료 | B93: 인력품의 4% | C93: 식 | D93: 1 | E93: =TRUNC(SUMIF(V90:V93, RIGHTB(O93, 1), H90:H93)*U93, 2) -> 0 | F93: =TRUNC(E93*D93,1) -> 0 | G93: 0 | H93: =TRUNC(G93*D93,1) -> 0 | I93: 0 | J93: =TRUNC(I93*D93,1) -> 0 | K93: =TRUNC(E93+G93+I93,1) -> 0 | L93: =TRUNC(F93+H93+J93,1) -> 0 | N93: 59A5E58766599C72A5C5C28E5777C4 | O93: 587AB5E9EB597672B58E9580482A001 | P93: F | Q93: F | R93: F | S93: 1 | T93: 0 | U93: 0.04 | AW93: 59A5E58766599C72A5C5C28E5777C4587AB5E9EB597672B58E9580482A001
A94: [ 합 계 ] | F94: =TRUNC(SUMIF(N90:N93, N89, F90:F93),0) -> 0 | H94: =TRUNC(SUMIF(N90:N93, N89, H90:H93),0) -> 0 | J94: =TRUNC(SUMIF(N90:N93, N89, J90:J93),0) -> 0 | L94: =F94+H94+J94 -> 0 | N94: TOTAL | O94: TOTAL
A96: 스테인리스강관배관(K-TYPE-옥내) D13 M 기계 1-3-4 ( 호표 16 ) | N96: 59A5E5876659820265492B8BDE7966
A97: 일반배관용스테인리스강관 | B97: 일반배관용스테인리스강관, K형, ∮13mm | C97: M | D97: 1.05 | E97: =단가대비표!O82 -> 0 | F97: =TRUNC(E97*D97,1) -> 0 | G97: =단가대비표!P82 -> 0 | H97: =TRUNC(G97*D97,1) -> 0 | I97: =단가대비표!V82 -> 0 | J97: =TRUNC(I97*D97,1) -> 0 | K97: =TRUNC(E97+G97+I97,1) -> 0 | L97: =TRUNC(F97+H97+J97,1) -> 0 | N97: 59A5E5876659820265492B8BDE7966 | O97: 5E3D8501415817329597A7898358C372BD0C60 | P97: F | Q97: F | R97: T | V97: 1 | AW97: 59A5E5876659820265492B8BDE79665E3D8501415817329597A7898358C372BD0C60
A98: 잡재료비 | B98: 주재료비의 3% | C98: 식 | D98: 1 | E98: =TRUNC(SUMIF(V97:V101, RIGHTB(O98, 1), F97:F101)*U98, 2) -> 0 | F98: =TRUNC(E98*D98,1) -> 0 | G98: 0 | H98: =TRUNC(G98*D98,1) -> 0 | I98: 0 | J98: =TRUNC(I98*D98,1) -> 0 | K98: =TRUNC(E98+G98+I98,1) -> 0 | L98: =TRUNC(F98+H98+J98,1) -> 0 | N98: 59A5E5876659820265492B8BDE7966 | O98: 587AB5E9EB597672B58E9580482A001 | P98: F | Q98: F | R98: F | S98: 0 | T98: 0 | U98: 0.03 | AW98: 59A5E5876659820265492B8BDE7966587AB5E9EB597672B58E9580482A001
A99: 배관공 | B99: 일반공사 직종 | C99: 인 | D99: 0.038 | E99: =단가대비표!O172 -> 0 | F99: =TRUNC(E99*D99,1) -> 0 | G99: =단가대비표!P172 -> 0 | H99: =TRUNC(G99*D99,1) -> 0 | I99: =단가대비표!V172 -> 0 | J99: =TRUNC(I99*D99,1) -> 0 | K99: =TRUNC(E99+G99+I99,1) -> 0 | L99: =TRUNC(F99+H99+J99,1) -> 0 | N99: 59A5E5876659820265492B8BDE7966 | O99: 59B325ECC451AAD2053E648450FCF1A190934F | P99: F | Q99: F | R99: T | W99: 2 | AW99: 59A5E5876659820265492B8BDE796659B325ECC451AAD2053E648450FCF1A190934F
A100: 보통인부 | B100: 일반공사 직종 | C100: 인 | D100: 0.013 | E100: =단가대비표!O166 -> 0 | F100: =TRUNC(E100*D100,1) -> 0 | G100: =단가대비표!P166 -> 0 | H100: =TRUNC(G100*D100,1) -> 0 | I100: =단가대비표!V166 -> 0 | J100: =TRUNC(I100*D100,1) -> 0 | K100: =TRUNC(E100+G100+I100,1) -> 0 | L100: =TRUNC(F100+H100+J100,1) -> 0 | N100: 59A5E5876659820265492B8BDE7966 | O100: 59B325ECC451AAD2053E648450FCF1A19090F0 | P100: F | Q100: F | R100: T | W100: 2 | AW100: 59A5E5876659820265492B8BDE796659B325ECC451AAD2053E648450FCF1A19090F0
A101: 공구손료 | B101: 인력품의 2% | C101: 식 | D101: 1 | E101: =TRUNC(SUMIF(W97:W101, RIGHTB(O101, 1), H97:H101)*U101, 2) -> 0 | F101: =TRUNC(E101*D101,1) -> 0 | G101: 0 | H101: =TRUNC(G101*D101,1) -> 0 | I101: 0 | J101: =TRUNC(I101*D101,1) -> 0 | K101: =TRUNC(E101+G101+I101,1) -> 0 | L101: =TRUNC(F101+H101+J101,1) -> 0 | N101: 59A5E5876659820265492B8BDE7966 | O101: 587AB5E9EB597672B58E95804829002 | P101: F | Q101: F | R101: F | S101: 1 | T101: 0 | U101: 0.02 | AW101: 59A5E5876659820265492B8BDE7966587AB5E9EB597672B58E95804829002
A102: [ 합 계 ] | F102: =TRUNC(SUMIF(N97:N101, N96, F97:F101),0) -> 0 | H102: =TRUNC(SUMIF(N97:N101, N96, H97:H101),0) -> 0 | J102: =TRUNC(SUMIF(N97:N101, N96, J97:J101),0) -> 0 | L102: =F102+H102+J102 -> 0 | N102: TOTAL | O102: TOTAL
A104: 스테인리스강관배관(K-TYPE-옥내) D20 M 기계 1-3-4 ( 호표 17 ) | N104: 59A5E5876659BF42852F82892EB892
A105: 일반배관용스테인리스강관 | B105: 일반배관용스테인리스강관, K형, ∮20mm | C105: M | D105: 1.05 | E105: =단가대비표!O83 -> 0 | F105: =TRUNC(E105*D105,1) -> 0 | G105: =단가대비표!P83 -> 0 | H105: =TRUNC(G105*D105,1) -> 0 | I105: =단가대비표!V83 -> 0 | J105: =TRUNC(I105*D105,1) -> 0 | K105: =TRUNC(E105+G105+I105,1) -> 0 | L105: =TRUNC(F105+H105+J105,1) -> 0 | N105: 59A5E5876659BF42852F82892EB892 | O105: 5E3D8501415817329597A7898358C372BD0C61 | P105: F | Q105: F | R105: T | V105: 1 | AW105: 59A5E5876659BF42852F82892EB8925E3D8501415817329597A7898358C372BD0C61
A106: 잡재료비 | B106: 주재료비의 3% | C106: 식 | D106: 1 | E106: =TRUNC(SUMIF(V105:V109, RIGHTB(O106, 1), F105:F109)*U106, 2) -> 0 | F106: =TRUNC(E106*D106,1) -> 0 | G106: 0 | H106: =TRUNC(G106*D106,1) -> 0 | I106: 0 | J106: =TRUNC(I106*D106,1) -> 0 | K106: =TRUNC(E106+G106+I106,1) -> 0 | L106: =TRUNC(F106+H106+J106,1) -> 0 | N106: 59A5E5876659BF42852F82892EB892 | O106: 587AB5E9EB597672B58E9580482A001 | P106: F | Q106: F | R106: F | S106: 0 | T106: 0 | U106: 0.03 | AW106: 59A5E5876659BF42852F82892EB892587AB5E9EB597672B58E9580482A001
A107: 배관공 | B107: 일반공사 직종 | C107: 인 | D107: 0.05 | E107: =단가대비표!O172 -> 0 | F107: =TRUNC(E107*D107,1) -> 0 | G107: =단가대비표!P172 -> 0 | H107: =TRUNC(G107*D107,1) -> 0 | I107: =단가대비표!V172 -> 0 | J107: =TRUNC(I107*D107,1) -> 0 | K107: =TRUNC(E107+G107+I107,1) -> 0 | L107: =TRUNC(F107+H107+J107,1) -> 0 | N107: 59A5E5876659BF42852F82892EB892 | O107: 59B325ECC451AAD2053E648450FCF1A190934F | P107: F | Q107: F | R107: T | W107: 2 | AW107: 59A5E5876659BF42852F82892EB89259B325ECC451AAD2053E648450FCF1A190934F
A108: 보통인부 | B108: 일반공사 직종 | C108: 인 | D108: 0.017 | E108: =단가대비표!O166 -> 0 | F108: =TRUNC(E108*D108,1) -> 0 | G108: =단가대비표!P166 -> 0 | H108: =TRUNC(G108*D108,1) -> 0 | I108: =단가대비표!V166 -> 0 | J108: =TRUNC(I108*D108,1) -> 0 | K108: =TRUNC(E108+G108+I108,1) -> 0 | L108: =TRUNC(F108+H108+J108,1) -> 0 | N108: 59A5E5876659BF42852F82892EB892 | O108: 59B325ECC451AAD2053E648450FCF1A19090F0 | P108: F | Q108: F | R108: T | W108: 2 | AW108: 59A5E5876659BF42852F82892EB89259B325ECC451AAD2053E648450FCF1A19090F0
A109: 공구손료 | B109: 인력품의 2% | C109: 식 | D109: 1 | E109: =TRUNC(SUMIF(W105:W109, RIGHTB(O109, 1), H105:H109)*U109, 2) -> 0 | F109: =TRUNC(E109*D109,1) -> 0 | G109: 0 | H109: =TRUNC(G109*D109,1) -> 0 | I109: 0 | J109: =TRUNC(I109*D109,1) -> 0 | K109: =TRUNC(E109+G109+I109,1) -> 0 | L109: =TRUNC(F109+H109+J109,1) -> 0 | N109: 59A5E5876659BF42852F82892EB892 | O109: 587AB5E9EB597672B58E95804829002 | P109: F | Q109: F | R109: F | S109: 1 | T109: 0 | U109: 0.02 | AW109: 59A5E5876659BF42852F82892EB892587AB5E9EB597672B58E95804829002
A110: [ 합 계 ] | F110: =TRUNC(SUMIF(N105:N109, N104, F105:F109),0) -> 0 | H110: =TRUNC(SUMIF(N105:N109, N104, H105:H109),0) -> 0 | J110: =TRUNC(SUMIF(N105:N109, N104, J105:J109),0) -> 0 | L110: =F110+H110+J110 -> 0 | N110: TOTAL | O110: TOTAL
A112: 스테인리스강관배관(K-TYPE-옥내) D25 M 기계 1-3-4 ( 호표 18 ) | N112: 59A5E5876659AEF255EB4A8A56648B
A113: 일반배관용스테인리스강관 | B113: 일반배관용스테인리스강관, K형, ∮25mm | C113: M | D113: 1.05 | E113: =단가대비표!O84 -> 0 | F113: =TRUNC(E113*D113,1) -> 0 | G113: =단가대비표!P84 -> 0 | H113: =TRUNC(G113*D113,1) -> 0 | I113: =단가대비표!V84 -> 0 | J113: =TRUNC(I113*D113,1) -> 0 | K113: =TRUNC(E113+G113+I113,1) -> 0 | L113: =TRUNC(F113+H113+J113,1) -> 0 | N113: 59A5E5876659AEF255EB4A8A56648B | O113: 5E3D8501415817329597A7898358C372BD0C6E | P113: F | Q113: F | R113: T | V113: 1 | AW113: 59A5E5876659AEF255EB4A8A56648B5E3D8501415817329597A7898358C372BD0C6E
A114: 잡재료비 | B114: 주재료비의 3% | C114: 식 | D114: 1 | E114: =TRUNC(SUMIF(V113:V117, RIGHTB(O114, 1), F113:F117)*U114, 2) -> 0 | F114: =TRUNC(E114*D114,1) -> 0 | G114: 0 | H114: =TRUNC(G114*D114,1) -> 0 | I114: 0 | J114: =TRUNC(I114*D114,1) -> 0 | K114: =TRUNC(E114+G114+I114,1) -> 0 | L114: =TRUNC(F114+H114+J114,1) -> 0 | N114: 59A5E5876659AEF255EB4A8A56648B | O114: 587AB5E9EB597672B58E9580482A001 | P114: F | Q114: F | R114: F | S114: 0 | T114: 0 | U114: 0.03 | AW114: 59A5E5876659AEF255EB4A8A56648B587AB5E9EB597672B58E9580482A001
A115: 배관공 | B115: 일반공사 직종 | C115: 인 | D115: 0.06 | E115: =단가대비표!O172 -> 0 | F115: =TRUNC(E115*D115,1) -> 0 | G115: =단가대비표!P172 -> 0 | H115: =TRUNC(G115*D115,1) -> 0 | I115: =단가대비표!V172 -> 0 | J115: =TRUNC(I115*D115,1) -> 0 | K115: =TRUNC(E115+G115+I115,1) -> 0 | L115: =TRUNC(F115+H115+J115,1) -> 0 | N115: 59A5E5876659AEF255EB4A8A56648B | O115: 59B325ECC451AAD2053E648450FCF1A190934F | P115: F | Q115: F | R115: T | W115: 2 | AW115: 59A5E5876659AEF255EB4A8A56648B59B325ECC451AAD2053E648450FCF1A190934F
A116: 보통인부 | B116: 일반공사 직종 | C116: 인 | D116: 0.02 | E116: =단가대비표!O166 -> 0 | F116: =TRUNC(E116*D116,1) -> 0 | G116: =단가대비표!P166 -> 0 | H116: =TRUNC(G116*D116,1) -> 0 | I116: =단가대비표!V166 -> 0 | J116: =TRUNC(I116*D116,1) -> 0 | K116: =TRUNC(E116+G116+I116,1) -> 0 | L116: =TRUNC(F116+H116+J116,1) -> 0 | N116: 59A5E5876659AEF255EB4A8A56648B | O116: 59B325ECC451AAD2053E648450FCF1A19090F0 | P116: F | Q116: F | R116: T | W116: 2 | AW116: 59A5E5876659AEF255EB4A8A56648B59B325ECC451AAD2053E648450FCF1A19090F0
A117: 공구손료 | B117: 인력품의 2% | C117: 식 | D117: 1 | E117: =TRUNC(SUMIF(W113:W117, RIGHTB(O117, 1), H113:H117)*U117, 2) -> 0 | F117: =TRUNC(E117*D117,1) -> 0 | G117: 0 | H117: =TRUNC(G117*D117,1) -> 0 | I117: 0 | J117: =TRUNC(I117*D117,1) -> 0 | K117: =TRUNC(E117+G117+I117,1) -> 0 | L117: =TRUNC(F117+H117+J117,1) -> 0 | N117: 59A5E5876659AEF255EB4A8A56648B | O117: 587AB5E9EB597672B58E95804829002 | P117: F | Q117: F | R117: F | S117: 1 | T117: 0 | U117: 0.02 | AW117: 59A5E5876659AEF255EB4A8A56648B587AB5E9EB597672B58E95804829002
...

Sheet 단가대비표
A1: 단 가 대 비 표
A2: [ 영주적십자병원 건강검진센터 리모델링공사 ]
A3: 코 드 | B3: 품 명 | C3: 규격 | D3: 단위 | E3: 재 료 비 | P3: 노 무 비 | Q3: 경 비 | W3: 번 호 | X3: 비 고 | Y3: 품목구분 | Z3: 노임구분 | AA3: 소수점처리 | AB3: 자재구분
E4: 조달청가격 | F4: PAGE | G4: 거래가격 | H4: PAGE | I4: 유통물가 | J4: PAGE | K4: 조사가격1 | L4: PAGE | M4: 조사가격2 | N4: PAGE | O4: 적용단가 | Q4: 조달청가격 | R4: 거래가격 | S4: 유통물가 | T4: 조사가격1 | U4: 조사가격2 | V4: 적용단가
A5: 5E7B35D0CE5B2332653F208FDBA6DC6340D320 | B5: 코어드릴 | C5: 25.40cm | D5: 대 | W5: 자재 1 | X5: 천원
A6: 5E6AE5AD95584CF295B95E85C0FCAE360101A3 | B6: 산소가스 | C6: 기체 | D6: L | W6: 자재 2 | X6: 대기압상태기준
A7: 5E6AE5AD955879A215DE3E8A4ADFF35F6F4D5A | B7: 아르곤가스 | C7: 아르곤가스, 건설용알곤가스 | D7: L | W7: 자재 3
A8: 5E6A952B995447A235AE958F639D496608D2F9 | B8: 액화석유가스 | C8: 액화석유가스, 건설용 LPG | D8: kg | W8: 자재 4
A9: 5E5855D7655D69226556CD8DBDB8EB3A922CAF | B9: 연강용피복아크용접봉 | C9: 연강용피복아크용접봉, CS-200, ∮4.0mm | D9: kg | W9: 자재 5
A10: 5E5855D7655D69226556CD8DBDB8EB3A907B76 | B10: 스테인리스강용알곤용접봉 | C10: 스테인리스강용알곤용접봉, ∮3.2mm, T-308 | D10: kg | W10: 자재 6
A11: 5E580552965DE3B235BE1387ED11960C3BF9AC | B11: 제어케이블 | C11: 제어케이블, 0.6/1kv, TFR-CVV, 2C*1.5㎟ | D11: M | W11: 자재 7
A12: 5E580552965DE3B235BE1387ED11960C3BF884 | B12: 제어케이블 | C12: 제어케이블, 0.6/1kv, TFR-CVV, 4C*2.5㎟ | D12: M | W12: 자재 8
A13: 5E4FF5287A511122B521848F65B829A0007ECD | B13: 세면기 | C13: CL-384 | D13: 대 | W13: 자재 9
A14: 5E4FF5287A511122B521848F65B829A00078A3 | B14: 세면기 폼업 | D14: 대 | W14: 자재 10
A15: 5E4FF5287A511122B521848F65B829A00078A2 | B15: 관붙이앵글밸브 | C15: 15A | D15: 대 | W15: 자재 11
A16: 5E4FF5287A511122B521848F65B829A00078A1 | B16: 원형세면기 후레임 | D16: 대 | W16: 자재 12
A17: 5E4FF5287A511122B521848F65B829A00078A7 | B17: 세면기용 P-TRAP | D17: 대 | W17: 자재 13
A18: 5E4FF5287A511122B521848F65B829A00078A6 | B18: 세면기용 브라켓 | C18: 2개 1조 | D18: 대 | W18: 자재 14
A19: 5E4FF5287A511122B5219586566B1E1A44E39A | B19: 양변기(장애인용) | C19: CC-116 (자동세척밸브포함) | D19: 조 | W19: 자재 15
A20: 5E4FF5287A511122B521A78985621105B76803 | B20: 소변기(절수2등급) | C20: 소변기(센서내장),KCVU-410 | D20: 조 | W20: 자재 16
A21: 5E4FF5287A511122B5215F8B26538D9001C932 | B21: 휴지걸이 | C21: 대형롤타입 | D21: EA | W21: 자재 17
A22: 5E4FF5287A511122B5215F8B26538D9001C936 | B22: 비누대 | C22: KS F-4529 | D22: 개 | W22: 자재 18
A23: 5E4FF5287A511122B5215F8B265BC50908FC06 | B23: 핸드드라이어 | D23: 개 | W23: 자재 19
A24: 5E4FF5287A511122B5215F8B265BC50908FD29 | B24: 위생분리수거함 | C24: 기성품, ABS | D24: 개 | W24: 자재 20
A25: 5E4FF5287A511122B5215F8B265BC50908FD2A | B25: 유아용 거치대 | C25: 유아 보호형 | D25: 개 | W25: 자재 21
A26: 5E4FF5287A511122B532A48B5BBCF513C23889 | B26: 수도꼭지 | C26: 수도꼭지, 세면기수전, 싱글레버 | D26: 개 | W26: 자재 22
A27: 5E4FE50276590062C5F97586E3961B10D2CED2 | B27: 전산볼트 | C27: 전산볼트, 탄소강, M10*1000mm | D27: 개 | W27: 자재 23
A28: 5E4FE50276590062C5F97586E3961B10D2CED4 | B28: 전산볼트 | C28: 전산볼트, 탄소강, M14*1000mm | D28: 개 | W28: 자재 24
A29: 5E4FE50276590082F5CF3B8B3CF98B823FBF63 | B29: 평와셔 | C29: 평와셔, 스테인리스, 호칭경 12mm | D29: 개 | W29: 자재 25
A30: 5E4FE50276590082F5CF3B8B3CF98B823FBE42 | B30: 평와셔 | C30: 평와셔, 스테인리스, 호칭경 16mm | D30: 개 | W30: 자재 26
A31: 5E4FE50276590082F5CF3B890F843AB5172BA0 | B31: 환봉(SS41) | C31: D12 | D31: kg | W31: 자재 27
A32: 5E4FE50276590082F5CF3B890F843AB51729FE | B32: 열연강판 | C32: 6t | D32: kg | W32: 자재 28
A33: 5E4FE50276590082F5CF3B890F843AB51729FF | B33: 열연강판 | C33: 9t | D33: kg | W33: 자재 29
A34: 5E4FE50276590082F5CF3B890F843AB51603F4 | B34: SUS(볼트+너트) | C34: M12*55L | D34: SET | W34: 자재 30
A35: 5E4FE50276590082F5CF3B890F843AB51603F5 | B35: SUS(볼트+너트) | C35: M16*55L | D35: SET | W35: 자재 31
... A44: 5E4FE50276590082F5CF3B890F843AB51601CE | B44: 관통슬리브(벽체) | C44: D150*200H | D44: 개 | W44: 자재 40
A45: 5E4FE50276590082F5CF3B890F843AB51560E4 | B45: 소요전력 | D45: kwh | W45: 자재 41
A46: 5E4FE50276590082F5CF3B890F843AB5156297 | B46: 녹막이 페인트 | C46: KSM-6030, 1종 | D46: L | W46: 자재 42
A47: 5E4FE50276590082F5CF3B890F843AB5156717 | B47: 앵글 | C47: 65*65*6t | D47: KG | W47: 자재 43
A48: 5E4FE50276593D52E5A6BC8FE99AE5CC48F208 | B48: 스트롱앵커 | C48: 스트롱앵커, M10, 9.5mm | D48: 개 | W48: 자재 44
A49: 5E4FE50276593D52E5A6BC8FE99AE5CC48F209 | B49: 스트롱앵커 | C49: 스트롱앵커, M13, 12.7mm | D49: 개 | W49: 자재 45
A50: 5E4FE50276593D72958C2181EFE38D6893AF62 | B50: 지지행어 | C50: 지지행어, 파이프행어(일반), ∮50mm | D50: 개 | W50: 자재 46
A51: 5E4FE50276593D72958C2181EFE38D6893A0E7 | B51: 지지행어 | C51: 지지행어, 파이프행어(일반), ∮80mm | D51: 개 | W51: 자재 47
A52: 5E4FE50276593D72958C2181EFE38D6893A0E4 | B52: 지지행어 | C52: 지지행어, 파이프행어(일반), ∮100mm | D52: 개 | W52: 자재 48
A53: 5E4FE50276593D72958C2181EFE38D6893A18D | B53: 지지행어 | C53: 지지행어, 절연행어, ∮15mm | D53: 개 | W53: 자재 49
A54: 5E4FE50276593D72958C2181EFE38D6893A18C | B54: 지지행어 | C54: 지지행어, 절연행어, ∮20mm | D54: 개 | W54: 자재 50
A55: 5E4FE50276593D72958C2181EFE38D6893A18F | B55: 지지행어 | C55: 지지행어, 절연행어, ∮25mm | D55: 개 | W55: 자재 51
A56: 5E4FE50276593D72958C2181EFE38D6893A18E | B56: 지지행어 | C56: 지지행어, 절연행어, ∮32mm | D56: 개 | W56: 자재 52
A57: 5E4FE50276593DC215979D8FE4DA9D98B270CF | B57: 장애자용손잡이 | C57: 대변기-가동식 | D57: 개 | W57: 자재 53
... A62: 5E4FE5027855E94235776F8ED784BC4F2A8048 | B62: AL 밴드 | C62: 0.3*30w | D62: M | W62: 자재 58
A63: 5E4FE5027855E94235776F8ED784BC4F2A8420 | B63: 고무발포테이프 | D63: M | W63: 자재 59
A64: 5E4FE5027855E94235776F8ED784BC4F2A889D | B64: 발포폴리에틸렌보온재(덕트보온) | C64: 25t | D64: ㎡ | W64: 자재 60
A65: 5E4FE5027855E94235776F8ED784BC4F2A8899 | B65: 후렌지 보온재(발포폴리에틸렌 보온) | D65: M | W65: 자재 61
A66: 5E4F65CC0D564C5265F9578EC7E774EBEA3E5E | B66: 강제전선관 | C66: 강제전선관, 후강전선관, 아연도, 16mm | D66: M | W66: 자재 62
A67: 5E3D85014557F4B2156D408435BCA436E9443C | B67: 디퓨저 | C67: 디퓨저, 원형, ∮150mm, 알루미늄 | D67: 개 | W67: 자재 63
A68: 5E3D85014557F4629538D288F2EA84B0FF6946 | B68: 고무발포단열재 | C68: 고무발포단열재, 본드, 고무발포용 | D68: kg | W68: 자재 64
A69: 5E3D85014557F4629538D28997A82AB13E9321 | B69: 관보온재 | C69: 고무발포, 25t*D15 | D69: M | W69: 자재 65
A70: 5E3D85014557F4629538D28997A82AB13E9320 | B70: 관보온재 | C70: 고무발포, 25t*D20 | D70: M | W70: 자재 66
A71: 5E3D85014557F4629538D28997A82AB13E9202 | B71: 관보온재 | C71: 고무발포, 25t*D25 | D71: M | W71: 자재 67
A72: 5E3D85014557F4629538D28997A82AB13E9203 | B72: 관보온재 | C72: 고무발포, 25t*D32 | D72: M | W72: 자재 68
A73: 5E3D8501415821E2F5DE8F8A9EAD3C114B296C | B73: 볼밸브 | C73: 볼밸브, ∮20mm*0.98MPa, 수동식, 황동 | D73: 개 | W73: 자재 69
A74: 5E3D8501415821E2F5DE8F8A9EAD3C114C35D8 | B74: 볼밸브 | C74: 볼밸브, ∮15mm*0.98MPa, 수동식, STS | D74: 개 | W74: 자재 70
A75: 5E3D8501415821E2F5DE8F8A9EAD3C114C35D9 | B75: 볼밸브 | C75: 볼밸브, ∮20mm*0.98MPa, 수동식, STS | D75: 개 | W75: 자재 71
A76: 5E3D8501415821E2F5DE8F8A9EAD3C114C35DA | B76: 볼밸브 | C76: 볼밸브, ∮25mm*0.98MPa, 수동식, STS | D76: 개 | W76: 자재 72
A77: 5E3D8501415821E2F5DE8F8A9EAD3C114C35DB | B77: 볼밸브 | C77: 볼밸브, ∮32mm*0.98MPa, 수동식, STS | D77: 개 | W77: 자재 73
... A165: 596D4540A259D722656E9383AF12AC3410CE01 | B165: 사각박스 | C165: 중형 | D165: EA | W165: 자재 161
A166: 59B325ECC451AAD2053E648450FCF1A19090F0 | B166: 보통인부 | C166: 일반공사 직종 | D166: 인 | W166: 노임 1 | Y166: B
A167: 59B325ECC451AAD2053E648450FCF1A19090F1 | B167: 특별인부 | C167: 일반공사 직종 | D167: 인 | W167: 노임 2 | Y167: B
A168: 59B325ECC451AAD2053E648450FCF1A19090FB | B168: 철공 | C168: 일반공사 직종 | D168: 인 | W168: 노임 3 | Y168: B
A169: 59B325ECC451AAD2053E648450FCF1A190919B | B169: 용접공 | C169: 일반공사 직종 | D169: 인 | W169: 노임 4 | Y169: B
A170: 59B325ECC451AAD2053E648450FCF1A190919C | B170: 착암공 | C170: 일반공사 직종 | D170: 인 | W170: 노임 5 | Y170: B
A171: 59B325ECC451AAD2053E648450FCF1A19092B6 | B171: 도장공 | C171: 일반공사 직종 | D171: 인 | W171: 노임 6 | Y171: B
A172: 59B325ECC451AAD2053E648450FCF1A190934F | B172: 배관공 | C172: 일반공사 직종 | D172: 인 | W172: 노임 7 | Y172: B
A173: 59B325ECC451AAD2053E648450FCF1A190946F | B173: 위생공 | C173: 일반공사 직종 | D173: 인 | W173: 노임 8 | Y173: B
A174: 59B325ECC451AAD2053E648450FCF1A190946E | B174: 덕트공 | C174: 일반공사 직종 | D174: 인 | W174: 노임 9 | Y174: B
A175: 59B325ECC451AAD2053E648450FCF1A1909469 | B175: 보온공 | C175: 일반공사 직종 | D175: 인 | W175: 노임 10 | Y175: B
A176: 59B325ECC451AAD2053E648450FCF1A1909575 | B176: 기계설비공 | C176: 일반공사 직종 | D176: 인 | W176: 노임 11 | Y176: B
A177: 59B325ECC451AAD2053E648450FCF1A1909724 | B177: 내선전공 | C177: 일반공사 직종 | D177: 인 | W177: 노임 12 | Y177: B
... A180: 59B325ECC451AAD2053E648450FCF1A19098C1 | B180: 통신케이블공 | C180: 일반공사 직종 | D180: 인 | W180: 노임 15 | Y180: B
A181: 59A595043F5D44E2B532918502DD2F38512FD4 | B181: 차단밸브 | C181: 2구 | D181: SET | W181: 자재 162
A182: 59A595043F5D44E2B532918502DD2F38512FD7 | B182: 콘솔 O.V. | D182: SET | W182: 자재 163
A183: 59A595043F5D44E2B532918502DD2F38512FD6 | B183: 동배관(KS L TYPE) | C183: D20 | D183: M | W183: 자재 164
A184: 59A595043F5D44E2B532918502DD2F38512FD1 | B184: 동배관(KS L TYPE) | C184: D15 | D184: M | W184: 자재 165
A185: 59A595043F5D44E2B532918502DD2F38512FD0 | B185: 동부속 | C185: 관의8% | D185: L/S | W185: 자재 166
A186: 59A595043F5D44E2B532918502DD2F38512FD3 | B186: 절연행가 | C186: D20 | D186: EA | W186: 자재 167
A187: 59A595043F5D44E2B532918502DD2F38512FD2 | B187: 절연행가 | C187: D15 | D187: EA | W187: 자재 168
A188: 59A595043F5D44E2B532918502DD2F38512FDD | B188: 전산볼트 | C188: 3/8" (1M) | D188: EA | W188: 자재 169
A189: 59A595043F5D44E2B532918502DD2F38512FDC | B189: 앙카 | C189: 3/8" | D189: EA | W189: 자재 170
A190: 59A595043F5D44E2B532918502DD2F38512ECE | B190: 산소 | D190: B/T | W190: 자재 171
A191: 59A595043F5D44E2B532918502DD2F38512ECF | B191: LPG | D191: B/T | W191: 자재 172
A192: 59A595043F5D44E2B532918502DD2F38512ECC | B192: 동 용접봉 | D192: KG | W192: 자재 173
A193: 59A595043F5D44E2B532918502DD2F38512ECD | B193: 압력시험 | D193: 식 | W193: 자재 174

Sheet  공사설정 
A1: 이 Sheet는 수정하지 마십시요
A2: 공사구분 | B2: C | C2: 타이틀
A3: 확정내역 | B3: 원내역
A4: 자재단가적용 | B4: 5
A5: 경비단가적용 | B5: 5
A6: 품목코드형식 | B6: XXXX-XXXX-XXXXXXXXX
A7: 내역금액소수점처리 | B7: C | C7: 1
A8: 일위대가내역소수점처리 | B8: C | C8: 2
A9: 단가명 | B9: 조달청가격 | C9: 거래가격 | D9: 유통물가 | E9: 조사가격1 | F9: 조사가격2 | G9: TTTTT
A10: 환율 | B10: 1472 | C10: 0 | D10: 0
A11: 시간당작업량 | B11: R | C11: 4
A12: 1회 사이클시간 | B12: R | C12: 4
A13: 시간당 작업사이클 | B13: R | C13: 3
A14: 일반변수 | B14: R | C14: 5
A15: 시간당 노임산출 계수 | B15: A | C15: 1/8*16/12*25/20 | D15: 1/8*16/12*25/20 | E15: 1/8*16/12*25/20 | F15: 1
A16: 재료비 할증 계수 | B16: 1.11 | C16: 1.12
A17: 노무비 할증 계수 | B17: 1 | C17: 1.5 | D17: 1.16 | E17: 1.6 | F17: 1.6 | G17: 1.6 | H17: 1.94 | I17: 1.94 | J17: 1.94 | K17: 1 | L17: 1 | M17: 1
A18: 경비 할증 계수 | B18: 1.25 | C18: 1.071
A19: 내역,일위대가 품명,규격,단위 따로적용
A20: 내역단가 소수점처리 | B20: C | C20: 1
A21: 코드 | B21: 공종구분명 | C21: 원가비목코드
A22: 1 | B22: 작 업 부 산 물 | C22: A3
A23: 2 | B23: 운 반 비 | C23: C1
A24: 3 | B24: 관 급 자 재 비 | C24: DJ
A25: 4 | B25: 사 급 자 재 비 | C25: D3
A26: 5 | B26: 외 자 재
A27: 6 | B27: 폐기물처리비
A28: 7 | B28: 장 비 비 | C28: DK
A29: 8 | B29: ...
A30: 9 | B30: ...
A31: A | B31: ....
A32: B | B32: .....
A33: C | B33: ....
A34: D | B34: ....
A35: E | B35: ....
A36: F | B36: ....
A37: G | B37: ....
A38: H | B38: ....
A39: I | B39: ....
A40: J | B40: ....
A43: 단가 순서 | B43: 1234

Sheet Sheet1
