Workbook
Name _10_3_0Criteria: #REF!
Name _15A: [1]금액내역서!$D$3:$D$10
Name _15G_0Extr: #REF!
Name _20G_0Extract: #REF!
Name _5_3_0Crite: #REF!
Name \\O: '[3]1단계'!#REF!
Name \a: #REF!
Name \b: [4]약품공급2!#REF!
Name \c: '[3]1단계'!#REF!
Name \d: '[3]1단계'!#REF!
Name \e: #REF!
Name \f: '[3]1단계'!#REF!
Name \g: #REF!
Name \h: '[3]1단계'!#REF!
Name \i: '[3]1단계'!#REF!
Name \j: [5]약품설비!#REF!
Name \k: [4]약품공급2!#REF!
Name \l: [4]약품공급2!#REF!
Name \m: #REF!
Name \n: [5]약품설비!#REF!
Name \o: '[3]1단계'!#REF!
Name \p: '[3]1단계'!#REF!
Name \q: #REF!
Name \r: '[3]1단계'!#REF!
Name \s: '[3]1단계'!#REF!
Name \u: [5]약품설비!#REF!
Name \v: '[3]1단계'!#REF!
Name \w: '[6]일위대가-1'!#REF!
Name \x: '[3]1단계'!#REF!
Name \y: [5]약품설비!#REF!
Name \z: #REF!
Name asdfasdf: #N/A
Name A등급: #REF!
Name B등급: #REF!
Name B등븍: #REF!
Name C등급: #REF!
Name D등급: #REF!
Name E등급: #REF!
Name ISO_정렬: [7]!ISO_정렬
Name LLLL: #REF!
Name p: #REF!
Name PRINT_AREA_MI: #N/A
Name PRINT_TITLES_MI: #N/A
Name YA: [9]약품공급2!#REF!
Name 견적: #REF!
Name 경비율: #REF!
Name 공사명: #REF!
Name 광명: #REF!
Name 기계중계펌프내역: #REF!
Name 기기설치: #REF!
Name 기기자재: #REF!
Name 기초: '[11]9509'!$A$3:$Y$665
Name 김: '[12]9811'!$A$3:$AD$1530
Name 껍대기: [13]토목!$A$2:$M$1916
Name 노무비: #REF!
Name 단가: #REF!
Name 단가표: '[14]단가표 (2)'!$A$2:$G$343
Name 단중입력: [15]!단중입력
Name 도급: [16]기자재비!#REF!
Name 등록_시작: [7]!등록_시작

Sheet 갑지
B1: 설 계 서 용 지 (갑 지)
B2: 과장 | E2: 담당 | H2: 검수자 | K2: 설계자
C6: 영주적십자병원 장애인 건강검진센터 리모델링공사(건축,기계)
C8: 개 요 : 영주적십자병원 장애인 건강검진센터 리모델링공사(건축,기계)
C10: 총공사비 : | E10: =" 일금 "&NUMBERSTRING(G18, 1)&"원정 ("&TEXT(G18, "#,###원")&")" -> 일금 영원정 (원)
D12: 도급금액 | E12: 공급가액 | G12: =TEXT('[24]원가계산서(공종별)'!H32, "#,###")
E13: 부가세 | G13: ='[24]원가계산서(공종별)'!H33 -> 0
E14: 도급액 | G14: ='[24]원가계산서(공종별)'!H34 -> 0
D15: 관급금액 | E15: 도급자설치 관급자재
E16: 관급자설치 관급자재 | G16: ='[24]원가계산서(공종별)'!G37 -> 0
E17: 관급자재 계 | G17: =TEXT(G16, "#,###")
D18: 총 공 사 비

Sheet 원가-총괄
B1: 공 사 원 가 계 산 서
B2: 공사명 : 영주적십자병원건강검진센터리모델링실시설계-건축+기계
B3: 비 목 | E3: 금 액 | F3: 구 성 비 | G3: 비 고
A4: A1 | B4: 순 공 사 원 가 | C4: 재 료 비 | D4: 직 접 재 료 비 | E4: =공종별집계표!F5 -> 0
A5: A2 | D5: 간 접 재 료 비 | E5: 0
A6: A3 | D6: 작업설, 부산물(△) | E6: 0
A7: AS | D7: [ 소 계 ] | E7: =TRUNC(E4+E5-E6, 0) -> 0
A8: B1 | C8: 노 무 비 | D8: 직 접 노 무 비 | E8: =공종별집계표!H5 -> 0
A9: B2 | D9: 간 접 노 무 비 | E9: =TRUNC(E8*0.175, 0) -> 0 | F9: 직접노무비 * 17.5%
A10: BS | D10: [ 소 계 ] | E10: =TRUNC(E8+E9, 0) -> 0
A11: C2 | C11: 경 비 | D11: 경 비 | E11: =공종별집계표!J5 -> 0
A12: C4 | D12: 산 재 보 험 료 | E12: =TRUNC(E10*0.0356, 0) -> 0 | F12: 노무비 * 3.56%
A13: C5 | D13: 고 용 보 험 료 | E13: =TRUNC(E10*0.0101, 0) -> 0 | F13: 노무비 * 1.01%
A14: C6 | D14: 국민 건강 보험료 | E14: 9150169 | F14: 직접노무비 * 3.595%
A15: CB | D15: 노인장기요양보험료 | E15: 1202332 | F15: 건강보험료 * 13.14%
A16: C7 | D16: 국민 연금 보험료 | E16: 12089931 | F16: 직접노무비 * 4.75%
A17: C8 | D17: 퇴직 공제 부금비 | E17: 5854071 | F17: 직접노무비 * 2.3%
A18: CE | D18: 석 면 분 담 금 | E18: =TRUNC(E10*0.00006, 0) -> 0 | F18: 노무비 * 0.006%
A19: D7 | D19: 임금 채권 부담금 | E19: =TRUNC(E10*0.0009, 0) -> 0 | F19: 노무비 * 0.09%
A20: CA | D20: 산업안전보건관리비 | E20: 16451883 | F20: (재료비+직노+관급자재비) * 2.28% + 4325000
A21: CC
A22: CG | D22: 기 타 경 비 | E22: =TRUNC((E7+E10)*0.05, 0) -> 0 | F22: (재료비+노무비) * 5%
A23: CH | D23: 환 경 보 전 비 | E23: =TRUNC((E7+E8+E11)*0.003, 0) -> 0 | F23: (재료비+직노+경비) * 0.3%
A24: CK | D24: 하도급지급보증수수료 | E24: =TRUNC((E7+E8+E11)*0.00081, 0) -> 0 | F24: (재료비+직노+경비) * 0.081% | G24: 최저가대상공사
A25: CL | D25: 건설기계대여금지급보증서발급수수료 | E25: =TRUNC((E7+E8+E11)*0.0007, 0) -> 0 | F25: (재료비+직노+경비) * 0.07%
A26: CS | D26: [ 소 계 ]
A27: S1 | B27: 계 | E27: =TRUNC(E7+E10+E26, 0) -> 0
A28: D1 | B28: 일 반 관 리 비 | E28: =TRUNC(E27*0.08, 0) -> 0 | F28: 계 * 8%
A29: D2 | B29: 이 윤 | E29: =TRUNC((E10+E26+E28)*0.15, 0) -> 0 | F29: (노무비+경비+일반관리비) * 15%
A30: D3 | B30: 작업부산물(해체) | E30: =공종별집계표!L20 -> 0
A31: D4 | B31: 폐 기 물 처 리 | E31: =공종별집계표!L21 -> 0
A32: D9 | B32: 공 급 가 액 | E32: =TRUNC(E27+E28+E29+E30+E31, 0) -> 0
A33: DB | B33: 부 가 가 치 세 | E33: =TRUNC(E32*0.1, 0) -> 0 | F33: 공급가액 * 10%
A34: DH | B34: 도 급 액 | E34: =TRUNC(E32+E33, 0) -> 0
A35: S2 | B35: 총 공 사 비 | E35: =TRUNC(E34+0, 0) -> 0

Sheet 공종별집계표
A1: 공 종 별 집 계 표
A2: [ 영주적십자병원건강검진센터리모델링실시설계 ]
A3: 품 명 | B3: 규 격 | C3: 단위 | D3: 수량 | E3: 재 료 비 | G3: 노 무 비 | I3: 경 비 | K3: 합 계 | M3: 비 고 | N3: 공종코드 | O3: 변수 | P3: 상위공종 | Q3: 공종구분 | R3: 공종레벨 | S3: 공종소계 | T3: 원가계산서 연결금액
E4: 단 가 | F4: 금 액 | G4: 단 가 | H4: 금 액 | I4: 단 가 | J4: 금 액 | K4: 단 가 | L4: 금 액
A5: 01 영주적십자병원건강검진센터리모델링실시설계 | D5: 1 | E5: =F6+F22 -> 0 | F5: =E5*D5 -> 0 | G5: =H6+H22 -> 0 | H5: =G5*D5 -> 0 | I5: =J6+J22 -> 0 | J5: =I5*D5 -> 0 | K5: =E5+G5+I5 -> 0 | L5: =F5+H5+J5 -> 0 | N5: 01 | R5: 1
A6: 0101 ■■ 건 축 공 사 ■■ | D6: 1 | E6: =F7 -> 0 | F6: =E6*D6 -> 0 | G6: =H7 -> 0 | H6: =G6*D6 -> 0 | I6: =J7 -> 0 | J6: =I6*D6 -> 0 | K6: =E6+G6+I6 -> 0 | L6: =F6+H6+J6 -> 0 | N6: 0101 | P6: 01 | R6: 2
A7: 010101 1. 본동(2F일부실,지하층제외) | D7: 1 | E7: =F8+F9+F10+F11+F12+F13+F14+F15+F16+F17+F18+F19 -> 0 | F7: =E7*D7 -> 0 | G7: =H8+H9+H10+H11+H12+H13+H14+H15+H16+H17+H18+H19 -> 0 | H7: =G7*D7 -> 0 | I7: =J8+J9+J10+J11+J12+J13+J14+J15+J16+J17+J18+J19 -> 0 | J7: =I7*D7 -> 0 | K7: =E7+G7+I7 -> 0 | L7: =F7+H7+J7 -> 0 | N7: 010101 | P7: 0101 | R7: 3
A8: 01010101 가 설 공 사 | D8: 1 | E8: =공종별내역서!F26 -> 0 | F8: =E8*D8 -> 0 | G8: =공종별내역서!H26 -> 0 | H8: =G8*D8 -> 0 | I8: =공종별내역서!J26 -> 0 | J8: =I8*D8 -> 0 | K8: =E8+G8+I8 -> 0 | L8: =F8+H8+J8 -> 0 | N8: 01010101 | P8: 010101 | R8: 4
A9: 01010102 타 일 공 사 | D9: 1 | E9: =공종별내역서!F49 -> 0 | F9: =E9*D9 -> 0 | G9: =공종별내역서!H49 -> 0 | H9: =G9*D9 -> 0 | I9: =공종별내역서!J49 -> 0 | J9: =I9*D9 -> 0 | K9: =E9+G9+I9 -> 0 | L9: =F9+H9+J9 -> 0 | N9: 01010102 | P9: 010101 | R9: 4
A10: 01010103 목공사및수장공사 | D10: 1 | E10: =공종별내역서!F95 -> 0 | F10: =E10*D10 -> 0 | G10: =공종별내역서!H95 -> 0 | H10: =G10*D10 -> 0 | I10: =공종별내역서!J95 -> 0 | J10: =I10*D10 -> 0 | K10: =E10+G10+I10 -> 0 | L10: =F10+H10+J10 -> 0 | N10: 01010103 | P10: 010101 | R10: 4
A11: 01010104 방 수 공 사 | D11: 1 | E11: =공종별내역서!F118 -> 0 | F11: =E11*D11 -> 0 | G11: =공종별내역서!H118 -> 0 | H11: =G11*D11 -> 0 | I11: =공종별내역서!J118 -> 0 | J11: =I11*D11 -> 0 | K11: =E11+G11+I11 -> 0 | L11: =F11+H11+J11 -> 0 | N11: 01010104 | P11: 010101 | R11: 4
A12: 01010105 금 속 공 사 | D12: 1 | E12: =공종별내역서!F164 -> 0 | F12: =E12*D12 -> 0 | G12: =공종별내역서!H164 -> 0 | H12: =G12*D12 -> 0 | I12: =공종별내역서!J164 -> 0 | J12: =I12*D12 -> 0 | K12: =E12+G12+I12 -> 0 | L12: =F12+H12+J12 -> 0 | N12: 01010105 | P12: 010101 | R12: 4
A13: 01010106 미 장 공 사 | D13: 1 | E13: =공종별내역서!F187 -> 0 | F13: =E13*D13 -> 0 | G13: =공종별내역서!H187 -> 0 | H13: =G13*D13 -> 0 | I13: =공종별내역서!J187 -> 0 | J13: =I13*D13 -> 0 | K13: =E13+G13+I13 -> 0 | L13: =F13+H13+J13 -> 0 | N13: 01010106 | P13: 010101 | R13: 4
A14: 01010107 창호 및 유리공사 | D14: 1 | E14: =공종별내역서!F233 -> 0 | F14: =E14*D14 -> 0 | G14: =공종별내역서!H233 -> 0 | H14: =G14*D14 -> 0 | I14: =공종별내역서!J233 -> 0 | J14: =I14*D14 -> 0 | K14: =E14+G14+I14 -> 0 | L14: =F14+H14+J14 -> 0 | N14: 01010107 | P14: 010101 | R14: 4
A15: 01010108 칠 공 사 | D15: 1 | E15: =공종별내역서!F256 -> 0 | F15: =E15*D15 -> 0 | G15: =공종별내역서!H256 -> 0 | H15: =G15*D15 -> 0 | I15: =공종별내역서!J256 -> 0 | J15: =I15*D15 -> 0 | K15: =E15+G15+I15 -> 0 | L15: =F15+H15+J15 -> 0 | N15: 01010108 | P15: 010101 | R15: 4
A16: 01010109 기 타 공 사 | D16: 1 | E16: =공종별내역서!F279 -> 0 | F16: =E16*D16 -> 0 | G16: =공종별내역서!H279 -> 0 | H16: =G16*D16 -> 0 | I16: =공종별내역서!J279 -> 0 | J16: =I16*D16 -> 0 | K16: =E16+G16+I16 -> 0 | L16: =F16+H16+J16 -> 0 | N16: 01010109 | P16: 010101 | R16: 4
A17: 01010110 가 구 공 사 | D17: 1 | E17: =공종별내역서!F302 -> 0 | F17: =E17*D17 -> 0 | G17: =공종별내역서!H302 -> 0 | H17: =G17*D17 -> 0 | I17: =공종별내역서!J302 -> 0 | J17: =I17*D17 -> 0 | K17: =E17+G17+I17 -> 0 | L17: =F17+H17+J17 -> 0 | N17: 01010110 | P17: 010101 | R17: 4
A18: 01010111 골 재 비 | D18: 1 | E18: =공종별내역서!F325 -> 0 | F18: =E18*D18 -> 0 | G18: =공종별내역서!H325 -> 0 | H18: =G18*D18 -> 0 | I18: =공종별내역서!J325 -> 0 | J18: =I18*D18 -> 0 | K18: =E18+G18+I18 -> 0 | L18: =F18+H18+J18 -> 0 | N18: 01010111 | P18: 010101 | R18: 4
A19: 01010112 해 체 공 사 | D19: 1 | E19: =공종별내역서!F371 -> 0 | F19: =E19*D19 -> 0 | G19: =공종별내역서!H371 -> 0 | H19: =G19*D19 -> 0 | I19: =공종별내역서!J371 -> 0 | J19: =I19*D19 -> 0 | K19: =E19+G19+I19 -> 0 | L19: =F19+H19+J19 -> 0 | N19: 01010112 | P19: 010101 | R19: 4
A20: 01010113 작업부산물(해체) | D20: 1 | E20: =공종별내역서!F394 -> 0 | F20: =E20*D20 -> 0 | G20: =공종별내역서!H394 -> 0 | H20: =G20*D20 -> 0 | I20: =공종별내역서!J394 -> 0 | J20: =I20*D20 -> 0 | K20: =E20+G20+I20 -> 0 | L20: =F20+H20+J20 -> 0 | N20: 01010113 | Q20: 4 | R20: 4 | T20: =L20*1 -> 0
A21: 01010114 건설폐기물처리비 | D21: 1 | E21: =공종별내역서!F417 -> 0 | F21: =E21*D21 -> 0 | G21: =공종별내역서!H417 -> 0 | H21: =G21*D21 -> 0 | I21: =공종별내역서!J417 -> 0 | J21: =I21*D21 -> 0 | K21: =E21+G21+I21 -> 0 | L21: =F21+H21+J21 -> 0 | N21: 01010114 | Q21: 5 | R21: 4 | T21: =L21*1 -> 0
A22: 0102 ■■ 기계 설비 공사 ■■ | D22: 1 | E22: =F23 -> 0 | F22: =E22*D22 -> 0 | G22: =H23 -> 0 | H22: =G22*D22 -> 0 | I22: =J23 -> 0 | J22: =I22*D22 -> 0 | K22: =E22+G22+I22 -> 0 | L22: =F22+H22+J22 -> 0 | N22: 0102 | P22: 01 | R22: 2
A23: 010201 기계 설비 공사 | D23: 1 | E23: =공종별내역서!F440 -> 0 | F23: =E23*D23 -> 0 | G23: =공종별내역서!H440 -> 0 | H23: =G23*D23 -> 0 | I23: =공종별내역서!J440 -> 0 | J23: =I23*D23 -> 0 | K23: =E23+G23+I23 -> 0 | L23: =F23+H23+J23 -> 0 | N23: 010201 | P23: 0102 | R23: 3
A26: [ 합 계 ] | F26: =F5 -> 0 | H26: =H5 -> 0 | J26: =J5 -> 0 | L26: =L5 -> 0

Sheet 공종별내역서
A1: [ 영주적십자병원건강검진센터리모델링실시설계 ]
A2: 품 명 | B2: 규 격 | C2: 단위 | D2: 수량 | E2: 재 료 비 | G2: 노 무 비 | I2: 경 비 | K2: 합 계 | M2: 비 고 | N2: 품목코드 | O2: 변수 | P2: 설정 | Q2: 공종코드 | R2: 일위 | S2: 단산 | T2: 자재 | U2: 손료적용 | V2: 손료저장 | W2: 적용율 | X2: JUK1 | Y2: JUK2 | Z2: JUK3 | AA2: JUK4 | AB2: JUK5 | AC2: JUK6 | AD2: JUK7 | AE2: JUK8 | AF2: JUK9 | AG2: JUK10 | AH2: JUK11 | AI2: JUK12 | AJ2: JUK13 | AK2: JUK14 | AL2: JUK15 | AM2: JUK16 | AN2: JUK17 | AO2: JUK18 | AP2: JUK19 | AQ2: JUK20 | AR2: 자재구분 | AS2: 공종구분 | AT2: 공종레벨 | AU2: 공종+자재 | AV2: 고유번호
E3: 단 가 | F3: 금 액 | G3: 단 가 | H3: 금 액 | I3: 단 가 | J3: 금 액 | K3: 단 가 | L3: 금 액
A4: 01010101 가 설 공 사 | Q4: 01010101
A5: 이동식가설휀스 설치 및 해체 | B5: H:1.2M | C5: M | D5: 127 | E5: =TRUNC(일위대가목록!E4,0) -> 0 | F5: =TRUNC(E5*D5, 0) -> 0 | G5: =TRUNC(일위대가목록!F4,0) -> 0 | H5: =TRUNC(G5*D5, 0) -> 0 | I5: =TRUNC(일위대가목록!G4,0) -> 0 | J5: =TRUNC(I5*D5, 0) -> 0 | K5: =TRUNC(E5+G5+I5, 0) -> 0 | L5: =TRUNC(F5+H5+J5, 0) -> 0 | M5: 호표 1 | N5: 5E9F54EB13E712E0DA9A5663F1C439 | Q5: 01010101 | R5: T | S5: F | T5: F | AU5: 010101015E9F54EB13E712E0DA9A5663F1C439 | AV5: 7
A6: 가설칸막이 설치 및 해체 | B6: 50mm, 샌드위치판넬(비닐보양포함) | C6: M2 | D6: 72 | E6: =TRUNC(일위대가목록!E5,0) -> 0 | F6: =TRUNC(E6*D6, 0) -> 0 | G6: =TRUNC(일위대가목록!F5,0) -> 0 | H6: =TRUNC(G6*D6, 0) -> 0 | I6: =TRUNC(일위대가목록!G5,0) -> 0 | J6: =TRUNC(I6*D6, 0) -> 0 | K6: =TRUNC(E6+G6+I6, 0) -> 0 | L6: =TRUNC(F6+H6+J6, 0) -> 0 | M6: 호표 2 | N6: 5E9F54EB13E712E0D09729613C572A | Q6: 01010101 | R6: T | S6: F | T6: F | AU6: 010101015E9F54EB13E712E0D09729613C572A | AV6: 8
A7: 가설칸막이 출입문 설치 및 해체 | B7: 판넬 1800*2100, 양개도어 | C7: EA | D7: 5 | E7: =TRUNC(일위대가목록!E6,0) -> 0 | F7: =TRUNC(E7*D7, 0) -> 0 | G7: =TRUNC(일위대가목록!F6,0) -> 0 | H7: =TRUNC(G7*D7, 0) -> 0 | I7: =TRUNC(일위대가목록!G6,0) -> 0 | J7: =TRUNC(I7*D7, 0) -> 0 | K7: =TRUNC(E7+G7+I7, 0) -> 0 | L7: =TRUNC(F7+H7+J7, 0) -> 0 | M7: 호표 3 | N7: 5E9F54EB13E712E0D09729613C52A8 | Q7: 01010101 | R7: T | S7: F | T7: F | AU7: 010101015E9F54EB13E712E0D09729613C52A8 | AV7: 9
A8: 강관 조립말비계(이동식)설치 및 해체 | B8: 높이 2m, 3개월 | C8: 대 | D8: 7 | E8: =TRUNC(일위대가목록!E7,0) -> 0 | F8: =TRUNC(E8*D8, 0) -> 0 | G8: =TRUNC(일위대가목록!F7,0) -> 0 | H8: =TRUNC(G8*D8, 0) -> 0 | I8: =TRUNC(일위대가목록!G7,0) -> 0 | J8: =TRUNC(I8*D8, 0) -> 0 | K8: =TRUNC(E8+G8+I8, 0) -> 0 | L8: =TRUNC(F8+H8+J8, 0) -> 0 | M8: 호표 4 | N8: 5E9F54EB13C412A0B5F32F575B6091 | Q8: 01010101 | R8: T | S8: F | T8: F | AU8: 010101015E9F54EB13C412A0B5F32F575B6091 | AV8: 10
A9: 건축물 현장정리 | B9: 리모델링(준공청소포함) | C9: M2 | D9: 775 | E9: =TRUNC(일위대가목록!E8,0) -> 0 | F9: =TRUNC(E9*D9, 0) -> 0 | G9: =TRUNC(일위대가목록!F8,0) -> 0 | H9: =TRUNC(G9*D9, 0) -> 0 | I9: =TRUNC(일위대가목록!G8,0) -> 0 | J9: =TRUNC(I9*D9, 0) -> 0 | K9: =TRUNC(E9+G9+I9, 0) -> 0 | L9: =TRUNC(F9+H9+J9, 0) -> 0 | M9: 호표 5 | N9: 5E9F54EED32F12809F4C44BF9D4029 | Q9: 01010101 | R9: T | S9: F | T9: F | AU9: 010101015E9F54EED32F12809F4C44BF9D4029 | AV9: 4
A10: 건축물보양 | B10: 바닥 | C10: M2 | D10: 643 | E10: =TRUNC(일위대가목록!E9,0) -> 0 | F10: =TRUNC(E10*D10, 0) -> 0 | G10: =TRUNC(일위대가목록!F9,0) -> 0 | H10: =TRUNC(G10*D10, 0) -> 0 | I10: =TRUNC(일위대가목록!G9,0) -> 0 | J10: =TRUNC(I10*D10, 0) -> 0 | K10: =TRUNC(E10+G10+I10, 0) -> 0 | L10: =TRUNC(F10+H10+J10, 0) -> 0 | M10: 호표 6 | N10: 5E9F54EED31D128027CF3E1F4B5D07 | Q10: 01010101 | R10: T | S10: F | T10: F | AU10: 010101015E9F54EED31D128027CF3E1F4B5D07 | AV10: 5
Q11: 01010101
Q12: 01010101
Q13: 01010101
Q14: 01010101
Q15: 01010101
Q16: 01010101
Q17: 01010101
Q18: 01010101
Q19: 01010101
Q20: 01010101
Q21: 01010101
Q22: 01010101
... Q25: 01010101
A26: [ 합 계 ] | F26: =SUMIF(Q5:Q25,"01010101",F5:F25) -> 0 | H26: =SUMIF(Q5:Q25,"01010101",H5:H25) -> 0 | J26: =SUMIF(Q5:Q25,"01010101",J5:J25) -> 0 | L26: =SUMIF(Q5:Q25,"01010101",L5:L25) -> 0 | N26: TOTAL
A27: 01010102 타 일 공 사 | Q27: 01010102
A28: 바닥타일 [TL-01] | B28: 바닥, 600*600*9mm | C28: M2 | D28: 22 | E28: =TRUNC(단가대비표!O40,0) -> 0 | F28: =TRUNC(E28*D28, 0) -> 0 | G28: =TRUNC(단가대비표!P40,0) -> 0 | H28: =TRUNC(G28*D28, 0) -> 0 | I28: =TRUNC(단가대비표!V40,0) -> 0 | J28: =TRUNC(I28*D28, 0) -> 0 | K28: =TRUNC(E28+G28+I28, 0) -> 0 | L28: =TRUNC(F28+H28+J28, 0) -> 0 | M28: 자재 36 | N28: 59B56427538C12D0FCC972C182CBF5B82CFBE3 | Q28: 01010102 | R28: F | S28: F | T28: T | AU28: 0101010259B56427538C12D0FCC972C182CBF5B82CFBE3 | AV28: 13
A29: 타일 붙임 / 접착 붙이기 | B29: 바닥, 600*600 | C29: M2 | D29: 21 | E29: =TRUNC(일위대가목록!E10,0) -> 0 | F29: =TRUNC(E29*D29, 0) -> 0 | G29: =TRUNC(일위대가목록!F10,0) -> 0 | H29: =TRUNC(G29*D29, 0) -> 0 | I29: =TRUNC(일위대가목록!G10,0) -> 0 | J29: =TRUNC(I29*D29, 0) -> 0 | K29: =TRUNC(E29+G29+I29, 0) -> 0 | L29: =TRUNC(F29+H29+J29, 0) -> 0 | M29: 호표 7 | N29: 5E9F9404332E12C0B048068B79FBD5 | Q29: 01010102 | R29: T | S29: F | T29: F | AU29: 010101025E9F9404332E12C0B048068B79FBD5 | AV29: 15
A30: 벽체타일 [TL-02] | B30: 벽, 300*600*9mm | C30: M2 | D30: 45 | E30: =TRUNC(단가대비표!O39,0) -> 0 | F30: =TRUNC(E30*D30, 0) -> 0 | G30: =TRUNC(단가대비표!P39,0) -> 0 | H30: =TRUNC(G30*D30, 0) -> 0 | I30: =TRUNC(단가대비표!V39,0) -> 0 | J30: =TRUNC(I30*D30, 0) -> 0 | K30: =TRUNC(E30+G30+I30, 0) -> 0 | L30: =TRUNC(F30+H30+J30, 0) -> 0 | M30: 자재 35 | N30: 59B56427538C12D0FCC972C182CF64D40DE171 | Q30: 01010102 | R30: F | S30: F | T30: T | AU30: 0101010259B56427538C12D0FCC972C182CF64D40DE171 | AV30: 12
A31: 타일 붙임 / 접착 붙이기 | B31: 벽, 300*600 | C31: M2 | D31: 44 | E31: =TRUNC(일위대가목록!E11,0) -> 0 | F31: =TRUNC(E31*D31, 0) -> 0 | G31: =TRUNC(일위대가목록!F11,0) -> 0 | H31: =TRUNC(G31*D31, 0) -> 0 | I31: =TRUNC(일위대가목록!G11,0) -> 0 | J31: =TRUNC(I31*D31, 0) -> 0 | K31: =TRUNC(E31+G31+I31, 0) -> 0 | L31: =TRUNC(F31+H31+J31, 0) -> 0 | M31: 호표 8 | N31: 5E9F9404332E12C0B04806894C872A | Q31: 01010102 | R31: T | S31: F | T31: F | AU31: 010101025E9F9404332E12C0B04806894C872A | AV31: 14
Q32: 01010102
Q33: 01010102
Q34: 01010102
Q35: 01010102
Q36: 01010102
Q37: 01010102
Q38: 01010102
Q39: 01010102
Q40: 01010102
Q41: 01010102
Q42: 01010102
...

Sheet 일위대가목록
B1: 일 위 대 가 목 록
B2: [ 영주적십자병원건강검진센터리모델링실시설계 ]
A3: 코 드 | B3: 품 명 | C3: 규 격 | D3: 단위 | E3: 재 료 비 | F3: 노 무 비 | G3: 경 비 | H3: 합 계 | I3: 번 호 | J3: 비 고 | K3: 노임계수 | L3: 할증 | M3: 품셈개요 | N3: 장비일위
A4: 5E9F54EB13E712E0DA9A5663F1C439 | B4: 이동식가설휀스 설치 및 해체 | C4: H:1.2M | D4: M | E4: =일위대가!F6 -> 0 | F4: =일위대가!H6 -> 0 | G4: =일위대가!J6 -> 0 | H4: =E4+F4+G4 -> 0 | I4: 호표 1
A5: 5E9F54EB13E712E0D09729613C572A | B5: 가설칸막이 설치 및 해체 | C5: 50mm, 샌드위치판넬(비닐보양포함) | D5: M2 | E5: =일위대가!F14 -> 0 | F5: =일위대가!H14 -> 0 | G5: =일위대가!J14 -> 0 | H5: =E5+F5+G5 -> 0 | I5: 호표 2
A6: 5E9F54EB13E712E0D09729613C52A8 | B6: 가설칸막이 출입문 설치 및 해체 | C6: 판넬 1800*2100, 양개도어 | D6: EA | E6: =일위대가!F21 -> 0 | F6: =일위대가!H21 -> 0 | G6: =일위대가!J21 -> 0 | H6: =E6+F6+G6 -> 0 | I6: 호표 3
A7: 5E9F54EB13C412A0B5F32F575B6091 | B7: 강관 조립말비계(이동식)설치 및 해체 | C7: 높이 2m, 3개월 | D7: 대 | E7: =일위대가!F34 -> 0 | F7: =일위대가!H34 -> 0 | G7: =일위대가!J34 -> 0 | H7: =E7+F7+G7 -> 0 | I7: 호표 4 | M7: 공통 2-7-6, 2-2-5
A8: 5E9F54EED32F12809F4C44BF9D4029 | B8: 건축물 현장정리 | C8: 리모델링(준공청소포함) | D8: M2 | E8: =일위대가!F38 -> 0 | F8: =일위대가!H38 -> 0 | G8: =일위대가!J38 -> 0 | H8: =E8+F8+G8 -> 0 | I8: 호표 5
A9: 5E9F54EED31D128027CF3E1F4B5D07 | B9: 건축물보양 | C9: 바닥 | D9: M2 | E9: =일위대가!F44 -> 0 | F9: =일위대가!H44 -> 0 | G9: =일위대가!J44 -> 0 | H9: =E9+F9+G9 -> 0 | I9: 호표 6 | M9: 공통 2-11-1
A10: 5E9F9404332E12C0B048068B79FBD5 | B10: 타일 붙임 / 접착 붙이기 | C10: 바닥, 600*600 | D10: M2 | E10: =일위대가!F50 -> 0 | F10: =일위대가!H50 -> 0 | G10: =일위대가!J50 -> 0 | H10: =E10+F10+G10 -> 0 | I10: 호표 7 | M10: 건축 3-2-3
A11: 5E9F9404332E12C0B04806894C872A | B11: 타일 붙임 / 접착 붙이기 | C11: 벽, 300*600 | D11: M2 | E11: =일위대가!F56 -> 0 | F11: =일위대가!H56 -> 0 | G11: =일위대가!J56 -> 0 | H11: =E11+F11+G11 -> 0 | I11: 호표 8 | M11: 건축 3-2-3
A12: 5E9FB45383C312A079866617510A3E | B12: 비닐시트 깔기 [VS-03] | C12: 비닐시트, 2.0mm | D12: M2 | E12: =일위대가!F62 -> 0 | F12: =일위대가!H62 -> 0 | G12: =일위대가!J62 -> 0 | H12: =E12+F12+G12 -> 0 | I12: 호표 9
A13: 5E9FB45383841220433F6E1322C02B | B13: 걸레받이 설치 [BA-01] | C13: H:100, 비닐코브베이스 | D13: M | E13: =일위대가!F68 -> 0 | F13: =일위대가!H68 -> 0 | G13: =일위대가!J68 -> 0 | H13: =E13+F13+G13 -> 0 | I13: 호표 10
A14: 5E9FB451D3DB12806E66FB75E41C06 | B14: 석고판 설치 | C14: 벽, 차음GB 12.5mm 2겹(테파드보드+평보드) | D14: M2 | E14: =일위대가!F73 -> 0 | F14: =일위대가!H73 -> 0 | G14: =일위대가!J73 -> 0 | H14: =E14+F14+G14 -> 0 | I14: 호표 11
A15: 5E9FB45FB3F11200528D15FEA4FC8B | B15: 그라스울 설치 | C15: 벽체, 50mm 그라스울(24K) | D15: M2 | E15: =일위대가!F79 -> 0 | F15: =일위대가!H79 -> 0 | G15: =일위대가!J79 -> 0 | H15: =E15+F15+G15 -> 0 | I15: 호표 12
A16: 5E9FE48C53101290BD7EDCCF2B2F06 | B16: 스터드설치 | C16: 벽, C-STUD(50*45*0.8mm@450) | D16: M2 | E16: =일위대가!F91 -> 0 | F16: =일위대가!H91 -> 0 | G16: =일위대가!J91 -> 0 | H16: =E16+F16+G16 -> 0 | I16: 호표 13
A17: 5E9FD4A1A34C12C0C56521DF4B0EFF | B17: 원목마루 설치 [WF-01] | C17: 바닥, 10mm 지정원목마루(방염)+에폭시본드 | D17: M2 | E17: =일위대가!F97 -> 0 | F17: =일위대가!H97 -> 0 | G17: =일위대가!J97 -> 0 | H17: =E17+F17+G17 -> 0 | I17: 호표 14
A18: 5E9FE48C53101290BD7EDCCF2B2D5C | B18: 스터드설치 | C18: 벽, C-STUD(75*45*0.8mm@450) | D18: M2 | E18: =일위대가!F109 -> 0 | F18: =일위대가!H109 -> 0 | G18: =일위대가!J109 -> 0 | H18: =E18+F18+G18 -> 0 | I18: 호표 15
A19: 5E9FE48C53101290BD7EDCCF2A03FB | B19: 스터드설치 | C19: 벽, C-STUD(100*45*0.8mm@450) | D19: M2 | E19: =일위대가!F121 -> 0 | F19: =일위대가!H121 -> 0 | G19: =일위대가!J121 -> 0 | H19: =E19+F19+G19 -> 0 | I19: 호표 16
A20: 5E9FE48C53101290BD7EDCCC574BE6 | B20: 스터드설치 | C20: 벽, CH-STUD(102*35*0.8mm@600) | D20: M2 | E20: =일위대가!F133 -> 0 | F20: =일위대가!H133 -> 0 | G20: =일위대가!J133 -> 0 | H20: =E20+F20+G20 -> 0 | I20: 호표 17
A21: 5E9FB45383C312A079866617510A3C | B21: 비닐시트 깔기 [VS-01] | C21: 비닐시트, 2.0mm | D21: M2 | E21: =일위대가!F139 -> 0 | F21: =일위대가!H139 -> 0 | G21: =일위대가!J139 -> 0 | H21: =E21+F21+G21 -> 0 | I21: 호표 18
A22: 5E9FB45383C312A079866617510A3F | B22: 비닐시트 깔기 [VS-02] | C22: 비닐시트, 2.0mm | D22: M2 | E22: =일위대가!F145 -> 0 | F22: =일위대가!H145 -> 0 | G22: =일위대가!J145 -> 0 | H22: =E22+F22+G22 -> 0 | I22: 호표 19
A23: 5E9FB45383C312A079866617510A39 | B23: 비닐시트 깔기 [VS-04] | C23: 비닐시트, 2.0mm | D23: M2 | E23: =일위대가!F151 -> 0 | F23: =일위대가!H151 -> 0 | G23: =일위대가!J151 -> 0 | H23: =E23+F23+G23 -> 0 | I23: 호표 20
A24: 5E9FB45383C312A079866617510A38 | B24: 비닐시트 깔기 [VS-05] | C24: 비닐시트, 2.0mm | D24: M2 | E24: =일위대가!F157 -> 0 | F24: =일위대가!H157 -> 0 | G24: =일위대가!J157 -> 0 | H24: =E24+F24+G24 -> 0 | I24: 호표 21
A25: 5E9FB450339C125044EEA844821EF2 | B25: 도배바름(합판·석고보드면) [WC-01] | C25: 벽, 지정벽지 | D25: M2 | E25: =일위대가!F164 -> 0 | F25: =일위대가!H164 -> 0 | G25: =일위대가!J164 -> 0 | H25: =E25+F25+G25 -> 0 | I25: 호표 22 | M25: 건축 5-3-7
A26: 5E9FB450339C125044EEA844821DEB | B26: 도배바름(합판·석고보드면) [WC-02] | C26: 벽, 지정벽지 | D26: M2 | E26: =일위대가!F171 -> 0 | F26: =일위대가!H171 -> 0 | G26: =일위대가!J171 -> 0 | H26: =E26+F26+G26 -> 0 | I26: 호표 23 | M26: 건축 5-3-7
A27: 5E9FB450339C125044EEA844821CC5 | B27: 도배바름(합판·석고보드면) [WC-03] | C27: 벽, 지정벽지 | D27: M2 | E27: =일위대가!F178 -> 0 | F27: =일위대가!H178 -> 0 | G27: =일위대가!J178 -> 0 | H27: =E27+F27+G27 -> 0 | I27: 호표 24 | M27: 건축 5-3-7
A28: 5E9FB450339C125043C79F82637CAD | B28: 도배바름(콘크리트·모르타르면) [WC-02] | C28: 벽, 지정벽지 | D28: M2 | E28: =일위대가!F185 -> 0 | F28: =일위대가!H185 -> 0 | G28: =일위대가!J185 -> 0 | H28: =E28+F28+G28 -> 0 | I28: 호표 25 | M28: 건축 5-3-7
A29: 5E9FB450339C125043C79F82637DB4 | B29: 도배바름(콘크리트·모르타르면) [WC-03] | C29: 벽, 지정벽지 | D29: M2 | E29: =일위대가!F192 -> 0 | F29: =일위대가!H192 -> 0 | G29: =일위대가!J192 -> 0 | H29: =E29+F29+G29 -> 0 | I29: 호표 26 | M29: 건축 5-3-7
A30: 5E9FB451D3DB12806E66FB75E6C8F4 | B30: 석고판 설치 | C30: 벽, 일반GB 12.5mm 1겹(평보드) | D30: M2 | E30: =일위대가!F197 -> 0 | F30: =일위대가!H197 -> 0 | G30: =일위대가!J197 -> 0 | H30: =E30+F30+G30 -> 0 | I30: 호표 27
A31: 5E9FB451D3DB12806E66FB75E6CF23 | B31: 석고판 설치 | C31: 벽, 고강도 일반GB 12.5mm 1겹(테파드보드) | D31: M2 | E31: =일위대가!F202 -> 0 | F31: =일위대가!H202 -> 0 | G31: =일위대가!J202 -> 0 | H31: =E31+F31+G31 -> 0 | I31: 호표 28
A32: 5E9FB451D3DB12806E66FB75E7D50B | B32: 석고판 설치 | C32: 벽, 일반GB 12.5mm 1겹(평보드) | D32: M2 | E32: =일위대가!F207 -> 0 | F32: =일위대가!H207 -> 0 | G32: =일위대가!J207 -> 0 | H32: =E32+F32+G32 -> 0 | I32: 호표 29
A33: 5E9FB451D3DB12806E66FB75E7D467 | B33: 석고판 설치 | C33: 벽, 일반GB 12.5mm 2겹(테파드보드+평보드) | D33: M2 | E33: =일위대가!F212 -> 0 | F33: =일위대가!H212 -> 0 | G33: =일위대가!J212 -> 0 | H33: =E33+F33+G33 -> 0 | I33: 호표 30
A34: 5E9FB451D3DB12806E66FB75E41D28 | B34: 석고판 설치 | C34: 벽, 차음GB 12.5mm 1겹(평보드) | D34: M2 | E34: =일위대가!F217 -> 0 | F34: =일위대가!H217 -> 0 | G34: =일위대가!J217 -> 0 | H34: =E34+F34+G34 -> 0 | I34: 호표 31
A35: 5E9FB451D3DB12806E66FB75E52526 | B35: 석고판 설치 | C35: 벽, 방화GB 12.5mm 2겹(평보드) | D35: M2 | E35: =일위대가!F222 -> 0 | F35: =일위대가!H222 -> 0 | G35: =일위대가!J222 -> 0 | H35: =E35+F35+G35 -> 0 | I35: 호표 32
A36: 5E9FB451D3DB12806E66FB75E526CC | B36: 석고판 설치 | C36: 벽, 방화GB 25mm 1겹 | D36: M2 | E36: =일위대가!F227 -> 0 | F36: =일위대가!H227 -> 0 | G36: =일위대가!J227 -> 0 | H36: =E36+F36+G36 -> 0 | I36: 호표 33
A37: 5E9FB451D3DB12806E66FB75E5214B | B37: 석고판 설치 | C37: 벽, 고성능 방수방균GB 12.5mm 1겹(평보드) | D37: M2 | E37: =일위대가!F232 -> 0 | F37: =일위대가!H232 -> 0 | G37: =일위대가!J232 -> 0 | H37: =E37+F37+G37 -> 0 | I37: 호표 34
A38: 5E9FB451D3DB12806D40F89E2B55ED | B38: 석고판 설치 | C38: 천장, 일반 9.5mm 2겹(마감판부착노임1겹제외) | D38: M2 | E38: =일위대가!F238 -> 0 | F38: =일위대가!H238 -> 0 | G38: =일위대가!J238 -> 0 | H38: =E38+F38+G38 -> 0 | I38: 호표 35
A39: 5E9FB45FB3C512C0AA8A71F15345DB | B39: 시트마감 [SH-02] | C39: 벽, 시트마감(MDF9.0mm+지정시트) | D39: M2 | E39: =일위대가!F244 -> 0 | F39: =일위대가!H244 -> 0 | G39: =일위대가!J244 -> 0 | H39: =E39+F39+G39 -> 0 | I39: 호표 36
A40: 5E9FB45FB3C512C0AA8A71F15345DE | B40: 시트마감 [SH-03] | C40: 벽, 시트마감(GB12.5mm+지정시트) | D40: M2 | E40: =일위대가!F249 -> 0 | F40: =일위대가!H249 -> 0 | G40: =일위대가!J249 -> 0 | H40: =E40+F40+G40 -> 0 | I40: 호표 37
...

Sheet 일위대가
A1: [ 영주적십자병원건강검진센터리모델링실시설계 ]
A2: 품 명 | B2: 규 격 | C2: 단위 | D2: 수량 | E2: 재 료 비 | G2: 노 무 비 | I2: 경 비 | K2: 합 계 | M2: 비 고 | N2: 일위대가 | O2: 품목코드 | P2: 일위 | Q2: 단산 | R2: 자재 | S2: 손료적용 | T2: 손료저장 | U2: 적용율 | V2: JUK1 | W2: JUK2 | X2: JUK3 | Y2: JUK4 | Z2: JUK5 | AA2: JUK6 | AB2: JUK7 | AC2: JUK8 | AD2: JUK9 | AE2: JUK10 | AF2: JUK11 | AG2: JUK12 | AH2: JUK13 | AI2: JUK14 | AJ2: JUK15 | AK2: JUK16 | AL2: JUK17 | AM2: JUK18 | AN2: JUK19 | AO2: JUK20 | AP2: 할증적용 | AQ2: 할증저장 | AR2: 할증율 | AS2: HAL1 | AT2: HAL2 | AU2: HAL3 | AV2: 자재구분 | AW2: 일위대가+자재 | AX2: 장비일위 | AY2: 설정 | AZ2: 할증체크
E3: 단 가 | F3: 금 액 | G3: 단 가 | H3: 금 액 | I3: 단 가 | J3: 금 액 | K3: 단 가 | L3: 금 액
A4: 이동식가설휀스 설치 및 해체 H:1.2M M ( 호표 1 ) | N4: 5E9F54EB13E712E0DA9A5663F1C439
A5: 이동식가설휀스 | C5: M | D5: 1 | E5: =단가대비표!O212 -> 0 | F5: =TRUNC(E5*D5,1) -> 0 | G5: =단가대비표!P212 -> 0 | H5: =TRUNC(G5*D5,1) -> 0 | I5: =단가대비표!V212 -> 0 | J5: =TRUNC(I5*D5,1) -> 0 | K5: =TRUNC(E5+G5+I5,1) -> 0 | L5: =TRUNC(F5+H5+J5,1) -> 0 | M5: 자재 190 | N5: 5E9F54EB13E712E0DA9A5663F1C439 | O5: 5F290447F36A12F09E54969BA0F11CE7D608B8 | P5: F | Q5: F | R5: T | AW5: 5E9F54EB13E712E0DA9A5663F1C4395F290447F36A12F09E54969BA0F11CE7D608B8
A6: [ 합 계 ] | F6: =TRUNC(SUMIF(N5:N5, N4, F5:F5),0) -> 0 | H6: =TRUNC(SUMIF(N5:N5, N4, H5:H5),0) -> 0 | J6: =TRUNC(SUMIF(N5:N5, N4, J5:J5),0) -> 0 | L6: =F6+H6+J6 -> 0 | N6: TOTAL | O6: TOTAL
A8: 가설칸막이 설치 및 해체 50mm, 샌드위치판넬(비닐보양포함) M2 ( 호표 2 ) | N8: 5E9F54EB13E712E0D09729613C572A
A9: 샌드위치패널 | B9: 샌드위치패널, EPS(0.016), 벽재, 50mm | C9: M2 | D9: 1.05 | E9: =단가대비표!O41 -> 0 | F9: =TRUNC(E9*D9,1) -> 0 | G9: =단가대비표!P41 -> 0 | H9: =TRUNC(G9*D9,1) -> 0 | I9: =단가대비표!V41 -> 0 | J9: =TRUNC(I9*D9,1) -> 0 | K9: =TRUNC(E9+G9+I9,1) -> 0 | L9: =TRUNC(F9+H9+J9,1) -> 0 | M9: 자재 37 | N9: 5E9F54EB13E712E0D09729613C572A | O9: 59B5642753E5125009EEAD193FA9D8C31BD960 | P9: F | Q9: F | R9: T | AW9: 5E9F54EB13E712E0D09729613C572A59B5642753E5125009EEAD193FA9D8C31BD960
A10: 내장공 | B10: 일반공사 직종 | C10: 인 | D10: 0.048 | E10: =단가대비표!O160 -> 0 | F10: =TRUNC(E10*D10,1) -> 0 | G10: =단가대비표!P160 -> 0 | H10: =TRUNC(G10*D10,1) -> 0 | I10: =단가대비표!V160 -> 0 | J10: =TRUNC(I10*D10,1) -> 0 | K10: =TRUNC(E10+G10+I10,1) -> 0 | L10: =TRUNC(F10+H10+J10,1) -> 0 | M10: 노임 14 | N10: 5E9F54EB13E712E0D09729613C572A | O10: 5E40348DB33712E0DA7192D8353B1A971A6824 | P10: F | Q10: F | R10: T | AW10: 5E9F54EB13E712E0D09729613C572A5E40348DB33712E0DA7192D8353B1A971A6824
A11: 보통인부 | B11: 일반공사 직종 | C11: 인 | D11: 0.008 | E11: =단가대비표!O147 -> 0 | F11: =TRUNC(E11*D11,1) -> 0 | G11: =단가대비표!P147 -> 0 | H11: =TRUNC(G11*D11,1) -> 0 | I11: =단가대비표!V147 -> 0 | J11: =TRUNC(I11*D11,1) -> 0 | K11: =TRUNC(E11+G11+I11,1) -> 0 | L11: =TRUNC(F11+H11+J11,1) -> 0 | M11: 노임 1 | N11: 5E9F54EB13E712E0D09729613C572A | O11: 5E40348DB33712E0DA7192D8353B1A971A6BFB | P11: F | Q11: F | R11: T | AW11: 5E9F54EB13E712E0D09729613C572A5E40348DB33712E0DA7192D8353B1A971A6BFB
A12: 내장공 | B12: 일반공사 직종 | C12: 인 | D12: 0.03 | E12: =단가대비표!O160 -> 0 | F12: =TRUNC(E12*D12,1) -> 0 | G12: =단가대비표!P160 -> 0 | H12: =TRUNC(G12*D12,1) -> 0 | I12: =단가대비표!V160 -> 0 | J12: =TRUNC(I12*D12,1) -> 0 | K12: =TRUNC(E12+G12+I12,1) -> 0 | L12: =TRUNC(F12+H12+J12,1) -> 0 | M12: 노임 14 | N12: 5E9F54EB13E712E0D09729613C572A | O12: 5E40348DB33712E0DA7192D8353B1A971A6824 | P12: F | Q12: F | R12: T | AW12: 5E9F54EB13E712E0D09729613C572A5E40348DB33712E0DA7192D8353B1A971A6824
A13: 각파이프보강 | B13: ㅁ30*30*1.6mm(비노출/도장유) | C13: M | D13: 2.5 | E13: =일위대가목록!E149 -> 0 | F13: =TRUNC(E13*D13,1) -> 0 | G13: =일위대가목록!F149 -> 0 | H13: =TRUNC(G13*D13,1) -> 0 | I13: =일위대가목록!G149 -> 0 | J13: =TRUNC(I13*D13,1) -> 0 | K13: =TRUNC(E13+G13+I13,1) -> 0 | L13: =TRUNC(F13+H13+J13,1) -> 0 | M13: 호표 146 | N13: 5E9F54EB13E712E0D09729613C572A | O13: 5E9FB45A33D112A0BA21BDE0C363BE | P13: T | Q13: F | R13: F | AW13: 5E9F54EB13E712E0D09729613C572A5E9FB45A33D112A0BA21BDE0C363BE
A14: [ 합 계 ] | F14: =TRUNC(SUMIF(N9:N13, N8, F9:F13),0) -> 0 | H14: =TRUNC(SUMIF(N9:N13, N8, H9:H13),0) -> 0 | J14: =TRUNC(SUMIF(N9:N13, N8, J9:J13),0) -> 0 | L14: =F14+H14+J14 -> 0 | N14: TOTAL | O14: TOTAL
A16: 가설칸막이 출입문 설치 및 해체 판넬 1800*2100, 양개도어 EA ( 호표 3 ) | N16: 5E9F54EB13E712E0D09729613C52A8
A17: 가설칸막이 설치 및 해체 | B17: 50mm, 샌드위치판넬(비닐보양포함) | C17: M2 | D17: 3.78 | E17: =일위대가목록!E5 -> 0 | F17: =TRUNC(E17*D17,1) -> 0 | G17: =일위대가목록!F5 -> 0 | H17: =TRUNC(G17*D17,1) -> 0 | I17: =일위대가목록!G5 -> 0 | J17: =TRUNC(I17*D17,1) -> 0 | K17: =TRUNC(E17+G17+I17,1) -> 0 | L17: =TRUNC(F17+H17+J17,1) -> 0 | M17: 호표 2 | N17: 5E9F54EB13E712E0D09729613C52A8 | O17: 5E9F54EB13E712E0D09729613C572A | P17: T | Q17: F | R17: F | AW17: 5E9F54EB13E712E0D09729613C52A85E9F54EB13E712E0D09729613C572A
A18: 도어힌지 | B18: 도어힌지, 황동, 101.6*88.9*2.7mm | C18: 개 | D18: 6 | E18: =단가대비표!O81 -> 0 | F18: =TRUNC(E18*D18,1) -> 0 | G18: =단가대비표!P81 -> 0 | H18: =TRUNC(G18*D18,1) -> 0 | I18: =단가대비표!V81 -> 0 | J18: =TRUNC(I18*D18,1) -> 0 | K18: =TRUNC(E18+G18+I18,1) -> 0 | L18: =TRUNC(F18+H18+J18,1) -> 0 | M18: 자재 77 | N18: 5E9F54EB13E712E0D09729613C52A8 | O18: 59B574CCD31512F022F40BBF9EA63974D12FA4 | P18: F | Q18: F | R18: T | AW18: 5E9F54EB13E712E0D09729613C52A859B574CCD31512F022F40BBF9EA63974D12FA4
A19: 도어핸들 | B19: 도어핸들, 8300, 2CA, 스테인리스 | C19: 조 | D19: 2 | E19: =단가대비표!O82 -> 0 | F19: =TRUNC(E19*D19,1) -> 0 | G19: =단가대비표!P82 -> 0 | H19: =TRUNC(G19*D19,1) -> 0 | I19: =단가대비표!V82 -> 0 | J19: =TRUNC(I19*D19,1) -> 0 | K19: =TRUNC(E19+G19+I19,1) -> 0 | L19: =TRUNC(F19+H19+J19,1) -> 0 | M19: 자재 78 | N19: 5E9F54EB13E712E0D09729613C52A8 | O19: 59B574CCD31512F02EA510096C2CAF1AFE1DB1 | P19: F | Q19: F | R19: T | AW19: 5E9F54EB13E712E0D09729613C52A859B574CCD31512F02EA510096C2CAF1AFE1DB1
A20: 도어록 설치 / 일반도어록 강재창호 | B20: 재료비 별도 | C20: 개소 | D20: 2 | E20: =일위대가목록!E154 -> 0 | F20: =TRUNC(E20*D20,1) -> 0 | G20: =일위대가목록!F154 -> 0 | H20: =TRUNC(G20*D20,1) -> 0 | I20: =일위대가목록!G154 -> 0 | J20: =TRUNC(I20*D20,1) -> 0 | K20: =TRUNC(E20+G20+I20,1) -> 0 | L20: =TRUNC(F20+H20+J20,1) -> 0 | M20: 호표 151 | N20: 5E9F54EB13E712E0D09729613C52A8 | O20: 5E9F841873661240141DA9F71EAB53 | P20: T | Q20: F | R20: F | AW20: 5E9F54EB13E712E0D09729613C52A85E9F841873661240141DA9F71EAB53
A21: [ 합 계 ] | F21: =TRUNC(SUMIF(N17:N20, N16, F17:F20),0) -> 0 | H21: =TRUNC(SUMIF(N17:N20, N16, H17:H20),0) -> 0 | J21: =TRUNC(SUMIF(N17:N20, N16, J17:J20),0) -> 0 | L21: =F21+H21+J21 -> 0 | N21: TOTAL | O21: TOTAL
A23: 강관 조립말비계(이동식)설치 및 해체 높이 2m, 3개월 대 공통 2-7-6, 2-2-5 ( 호표 4 ) | N23: 5E9F54EB13C412A0B5F32F575B6091
A24: 비계안정장치 | B24: 비계안정장치, 비계기본틀, 기둥, 1.2*1.7m | C24: 개 | D24: 0.14 | E24: =단가대비표!O71 -> 0 | F24: =TRUNC(E24*D24,1) -> 0 | G24: =단가대비표!P71 -> 0 | H24: =TRUNC(G24*D24,1) -> 0 | I24: =단가대비표!V71 -> 0 | J24: =TRUNC(I24*D24,1) -> 0 | K24: =TRUNC(E24+G24+I24,1) -> 0 | L24: =TRUNC(F24+H24+J24,1) -> 0 | M24: 자재 67 | N24: 5E9F54EB13C412A0B5F32F575B6091 | O24: 59B56427532A12204CA07629B2E834DD051DC1 | P24: F | Q24: F | R24: T | AW24: 5E9F54EB13C412A0B5F32F575B609159B56427532A12204CA07629B2E834DD051DC1
A25: 비계안정장치 | B25: 비계안정장치, 가새, 1.2*1.9m | C25: 개 | D25: 0.14 | E25: =단가대비표!O72 -> 0 | F25: =TRUNC(E25*D25,1) -> 0 | G25: =단가대비표!P72 -> 0 | H25: =TRUNC(G25*D25,1) -> 0 | I25: =단가대비표!V72 -> 0 | J25: =TRUNC(I25*D25,1) -> 0 | K25: =TRUNC(E25+G25+I25,1) -> 0 | L25: =TRUNC(F25+H25+J25,1) -> 0 | M25: 자재 68 | N25: 5E9F54EB13C412A0B5F32F575B6091 | O25: 59B56427532A12204CA07629B2E834DD051DCF | P25: F | Q25: F | R25: T | AW25: 5E9F54EB13C412A0B5F32F575B609159B56427532A12204CA07629B2E834DD051DCF
A26: 비계안정장치 | B26: 비계안정장치, 수평띠장, 1829mm | C26: 개 | D26: 0.28 | E26: =단가대비표!O73 -> 0 | F26: =TRUNC(E26*D26,1) -> 0 | G26: =단가대비표!P73 -> 0 | H26: =TRUNC(G26*D26,1) -> 0 | I26: =단가대비표!V73 -> 0 | J26: =TRUNC(I26*D26,1) -> 0 | K26: =TRUNC(E26+G26+I26,1) -> 0 | L26: =TRUNC(F26+H26+J26,1) -> 0 | M26: 자재 69 | N26: 5E9F54EB13C412A0B5F32F575B6091 | O26: 59B56427532A12204CA07629B2E834DD05123E | P26: F | Q26: F | R26: T | AW26: 5E9F54EB13C412A0B5F32F575B609159B56427532A12204CA07629B2E834DD05123E
A27: 비계안정장치 | B27: 비계안정장치, 손잡이기둥 | C27: 개 | D27: 0.28 | E27: =단가대비표!O76 -> 0 | F27: =TRUNC(E27*D27,1) -> 0 | G27: =단가대비표!P76 -> 0 | H27: =TRUNC(G27*D27,1) -> 0 | I27: =단가대비표!V76 -> 0 | J27: =TRUNC(I27*D27,1) -> 0 | K27: =TRUNC(E27+G27+I27,1) -> 0 | L27: =TRUNC(F27+H27+J27,1) -> 0 | M27: 자재 72 | N27: 5E9F54EB13C412A0B5F32F575B6091 | O27: 59B56427532A12204CA07629B2E834DD051239 | P27: F | Q27: F | R27: T | AW27: 5E9F54EB13C412A0B5F32F575B609159B56427532A12204CA07629B2E834DD051239
A28: 비계안정장치 | B28: 비계안정장치, 손잡이, 1229mm | C28: 개 | D28: 0.14 | E28: =단가대비표!O74 -> 0 | F28: =TRUNC(E28*D28,1) -> 0 | G28: =단가대비표!P74 -> 0 | H28: =TRUNC(G28*D28,1) -> 0 | I28: =단가대비표!V74 -> 0 | J28: =TRUNC(I28*D28,1) -> 0 | K28: =TRUNC(E28+G28+I28,1) -> 0 | L28: =TRUNC(F28+H28+J28,1) -> 0 | M28: 자재 70 | N28: 5E9F54EB13C412A0B5F32F575B6091 | O28: 59B56427532A12204CA07629B2E834DD05123F | P28: F | Q28: F | R28: T | AW28: 5E9F54EB13C412A0B5F32F575B609159B56427532A12204CA07629B2E834DD05123F
A29: 비계안정장치 | B29: 비계안정장치, 손잡이, 1829mm | C29: 개 | D29: 0.28 | E29: =단가대비표!O75 -> 0 | F29: =TRUNC(E29*D29,1) -> 0 | G29: =단가대비표!P75 -> 0 | H29: =TRUNC(G29*D29,1) -> 0 | I29: =단가대비표!V75 -> 0 | J29: =TRUNC(I29*D29,1) -> 0 | K29: =TRUNC(E29+G29+I29,1) -> 0 | L29: =TRUNC(F29+H29+J29,1) -> 0 | M29: 자재 71 | N29: 5E9F54EB13C412A0B5F32F575B6091 | O29: 59B56427532A12204CA07629B2E834DD051238 | P29: F | Q29: F | R29: T | AW29: 5E9F54EB13C412A0B5F32F575B609159B56427532A12204CA07629B2E834DD051238
A30: 비계안정장치 | B30: 비계안정장치, 바퀴 | C30: 개 | D30: 0.36 | E30: =단가대비표!O77 -> 0 | F30: =TRUNC(E30*D30,1) -> 0 | G30: =단가대비표!P77 -> 0 | H30: =TRUNC(G30*D30,1) -> 0 | I30: =단가대비표!V77 -> 0 | J30: =TRUNC(I30*D30,1) -> 0 | K30: =TRUNC(E30+G30+I30,1) -> 0 | L30: =TRUNC(F30+H30+J30,1) -> 0 | M30: 자재 73 | N30: 5E9F54EB13C412A0B5F32F575B6091 | O30: 59B56427532A12204CA07629B2E834DD05123A | P30: F | Q30: F | R30: T | AW30: 5E9F54EB13C412A0B5F32F575B609159B56427532A12204CA07629B2E834DD05123A
A31: 비계안정장치 | B31: 비계안정장치, 쟈키 | C31: 개 | D31: 0.36 | E31: =단가대비표!O78 -> 0 | F31: =TRUNC(E31*D31,1) -> 0 | G31: =단가대비표!P78 -> 0 | H31: =TRUNC(G31*D31,1) -> 0 | I31: =단가대비표!V78 -> 0 | J31: =TRUNC(I31*D31,1) -> 0 | K31: =TRUNC(E31+G31+I31,1) -> 0 | L31: =TRUNC(F31+H31+J31,1) -> 0 | M31: 자재 74 | N31: 5E9F54EB13C412A0B5F32F575B6091 | O31: 59B56427532A12204CA07629B2E834DD05123B | P31: F | Q31: F | R31: T | AW31: 5E9F54EB13C412A0B5F32F575B609159B56427532A12204CA07629B2E834DD05123B
A32: 비계안정장치 | B32: 비계안정장치, 발판, 40*200*2000 | C32: 장 | D32: 0.63 | E32: =단가대비표!O79 -> 0 | F32: =TRUNC(E32*D32,1) -> 0 | G32: =단가대비표!P79 -> 0 | H32: =TRUNC(G32*D32,1) -> 0 | I32: =단가대비표!V79 -> 0 | J32: =TRUNC(I32*D32,1) -> 0 | K32: =TRUNC(E32+G32+I32,1) -> 0 | L32: =TRUNC(F32+H32+J32,1) -> 0 | M32: 자재 75 | N32: 5E9F54EB13C412A0B5F32F575B6091 | O32: 59B56427532A12204CA07629B038E4FF2FA737 | P32: F | Q32: F | R32: T | AW32: 5E9F54EB13C412A0B5F32F575B609159B56427532A12204CA07629B038E4FF2FA737
A33: 강관 조립말비계(이동식)설치 및 해체 | B33: 높이 2m, 노무비 | C33: 대 | D33: 1 | E33: =일위대가목록!E155 -> 0 | F33: =TRUNC(E33*D33,1) -> 0 | G33: =일위대가목록!F155 -> 0 | H33: =TRUNC(G33*D33,1) -> 0 | I33: =일위대가목록!G155 -> 0 | J33: =TRUNC(I33*D33,1) -> 0 | K33: =TRUNC(E33+G33+I33,1) -> 0 | L33: =TRUNC(F33+H33+J33,1) -> 0 | M33: 호표 152 | N33: 5E9F54EB13C412A0B5F32F575B6091 | O33: 5E9F54EB13C412A0B5F32F56B4F65F | P33: T | Q33: F | R33: F | AW33: 5E9F54EB13C412A0B5F32F575B60915E9F54EB13C412A0B5F32F56B4F65F
A34: [ 합 계 ] | F34: =TRUNC(SUMIF(N24:N33, N23, F24:F33),0) -> 0 | H34: =TRUNC(SUMIF(N24:N33, N23, H24:H33),0) -> 0 | J34: =TRUNC(SUMIF(N24:N33, N23, J24:J33),0) -> 0 | L34: =F34+H34+J34 -> 0 | N34: TOTAL | O34: TOTAL
A36: 건축물 현장정리 리모델링(준공청소포함) M2 ( 호표 5 ) | N36: 5E9F54EED32F12809F4C44BF9D4029
A37: 보통인부 | B37: 일반공사 직종 | C37: 인 | D37: 0.03 | E37: =단가대비표!O147 -> 0 | F37: =TRUNC(E37*D37,1) -> 0 | G37: =단가대비표!P147 -> 0 | H37: =TRUNC(G37*D37,1) -> 0 | I37: =단가대비표!V147 -> 0 | J37: =TRUNC(I37*D37,1) -> 0 | K37: =TRUNC(E37+G37+I37,1) -> 0 | L37: =TRUNC(F37+H37+J37,1) -> 0 | M37: 노임 1 | N37: 5E9F54EED32F12809F4C44BF9D4029 | O37: 5E40348DB33712E0DA7192D8353B1A971A6BFB | P37: F | Q37: F | R37: T | AW37: 5E9F54EED32F12809F4C44BF9D40295E40348DB33712E0DA7192D8353B1A971A6BFB
A38: [ 합 계 ] | F38: =TRUNC(SUMIF(N37:N37, N36, F37:F37),0) -> 0 | H38: =TRUNC(SUMIF(N37:N37, N36, H37:H37),0) -> 0 | J38: =TRUNC(SUMIF(N37:N37, N36, J37:J37),0) -> 0 | L38: =F38+H38+J38 -> 0 | N38: TOTAL | O38: TOTAL
A40: 건축물보양 바닥 M2 공통 2-11-1 ( 호표 6 ) | N40: 5E9F54EED31D128027CF3E1F4B5D07
A41: 공통자재 | B41: 하드롱지 | C41: M2 | D41: 1.2 | E41: =단가대비표!O25 -> 0 | F41: =TRUNC(E41*D41,1) -> 0 | G41: =단가대비표!P25 -> 0 | H41: =TRUNC(G41*D41,1) -> 0 | I41: =단가대비표!V25 -> 0 | J41: =TRUNC(I41*D41,1) -> 0 | K41: =TRUNC(E41+G41+I41,1) -> 0 | L41: =TRUNC(F41+H41+J41,1) -> 0 | M41: 자재 21 | N41: 5E9F54EED31D128027CF3E1F4B5D07 | O41: 59AB443F434C12A08AC99BC737F4A562E8D2FE | P41: F | Q41: F | R41: T | AW41: 5E9F54EED31D128027CF3E1F4B5D0759AB443F434C12A08AC99BC737F4A562E8D2FE
A42: 합성풀 | B42: 합성풀, 건설용 | C42: kg | D42: 0.06 | E42: =단가대비표!O100 -> 0 | F42: =TRUNC(E42*D42,1) -> 0 | G42: =단가대비표!P100 -> 0 | H42: =TRUNC(G42*D42,1) -> 0 | I42: =단가대비표!V100 -> 0 | J42: =TRUNC(I42*D42,1) -> 0 | K42: =TRUNC(E42+G42+I42,1) -> 0 | L42: =TRUNC(F42+H42+J42,1) -> 0 | M42: 자재 96 | N42: 5E9F54EED31D128027CF3E1F4B5D07 | O42: 59B574CFA3B41250E28F3935F6523D49A962DD | P42: F | Q42: F | R42: T | AW42: 5E9F54EED31D128027CF3E1F4B5D0759B574CFA3B41250E28F3935F6523D49A962DD
A43: 보통인부 | B43: 일반공사 직종 | C43: 인 | D43: 0.01 | E43: =단가대비표!O147 -> 0 | F43: =TRUNC(E43*D43,1) -> 0 | G43: =단가대비표!P147 -> 0 | H43: =TRUNC(G43*D43,1) -> 0 | I43: =단가대비표!V147 -> 0 | J43: =TRUNC(I43*D43,1) -> 0 | K43: =TRUNC(E43+G43+I43,1) -> 0 | L43: =TRUNC(F43+H43+J43,1) -> 0 | M43: 노임 1 | N43: 5E9F54EED31D128027CF3E1F4B5D07 | O43: 5E40348DB33712E0DA7192D8353B1A971A6BFB | P43: F | Q43: F | R43: T | AW43: 5E9F54EED31D128027CF3E1F4B5D075E40348DB33712E0DA7192D8353B1A971A6BFB
A44: [ 합 계 ] | F44: =TRUNC(SUMIF(N41:N43, N40, F41:F43),0) -> 0 | H44: =TRUNC(SUMIF(N41:N43, N40, H41:H43),0) -> 0 | J44: =TRUNC(SUMIF(N41:N43, N40, J41:J43),0) -> 0 | L44: =F44+H44+J44 -> 0 | N44: TOTAL | O44: TOTAL
A46: 타일 붙임 / 접착 붙이기 바닥, 600*600 M2 건축 3-2-3 ( 호표 7 ) | N46: 5E9F9404332E12C0B048068B79FBD5
...

Sheet 단가산출목록
B1: 단 가 산 출 목 록
B2: [ 영주적십자병원건강검진센터리모델링실시설계 ]
A3: 코 드 | B3: 품 명 | C3: 규 격 | D3: 단위 | E3: 재 료 비 | F3: 노 무 비 | G3: 경 비 | H3: 합 계 | I3: 번 호 | J3: 비 고 | K3: START | L3: 품셈개요
A4: 5EBCE440436712E0070A1224412B86 | B4: 차선도색/융착식 도료 수동식/신설공사 | C4: 횡단보도,주차장 (재료비 별도) | D4: M2 | E4: =단가산출서!B38 -> 0 | F4: =단가산출서!C38 -> 0 | G4: =단가산출서!D38 -> 0 | H4: =단가산출서!E38 -> 0 | I4: 산근 1 | K4: 5EBCE440436712E0070A1224412B86 | L4: 토목 1-8-9.4
A5: 5EBCE440435512C0FFD9FB5A5805B1 | B5: 주차블록 설치 | C5: 길이 750mm∼1000mm | D5: 개소 | E5: =단가산출서!B59 -> 0 | F5: =단가산출서!C59 -> 0 | G5: =단가산출서!D59 -> 0 | H5: =단가산출서!E59 -> 0 | I5: 산근 2 | K5: 5EBCE440435512C0FFD9FB5A5805B1 | L5: 토목 1-8-7

Sheet 단가산출서
A1: 단 가 산 출 서
A2: [ 영주적십자병원건강검진센터리모델링실시설계 ]
A3: 산 출 내 역 | B3: 재 료 비 | C3: 노 무 비 | D3: 경 비 | E3: 합 계 | F3: 비 고 | G3: START | H3: 코드 | I3: 품명 | J3: 규격 | K3: 단위 | L3: 수량 | M3: 변수 | N3: 값 | O3: 소계 | P3: 소계 | Q3: 소계 | R3: 소계 | S3: 소계 | T3: 총계
A4: 차선도색/융착식 도료 수동식/신설공사 횡단보도,주차장 (재료비 별도) M2 토목 1-8-9.4 ( 산근 1 ) | G4: 5EBCE440436712E0070A1224412B86 | I4: 차선도색/융착식 도료 수동식/신설공사 | J4: 횡단보도,주차장 (재료비 별도) | K4: M2
G5: 5EBCE440436712E0070A1224412B86 | H5: C | L5: 1
A6: 차선도색 - 횡단보도,주차장 M2 | B6: 0 | C6: 0 | D6: 0 | E6: 0 | G6: 5EBCE440436712E0070A1224412B86 | H6: C! | I6: '차선도색 - 횡단보도,주차장 M2'
A7: (융착식 도료 수동식(핸드가이드식 라인마커)) | B7: 0 | C7: 0 | D7: 0 | E7: 0 | G7: 5EBCE440436712E0070A1224412B86 | H7: C! | I7: '(융착식 도료 수동식(핸드가이드식 라인마커)) '
B8: 0 | C8: 0 | D8: 0 | E8: 0 | G8: 5EBCE440436712E0070A1224412B86 | H8: C!
A9: Q1 1일시공량(M2/일) =266 | B9: 0 | C9: 0 | D9: 0 | E9: 0 | G9: 5EBCE440436712E0070A1224412B86 | H9: C! | I9: q1'1일시공량(M2/일)' =266 | M9: Q1 | N9: 266
A10: Q 시간당 작업량(M2/HR) =Q1/8/1.0= 33.25 | B10: 0 | C10: 0 | D10: 0 | E10: 0 | G10: 5EBCE440436712E0070A1224412B86 | H10: C! | I10: Q '시간당 작업량(M2/HR)' =q1/8/1.0=? | M10: Q | N10: 33.25
B11: 0 | C11: 0 | D11: 0 | E11: 0 | G11: 5EBCE440436712E0070A1224412B86 | H11: C!
A12: ◈배치인원 | B12: 0 | C12: 0 | D12: 0 | E12: 0 | G12: 5EBCE440436712E0070A1224412B86 | H12: C! | I12: '◈배치인원'
B13: 0 | C13: 0 | D13: 0 | E13: 0 | G13: 5EBCE440436712E0070A1224412B86 | H13: C!
A14: 1.인력 | B14: 0 | C14: 0 | D14: 0 | E14: 0 | G14: 5EBCE440436712E0070A1224412B86 | H14: C! | I14: '1.인력'
A15: [1]=0, [2]=0 | B15: 0 | C15: 0 | D15: 0 | E15: 0 | G15: 5EBCE440436712E0070A1224412B86 | H15: C! | I15: [1]=0, [2]=0 | M15: [2] | N15: 0
A16: 특별인부 2인/8HR*작업시간 | B16: 0 | C16: 0 | D16: 0 | E16: 0 | G16: 5EBCE440436712E0070A1224412B86 | H16: C! | I16: '특별인부 2인/8HR*작업시간'
A17: =" 노무비: "&단가대비표!P148&"*2/8/"&N10&"="&C17 -> 노무비: *2/8/33.25=0 | B17: 0 | C17: =TRUNC(단가대비표!P148*2/8/N10,1) -> 0 | D17: 0 | E17: =SUM(B17,C17,D17) -> 0 | G17: 5EBCE440436712E0070A1224412B86 | H17: C! | I17: '노무비:' ~L001010101000003.L~*2/8/{Q} =?LA+:LA1 | M17: LA1 | N17: =TRUNC(단가대비표!P148*2/8/N10,1) -> 0 | O17: T11 | P17: T21 | Q17: T31 | R17: T41 | S17: T51 | T17: TT
A18: 보통인부 2인/8HR*작업시간 | B18: 0 | C18: 0 | D18: 0 | E18: 0 | G18: 5EBCE440436712E0070A1224412B86 | H18: C! | I18: '보통인부 2인/8HR*작업시간'
A19: =" 노무비: "&단가대비표!P147&"*2/8/"&N10&"="&C19 -> 노무비: *2/8/33.25=0 | B19: 0 | C19: =TRUNC(단가대비표!P147*2/8/N10,1) -> 0 | D19: 0 | E19: =SUM(B19,C19,D19) -> 0 | G19: 5EBCE440436712E0070A1224412B86 | H19: C! | I19: '노무비:' ~L001010101000002.L~*2/8/{Q} =?LA+:LA2 | M19: LA2 | N19: =TRUNC(단가대비표!P147*2/8/N10,1) -> 0 | O19: T11 | P19: T21 | Q19: T31 | R19: T41 | S19: T51 | T19: TT
A20: 소 계 | B20: =TRUNC(SUMIF(O6:O19, "T11", B6:B19), 1) -> 0 | C20: =TRUNC(SUMIF(O6:O19, "T11", C6:C19), 1) -> 0 | D20: =TRUNC(SUMIF(O6:O19, "T11", D6:D19), 1) -> 0 | E20: =TRUNC(SUM(B20,C20, D20), 1) -> 0 | G20: 5EBCE440436712E0070A1224412B86 | H20: C! | I20: >'소 계' | M20: T1
B21: 0 | C21: 0 | D21: 0 | E21: 0 | G21: 5EBCE440436712E0070A1224412B86 | H21: C!
A22: ◈사용기계 | B22: 0 | C22: 0 | D22: 0 | E22: 0 | G22: 5EBCE440436712E0070A1224412B86 | H22: C! | I22: '◈사용기계 '
B23: 0 | C23: 0 | D23: 0 | E23: 0 | G23: 5EBCE440436712E0070A1224412B86 | H23: C!
A24: 2.트럭(덤프트럭 준용) 4.5톤 | B24: 0 | C24: 0 | D24: 0 | E24: 0 | G24: 5EBCE440436712E0070A1224412B86 | H24: C! | I24: '2.트럭(덤프트럭 준용) 4.5톤'
A25: =" 재료비: "&일위대가목록!E193&"/"&N10&"="&B25 -> 재료비: 0/33.25=0 | B25: =TRUNC(일위대가목록!E193/N10,1) -> 0 | C25: 0 | D25: 0 | E25: =SUM(B25,C25,D25) -> 0 | G25: 5EBCE440436712E0070A1224412B86 | H25: C! | I25: '재료비:' ~00000602004500000.M~ / {Q}=?MA+ | N25: =TRUNC(일위대가목록!E193/N10,1) -> 0 | O25: T12 | P25: T21 | Q25: T31 | R25: T41 | S25: T51 | T25: TT
A26: =" 노무비: "&일위대가목록!F193&"/"&N10&"="&C26 -> 노무비: 0/33.25=0 | B26: 0 | C26: =TRUNC(일위대가목록!F193/N10,1) -> 0 | D26: 0 | E26: =SUM(B26,C26,D26) -> 0 | G26: 5EBCE440436712E0070A1224412B86 | H26: C! | I26: '노무비:' ~00000602004500000.L~ / {Q}=?LA+ | N26: =TRUNC(일위대가목록!F193/N10,1) -> 0 | O26: T12 | P26: T21 | Q26: T31 | R26: T41 | S26: T51 | T26: TT
A27: =" 경 비: "&일위대가목록!G193&"/"&N10&"="&D27 -> 경 비: 0/33.25=0 | B27: 0 | C27: 0 | D27: =TRUNC(일위대가목록!G193/N10,1) -> 0 | E27: =SUM(B27,C27,D27) -> 0 | G27: 5EBCE440436712E0070A1224412B86 | H27: C! | I27: '경 비:' ~00000602004500000.E~ / {Q}=?EQ+ | N27: =TRUNC(일위대가목록!G193/N10,1) -> 0 | O27: T12 | P27: T21 | Q27: T31 | R27: T41 | S27: T51 | T27: TT
A28: 소 계 | B28: =TRUNC(SUMIF(O21:O27, "T12", B21:B27), 1) -> 0 | C28: =TRUNC(SUMIF(O21:O27, "T12", C21:C27), 1) -> 0 | D28: =TRUNC(SUMIF(O21:O27, "T12", D21:D27), 1) -> 0 | E28: =TRUNC(SUM(B28,C28, D28), 1) -> 0 | G28: 5EBCE440436712E0070A1224412B86 | H28: C! | I28: >'소 계' | M28: T1
B29: 0 | C29: 0 | D29: 0 | E29: 0 | G29: 5EBCE440436712E0070A1224412B86 | H29: C!
A30: 3.트럭(덤프트럭 준용) 2.5톤 | B30: 0 | C30: 0 | D30: 0 | E30: 0 | G30: 5EBCE440436712E0070A1224412B86 | H30: C! | I30: '3.트럭(덤프트럭 준용) 2.5톤
A31: =" 재료비: "&일위대가목록!E194&"/"&N10&"="&B31 -> 재료비: 0/33.25=0 | B31: =TRUNC(일위대가목록!E194/N10,1) -> 0 | C31: 0 | D31: 0 | E31: =SUM(B31,C31,D31) -> 0 | G31: 5EBCE440436712E0070A1224412B86 | H31: C! | I31: '재료비:' ~00000602002500000.M~ / {Q} =?MA+ | N31: =TRUNC(일위대가목록!E194/N10,1) -> 0 | O31: T13 | P31: T21 | Q31: T31 | R31: T41 | S31: T51 | T31: TT
A32: =" 노무비: "&일위대가목록!F194&"/"&N10&"="&C32 -> 노무비: 0/33.25=0 | B32: 0 | C32: =TRUNC(일위대가목록!F194/N10,1) -> 0 | D32: 0 | E32: =SUM(B32,C32,D32) -> 0 | G32: 5EBCE440436712E0070A1224412B86 | H32: C! | I32: '노무비:' ~00000602002500000.L~ / {Q} =?LA+ | N32: =TRUNC(일위대가목록!F194/N10,1) -> 0 | O32: T13 | P32: T21 | Q32: T31 | R32: T41 | S32: T51 | T32: TT
A33: =" 경 비: "&일위대가목록!G194&"/"&N10&"="&D33 -> 경 비: 0/33.25=0 | B33: 0 | C33: 0 | D33: =TRUNC(일위대가목록!G194/N10,1) -> 0 | E33: =SUM(B33,C33,D33) -> 0 | G33: 5EBCE440436712E0070A1224412B86 | H33: C! | I33: '경 비:' ~00000602002500000.E~ / {Q} =?EQ+ | N33: =TRUNC(일위대가목록!G194/N10,1) -> 0 | O33: T13 | P33: T21 | Q33: T31 | R33: T41 | S33: T51 | T33: TT
A34: 소 계 | B34: =TRUNC(SUMIF(O29:O33, "T13", B29:B33), 1) -> 0 | C34: =TRUNC(SUMIF(O29:O33, "T13", C29:C33), 1) -> 0 | D34: =TRUNC(SUMIF(O29:O33, "T13", D29:D33), 1) -> 0 | E34: =TRUNC(SUM(B34,C34, D34), 1) -> 0 | G34: 5EBCE440436712E0070A1224412B86 | H34: C! | I34: >'소 계' | M34: T1
B35: 0 | C35: 0 | D35: 0 | E35: 0 | G35: 5EBCE440436712E0070A1224412B86 | H35: C!
A36: 4.공구손료(인력품의 10%): (1719.6+1298.4)*0.1= 301.8 | B36: 0 | C36: 0 | G36: 5EBCE440436712E0070A1224412B86 | H36: C! | I36: '4.공구손료(인력품의 10%):'({LA1}+{LA2})*0.1=?EQ+ | O36: T14 | P36: T21 | Q36: T31 | R36: T41 | S36: T51 | T36: TT
A37: 소 계 | B37: =TRUNC(SUMIF(O35:O36, "T14", B35:B36), 1) -> 0 | C37: =TRUNC(SUMIF(O35:O36, "T14", C35:C36), 1) -> 0 | G37: 5EBCE440436712E0070A1224412B86 | H37: C! | I37: >'소 계' | M37: T1
A38: 총 계 | B38: =TRUNC(SUMIF(T5:T37, "TT", B5:B37), 0) -> 0 | C38: =TRUNC(SUMIF(T5:T37, "TT", C5:C37), 0) -> 0
A40: 주차블록 설치 길이 750mm∼1000mm 개소 토목 1-8-7 ( 산근 2 ) | G40: 5EBCE440435512C0FFD9FB5A5805B1 | I40: 주차블록 설치 | J40: 길이 750mm∼1000mm | K40: 개소
G41: 5EBCE440435512C0FFD9FB5A5805B1 | H41: C | L41: 1
...

Sheet 단가대비표
A1: 단 가 대 비 표
A2: [ 영주적십자병원건강검진센터리모델링실시설계 ]
A3: 코 드 | B3: 품 명 | C3: 규격 | D3: 단위 | E3: 재 료 비 | P3: 노 무 비 | Q3: 경 비 | W3: 번 호 | X3: 비 고 | Y3: 품목구분 | Z3: 노임구분 | AA3: 소수점처리 | AB3: 자재구분
E4: 조달청가격 | F4: PAGE | G4: 거래가격 | H4: PAGE | I4: 유통물가 | J4: PAGE | K4: 물가자료 | L4: PAGE | M4: 조사가격 | N4: PAGE | O4: 적용단가 | Q4: 조달청가격 | R4: 거래가격 | S4: 유통물가 | T4: 물가자료 | U4: 조사가격 | V4: 적용단가
A5: 5988244793581230194DF6CC8986BB8591635C | B5: 덤프트럭 | C5: 2.5ton | D5: 대 | W5: 자재 1 | X5: 천원
A6: 5988244793581230194DF6CC89801034A83F08 | B6: 덤프트럭 | C6: 4.5ton | D6: 대 | W6: 자재 2 | X6: 천원
A7: 5988244793581270FEC31F8AA379FDFFA491E2 | B7: 커터(콘크리트 및 아스팔트용) | C7: 320∼400mm | D7: 대 | W7: 자재 3 | X7: 천원
A8: 5988244793581260D6120C80BB4F9655262645 | B8: 소형브레이커(전기식) | C8: 1.5kw | D8: 대 | W8: 자재 4 | X8: 천원
A9: 599A844B13221210B41FF72CECD916CD1B736A | B9: 모래 | C9: (별도) | D9: M3 | W9: 자재 5 | X9: 별도
A10: 599A844B13221210B41FF72CECD916CD1B7368 | B10: 모래 | C10: 모래, 도착도 | D10: M3 | W10: 자재 6
A11: 599A844B131112B0682BCBE3F5EEDC21439BE4 | B11: 보통합판 | C11: 보통합판, 1급, 9.0*1220*2440mm | D11: M2 | W11: 자재 7
A12: 599A844B131112B0682BCBE3F5EEDC21439BE6 | B12: 보통합판 | C12: 보통합판, 1급, 12*1220*2440mm | D12: M2 | W12: 자재 8
A13: 599A844B131112B0682BC93661CE002944FB62 | B13: 중밀도섬유판 | C13: 중밀도섬유판, 6.0*1220*2440mm | D13: M2 | W13: 자재 9
A14: 599A844B131112B0682BC93661CE002944FB64 | B14: 중밀도섬유판 | C14: 중밀도섬유판, 9.0*1220*2440mm | D14: M2 | W14: 자재 10
A15: 599A844B131112B0682BC93661CE002944FB66 | B15: 중밀도섬유판 | C15: 중밀도섬유판, 15*1220*2440mm | D15: M2 | W15: 자재 11
A16: 599A844B131112B0682BC93661CE002944F433 | B16: 중밀도섬유판 | C16: 고밀도MDF, 9*1220*2440mm | D16: M2 | W16: 자재 12
A17: 599A844B131112B0682BC93661CE002944F434 | B17: 중밀도섬유판 | C17: 고밀도MDF, 18*1220*2440mm | D17: M2 | W17: 자재 13
A18: 599A844B13A712702DCAD82B5DFA79CCC92B1D | B18: 철강설 | C18: 철강설, 고철, 작업설부산물 | D18: kg | W18: 자재 14 | X18: 수집상차도
A19: 599A844B13A712702DCAD82B5DFA79CCC92A78 | B19: 철강설 | C19: 철강설, 스텐레스, 작업설부산물 | D19: kg | W19: 자재 15 | X19: 수집상차도
A20: 599A844B13A712702DCAD82B5CDA932E33FC85 | B20: 철강설 | C20: 철강설, 알루미늄, 작업설부산물 | D20: kg | W20: 자재 16 | X20: 수집상차도
A21: 599AC424336C12306476B3EEAEF6D4326A0ADB | B21: 경유 | C21: 경유, 저유황 | D21: L | W21: 자재 17
A22: 599AC424336C12306476B0158FD4E9C043C7F4 | B22: 공업용휘발유 | C22: 공업용휘발유, 무연 | D22: L | W22: 자재 18
A23: 599AC424337E128058A7C4A31B749FA78AF19E | B23: 프로판가스 | D23: kg | W23: 자재 19
A24: 59AB2471331F12E04EF31C101F8780C641FB20 | B24: 토공용용날 | C24: 도저용블레이드, 두께3.2mm | D24: 대 | W24: 자재 20
A25: 59AB443F434C12A08AC99BC737F4A562E8D2FE | B25: 공통자재 | C25: 하드롱지 | D25: M2 | W25: 자재 21
A26: 59B5642753B81210A79A54C1F600833A2905C1 | B26: ㄱ형강 | C26: ㄱ형강, 등변, 25*25*3mm | D26: kg | W26: 자재 22
A27: 59B5642753B812204B4FD0C8131446FB1EBB32 | B27: 일반구조용압연강판 | C27: 일반구조용압연강판, 1.2mm | D27: kg | W27: 자재 23
A28: 59B5642753B812204B4FD0C8131446F4EE8462 | B28: 도장용융아연도강판 | C28: 도장용융아연도강판, 불소수지(일면), 1.20mm | D28: kg | W28: 자재 24
A29: 59B5642753B812204B4FD0C8131446F4EE8CA9 | B29: 합금화용융아연도금강판 | C29: 합금화용융아연도금강판, 갈바륨, 1.20mm | D29: kg | W29: 자재 25
A30: 59B5642753B812204B4FD1D3E07F9D75FA53B6 | B30: 스테인리스강판 | C30: 스테인리스강판, STS304, 1.2mm | D30: kg | W30: 자재 26
A31: 59B5642753B812204B4FD1D3E07F9D75FA53B7 | B31: 스테인리스강판 | C31: 스테인리스강판, STS304, 1.5mm | D31: kg | W31: 자재 27
A32: 59B5642753B812204B4FD1D3E10CF627D97A58 | B32: 스테인리스강판 | C32: 스테인리스강판, STS304, 5.0mm | D32: kg | W32: 자재 28
A33: 59B5642753B812204C56C2804DF1C6C9F2BC0F | B33: 아연도금박판 | C33: 아연도금박판, 용융아연도, 1.20mm | D33: kg | W33: 자재 29
A34: 59B5642753B812306975CCB1C7A554D8860ACB | B34: 각재 | C34: 각재, 미송 | D34: 재 | W34: 자재 30
A35: 59B5642753AF12802780D142702AF8BE90204F | B35: 모르타르 | C35: 모르타르, 자동수평모르타르, 일반용 | D35: kg | W35: 자재 31
A36: 59B5642753AF128024CC2F2E2775EA00A26955 | B36: 시멘트 | C36: 시멘트(별도) | D36: kg | W36: 자재 32 | X36: 별도
A37: 59B5642753AF128024CC2F2E2775EA00A26951 | B37: 시멘트 | C37: 도착도, 40KG | D37: 포 | W37: 자재 33
A38: 59B5642753AF128024CC2F2E2775EA06CADB9B | B38: 특수시멘트 | C38: 특수시멘트, 백색시멘트 | D38: kg | W38: 자재 34
A39: 59B56427538C12D0FCC972C182CF64D40DE171 | B39: 벽체타일 [TL-02] | C39: 벽, 300*600*9mm | D39: M2 | W39: 자재 35
A40: 59B56427538C12D0FCC972C182CBF5B82CFBE3 | B40: 바닥타일 [TL-01] | C40: 바닥, 600*600*9mm | D40: M2 | W40: 자재 36
...

Sheet  공사설정 
A1: 이 Sheet는 수정하지 마십시요
A2: 공사구분 | B2: A | C2: 타이틀
A3: 확정내역 | B3: 원내역
A4: 자재단가적용 | B4: 5
A5: 경비단가적용 | B5: 5
A6: 품목코드형식 | B6: XXXX-XXXX-XXXXXXXXX
A7: 내역금액소수점처리 | B7: C | C7: T
A8: 일위대가내역소수점처리 | B8: C | C8: 2
A9: 단가명 | B9: 조달청가격 | C9: 거래가격 | D9: 유통물가 | E9: 물가자료 | F9: 조사가격 | G9: TTTTT
A10: 환율 | B10: 1472 | C10: 0 | D10: 0
A11: 시간당작업량 | B11: R | C11: 4
A12: 1회 사이클시간 | B12: R | C12: 4
A13: 시간당 작업사이클 | B13: R | C13: 3
A14: 일반변수 | B14: R | C14: 5
A15: 시간당 노임산출 계수 | B15: A | C15: 1/8*16/12*25/20 | D15: 1/8*16/12*25/20 | E15: 1/8*16/12*25/20 | F15: 1
A16: 재료비 할증 계수 | B16: 1.11 | C16: 1.12
A17: 노무비 할증 계수 | B17: 1 | C17: 1.5 | D17: 1.16 | E17: 1.6 | F17: 1.6 | G17: 1.6 | H17: 1.94 | I17: 1.94 | J17: 1.94 | K17: 1 | L17: 1 | M17: 1
A18: 경비 할증 계수 | B18: 1.25 | C18: 1.071
A19: 내역,일위대가 품명,규격,단위 따로적용
A20: 내역단가 소수점처리 | B20: C | C20: 1
A21: 코드 | B21: 공종구분명 | C21: 원가비목코드
A22: 1 | B22: 작 업 부 산 물 | C22: A3
A23: 2 | B23: 운 반 비 | C23: C1
A24: 3 | B24: 관 급 자 재 비 | C24: DJ
A25: 4 | B25: 작업부산물(해체) | C25: D3
A26: 5 | B26: 폐 기 물 처 리 | C26: D4
A27: 6 | B27: ...
A28: 7 | B28: ...
A29: 8 | B29: ...
A30: 9 | B30: ...
A31: A | B31: ....
A32: B | B32: .....
A33: C | B33: ....
A34: D | B34: ....
A35: E | B35: ....
A36: F | B36: ....
A37: G | B37: ....
A38: H | B38: ....
A39: I | B39: ....
A40: J | B40: ....
...

Sheet Sheet1
