Workbook
Name _10_3_0Criteria: #REF!
Name _15A: [1]금액내역서!$D$3:$D$10
Name _15G_0Extr: #REF!
Name _20G_0Extract: #REF!
Name _5_3_0Crite: #REF!
Name \\O: '[3]1단계'!#REF!
Name \a: #REF!
Name \b: [4]약품공급2!#REF!
Name \c: '[3]1단계'!#REF!
Name \d: '[3]1단계'!#REF!
Name \e: #REF!
Name \f: '[3]1단계'!#REF!
Name \g: #REF!
Name \h: '[3]1단계'!#REF!
Name \i: '[3]1단계'!#REF!
Name \j: [5]약품설비!#REF!
Name \k: [4]약품공급2!#REF!
Name \l: [4]약품공급2!#REF!
Name \m: #REF!
Name \n: [5]약품설비!#REF!
Name \o: '[3]1단계'!#REF!
Name \p: '[3]1단계'!#REF!
Name \q: #REF!
Name \r: '[3]1단계'!#REF!
Name \s: '[3]1단계'!#REF!
Name \u: [5]약품설비!#REF!
Name \v: '[3]1단계'!#REF!
Name \w: '[6]일위대가-1'!#REF!
Name \x: '[3]1단계'!#REF!
Name \y: [5]약품설비!#REF!
Name \z: #REF!
Name asdfasdf: #N/A
Name A등급: #REF!
Name B등급: #REF!
Name B등븍: #REF!
Name C등급: #REF!
Name D등급: #REF!
Name E등급: #REF!
Name ISO_정렬: [7]!ISO_정렬
Name LLLL: #REF!
Name p: #REF!
Name PRINT_AREA_MI: #N/A
Name PRINT_TITLES_MI: #N/A
Name YA: [9]약품공급2!#REF!
Name 견적: #REF!
Name 경비율: #REF!
Name 공사명: #REF!
Name 광명: #REF!
Name 기계중계펌프내역: #REF!
Name 기기설치: #REF!
Name 기기자재: #REF!
Name 기초: '[11]9509'!$A$3:$Y$665
Name 김: '[12]9811'!$A$3:$AD$1530
Name 껍대기: [13]토목!$A$2:$M$1916
Name 노무비: #REF!
Name 단가: #REF!
Name 단가표: '[14]단가표 (2)'!$A$2:$G$343
Name 단중입력: [15]!단중입력
Name 도급: [16]기자재비!#REF!
Name 등록_시작: [7]!등록_시작

Sheet 갑지
B1: 설 계 서 용 지 (갑 지)
B2: 과장 | E2: 담당 | H2: 검수자 | K2: 설계자
C6: 영주적십자병원 장애인 건강검진센터 리모델링공사(건축,기계)
C8: 개 요 : 영주적십자병원 장애인 건강검진센터 리모델링공사(건축,기계)
C10: 총공사비 : | E10: =" 일금 "&NUMBERSTRING(G18, 1)&"원정 ("&TEXT(G18, "#,###원")&")" -> 일금 영원정 (원)
D12: 도급금액 | E12: 공급가액 | G12: =TEXT('[24]원가계산서(공종별)'!H32, "#,###")
E13: 부가세 | G13: ='[24]원가계산서(공종별)'!H33 -> 0
E14: 도급액 | G14: ='[24]원가계산서(공종별)'!H34 -> 0
D15: 관급금액 | E15: 도급자설치 관급자재
E16: 관급자설치 관급자재 | G16: ='[24]원가계산서(공종별)'!G37 -> 0
E17: 관급자재 계 | G17: =TEXT(G16, "#,###")
D18: 총 공 사 비

Sheet 원가-총괄
B1: 공 사 원 가 계 산 서
B2: 공사명 : 영주적십자병원건강검진센터리모델링실시설계-건축+기계
B3: 비 목 | E3: 금 액 | F3: 구 성 비 | G3: 비 고
A4: A1 | B4: 순 공 사 원 가 | C4: 재 료 비 | D4: 직 접 재 료 비 | E4: =공종별집계표!F5 -> 0
A5: A2 | D5: 간 접 재 료 비 | E5: 0
A6: A3 | D6: 작업설, 부산물(△) | E6: 0
A7: AS | D7: [ 소 계 ] | E7: =TRUNC(E4+E5-E6, 0) -> 0
A8: B1 | C8: 노 무 비 | D8: 직 접 노 무 비 | E8: =공종별집계표!H5 -> 0
A9: B2 | D9: 간 접 노 무 비 | E9: =TRUNC(E8*0.175, 0) -> 0 | F9: 직접노무비 * 17.5%
A10: BS | D10: [ 소 계 ] | E10: =TRUNC(E8+E9, 0) -> 0
A11: C2 | C11: 경 비 | D11: 경 비 | E11: =공종별집계표!J5 -> 0
A12: C4 | D12: 산 재 보 험 료 | E12: =TRUNC(E10*0.0356, 0) -> 0 | F12: 노무비 * 3.56%
A13: C5 | D13: 고 용 보 험 료 | E13: =TRUNC(E10*0.0101, 0) -> 0 | F13: 노무비 * 1.01%
A14: C6 | D14: 국민 건강 보험료 | E14: 9150169 | F14: 직접노무비 * 3.595%
A15: CB | D15: 노인장기요양보험료 | E15: 1202332 | F15: 건강보험료 * 13.14%
A16: C7 | D16: 국민 연금 보험료 | E16: 12089931 | F16: 직접노무비 * 4.75%
A17: C8 | D17: 퇴직 공제 부금비 | E17: 5854071 | F17: 직접노무비 * 2.3%
A18: CE | D18: 석 면 분 담 금 | E18: =TRUNC(E10*0.00006, 0) -> 0 | F18: 노무비 * 0.006%
A19: D7 | D19: 임금 채권 부담금 | E19: =TRUNC(E10*0.0009, 0) -> 0 | F19: 노무비 * 0.09%
A20: CA | D20: 산업안전보건관리비 | E20: 16451883 | F20: (재료비+직노+관급자재비) * 2.28% + 4325000
A21: CC
A22: CG | D22: 기 타 경 비 | E22: =TRUNC((E7+E10)*0.05, 0) -> 0 | F22: (재료비+노무비) * 5%
A23: CH | D23: 환 경 보 전 비 | E23: =TRUNC((E7+E8+E11)*0.003, 0) -> 0 | F23: (재료비+직노+경비) * 0.3%
A24: CK | D24: 하도급지급보증수수료 | E24: =TRUNC((E7+E8+E11)*0.00081, 0) -> 0 | F24: (재료비+직노+경비) * 0.081% | G24: 최저가대상공사
A25: CL | D25: 건설기계대여금지급보증서발급수수료 | E25: =TRUNC((E7+E8+E11)*0.0007, 0) -> 0 | F25: (재료비+직노+경비) * 0.07%
A26: CS | D26: [ 소 계 ]
A27: S1 | B27: 계 | E27: =TRUNC(E7+E10+E26, 0) -> 0
A28: D1 | B28: 일 반 관 리 비 | E28: =TRUNC(E27*0.08, 0) -> 0 | F28: 계 * 8%
A29: D2 | B29: 이 윤 | E29: =TRUNC((E10+E26+E28)*0.15, 0) -> 0 | F29: (노무비+경비+일반관리비) * 15%
A30: D3 | B30: 작업부산물(해체) | E30: =공종별집계표!L20 -> 0
A31: D4 | B31: 폐 기 물 처 리 | E31: =공종별집계표!L21 -> 0
A32: D9 | B32: 공 급 가 액 | E32: =TRUNC(E27+E28+E29+E30+E31, 0) -> 0
A33: DB | B33: 부 가 가 치 세 | E33: =TRUNC(E32*0.1, 0) -> 0 | F33: 공급가액 * 10%
A34: DH | B34: 도 급 액 | E34: =TRUNC(E32+E33, 0) -> 0
A35: S2 | B35: 총 공 사 비 | E35: =TRUNC(E34+0, 0) -> 0

Sheet 공종별집계표
A1: 공 종 별 집 계 표
A2: [ 영주적십자병원건강검진센터리모델링실시설계 ]
A3: 품 명 | B3: 규 격 | C3: 단위 | D3: 수량 | E3: 재 료 비 | G3: 노 무 비 | I3: 경 비 | K3: 합 계 | M3: 비 고 | N3: 공종코드 | O3: 변수 | P3: 상위공종 | Q3: 공종구분 | R3: 공종레벨 | S3: 공종소계 | T3: 원가계산서 연결금액
E4: 단 가 | F4: 금 액 | G4: 단 가 | H4: 금 액 | I4: 단 가 | J4: 금 액 | K4: 단 가 | L4: 금 액
A5: 01 영주적십자병원건강검진센터리모델링실시설계 | D5: 1 | E5: =F6+F22 -> 0 | F5: =E5*D5 -> 0 | G5: =H6+H22 -> 0 | H5: =G5*D5 -> 0 | I5: =J6+J22 -> 0 | J5: =I5*D5 -> 0 | K5: =E5+G5+I5 -> 0 | L5: =F5+H5+J5 -> 0 | N5: 01 | R5: 1
A6: 0101 ■■ 건 축 공 사 ■■ | D6: 1 | E6: =F7 -> 0 | F6: =E6*D6 -> 0 | G6: =H7 -> 0 | H6: =G6*D6 -> 0 | I6: =J7 -> 0 | J6: =I6*D6 -> 0 | K6: =E6+G6+I6 -> 0 | L6: =F6+H6+J6 -> 0 | N6: 0101 | P6: 01 | R6: 2
A7: 010101 1. 본동(2F일부실,지하층제외) | D7: 1 | E7: =F8+F9+F10+F11+F12+F13+F14+F15+F16+F17+F18+F19 -> 0 | F7: =E7*D7 -> 0 | G7: =H8+H9+H10+H11+H12+H13+H14+H15+H16+H17+H18+H19 -> 0 | H7: =G7*D7 -> 0 | I7: =J8+J9+J10+J11+J12+J13+J14+J15+J16+J17+J18+J19 -> 0 | J7: =I7*D7 -> 0 | K7: =E7+G7+I7 -> 0 | L7: =F7+H7+J7 -> 0 | N7: 010101 | P7: 0101 | R7: 3
A8: 01010101 가 설 공 사 | D8: 1 | E8: =공종별내역서!F26 -> 0 | F8: =E8*D8 -> 0 | G8: =공종별내역서!H26 -> 0 | H8: =G8*D8 -> 0 | I8: =공종별내역서!J26 -> 0 | J8: =I8*D8 -> 0 | K8: =E8+G8+I8 -> 0 | L8: =F8+H8+J8 -> 0 | N8: 01010101 | P8: 010101 | R8: 4
A9: 01010102 타 일 공 사 | D9: 1 | E9: =공종별내역서!F49 -> 0 | F9: =E9*D9 -> 0 | G9: =공종별내역서!H49 -> 0 | H9: =G9*D9 -> 0 | I9: =공종별내역서!J49 -> 0 | J9: =I9*D9 -> 0 | K9: =E9+G9+I9 -> 0 | L9: =F9+H9+J9 -> 0 | N9: 01010102 | P9: 010101 | R9: 4
A10: 01010103 목공사및수장공사 | D10: 1 | E10: =공종별내역서!F95 -> 0 | F10: =E10*D10 -> 0 | G10: =공종별내역서!H95 -> 0 | H10: =G10*D10 -> 0 | I10: =공종별내역서!J95 -> 0 | J10: =I10*D10 -> 0 | K10: =E10+G10+I10 -> 0 | L10: =F10+H10+J10 -> 0 | N10: 01010103 | P10: 010101 | R10: 4
A11: 01010104 방 수 공 사 | D11: 1 | E11: =공종별내역서!F118 -> 0 | F11: =E11*D11 -> 0 | G11: =공종별내역서!H118 -> 0 | H11: =G11*D11 -> 0 | I11: =공종별내역서!J118 -> 0 | J11: =I11*D11 -> 0 | K11: =E11+G11+I11 -> 0 | L11: =F11+H11+J11 -> 0 | N11: 01010104 | P11: 010101 | R11: 4
A12: 01010105 금 속 공 사 | D12: 1 | E12: =공종별내역서!F164 -> 0 | F12: =E12*D12 -> 0 | G12: =공종별내역서!H164 -> 0 | H12: =G12*D12 -> 0 | I12: =공종별내역서!J164 -> 0 | J12: =I12*D12 -> 0 | K12: =E12+G12+I12 -> 0 | L12: =F12+H12+J12 -> 0 | N12: 01010105 | P12: 010101 | R12: 4
A13: 01010106 미 장 공 사 | D13: 1 | E13: =공종별내역서!F187 -> 0 | F13: =E13*D13 -> 0 | G13: =공종별내역서!H187 -> 0 | H13: =G13*D13 -> 0 | I13: =공종별내역서!J187 -> 0 | J13: =I13*D13 -> 0 | K13: =E13+G13+I13 -> 0 | L13: =F13+H13+J13 -> 0 | N13: 01010106 | P13: 010101 | R13: 4
A14: 01010107 창호 및 유리공사 | D14: 1 | E14: =공종별내역서!F233 -> 0 | F14: =E14*D14 -> 0 | G14: =공종별내역서!H233 -> 0 | H14: =G14*D14 -> 0 | I14: =공종별내역서!J233 -> 0 | J14: =I14*D14 -> 0 | K14: =E14+G14+I14 -> 0 | L14: =F14+H14+J14 -> 0 | N14: 01010107 | P14: 010101 | R14: 4
A15: 01010108 칠 공 사 | D15: 1 | E15: =공종별내역서!F256 -> 0 | F15: =E15*D15 -> 0 | G15: =공종별내역서!H256 -> 0 | H15: =G15*D15 -> 0 | I15: =공종별내역서!J256 -> 0 | J15: =I15*D15 -> 0 | K15: =E15+G15+I15 -> 0 | L15: =F15+H15+J15 -> 0 | N15: 01010108 | P15: 010101 | R15: 4
A16: 01010109 기 타 공 사 | D16: 1 | E16: =공종별내역서!F279 -> 0 | F16: =E16*D16 -> 0 | G16: =공종별내역서!H279 -> 0 | H16: =G16*D16 -> 0 | I16: =공종별내역서!J279 -> 0 | J16: =I16*D16 -> 0 | K16: =E16+G16+I16 -> 0 | L16: =F16+H16+J16 -> 0 | N16: 01010109 | P16: 010101 | R16: 4
A17: 01010110 가 구 공 사 | D17: 1 | E17: =공종별내역서!F302 -> 0 | F17: =E17*D17 -> 0 | G17: =공종별내역서!H302 -> 0 | H17: =G17*D17 -> 0 | I17: =공종별내역서!J302 -> 0 | J17: =I17*D17 -> 0 | K17: =E17+G17+I17 -> 0 | L17: =F17+H17+J17 -> 0 | N17: 01010110 | P17: 010101 | R17: 4
A18: 01010111 골 재 비 | D18: 1 | E18: =공종별내역서!F325 -> 0 | F18: =E18*D18 -> 0 | G18: =공종별내역서!H325 -> 0 | H18: =G18*D18 -> 0 | I18: =공종별내역서!J325 -> 0 | J18: =I18*D18 -> 0 | K18: =E18+G18+I18 -> 0 | L18: =F18+H18+J18 -> 0 | N18: 01010111 | P18: 010101 | R18: 4
A19: 01010112 해 체 공 사 | D19: 1 | E19: =공종별내역서!F371 -> 0 | F19: =E19*D19 -> 0 | G19: =공종별내역서!H371 -> 0 | H19: =G19*D19 -> 0 | I19: =공종별내역서!J371 -> 0 | J19: =I19*D19 -> 0 | K19: =E19+G19+I19 -> 0 | L19: =F19+H19+J19 -> 0 | N19: 01010112 | P19: 010101 | R19: 4
A20: 01010113 작업부산물(해체) | D20: 1 | E20: =공종별내역서!F394 -> 0 | F20: =E20*D20 -> 0 | G20: =공종별내역서!H394 -> 0 | H20: =G20*D20 -> 0 | I20: =공종별내역서!J394 -> 0 | J20: =I20*D20 -> 0 | K20: =E20+G20+I20 -> 0 | L20: =F20+H20+J20 -> 0 | N20: 01010113 | Q20: 4 | R20: 4 | T20: =L20*1 -> 0
A21: 01010114 건설폐기물처리비 | D21: 1 | E21: =공종별내역서!F417 -> 0 | F21: =E21*D21 -> 0 | G21: =공종별내역서!H417 -> 0 | H21: =G21*D21 -> 0 | I21: =공종별내역서!J417 -> 0 | J21: =I21*D21 -> 0 | K21: =E21+G21+I21 -> 0 | L21: =F21+H21+J21 -> 0 | N21: 01010114 | Q21: 5 | R21: 4 | T21: =L21*1 -> 0
A22: 0102 ■■ 기계 설비 공사 ■■ | D22: 1 | E22: =F23 -> 0 | F22: =E22*D22 -> 0 | G22: =H23 -> 0 | H22: =G22*D22 -> 0 | I22: =J23 -> 0 | J22: =I22*D22 -> 0 | K22: =E22+G22+I22 -> 0 | L22: =F22+H22+J22 -> 0 | N22: 0102 | P22: 01 | R22: 2
A23: 010201 기계 설비 공사 | D23: 1 | E23: =공종별내역서!F440 -> 0 | F23: =E23*D23 -> 0 | G23: =공종별내역서!H440 -> 0 | H23: =G23*D23 -> 0 | I23: =공종별내역서!J440 -> 0 | J23: =I23*D23 -> 0 | K23: =E23+G23+I23 -> 0 | L23: =F23+H23+J23 -> 0 | N23: 010201 | P23: 0102 | R23: 3
A26: [ 합 계 ] | F26: =F5 -> 0 | H26: =H5 -> 0 | J26: =J5 -> 0 | L26: =L5 -> 0

Sheet 공종별내역서
A1: [ 영주적십자병원건강검진센터리모델링실시설계 ]
A2: 품 명 | B2: 규 격 | C2: 단위 | D2: 수량 | E2: 재 료 비 | G2: 노 무 비 | I2: 경 비 | K2: 합 계 | M2: 비 고 | N2: 품목코드 | O2: 변수 | P2: 설정 | Q2: 공종코드 | R2: 일위 | S2: 단산 | T2: 자재 | U2: 손료적용 | V2: 손료저장 | W2: 적용율 | X2: JUK1 | Y2: JUK2 | Z2: JUK3 | AA2: JUK4 | AB2: JUK5 | AC2: JUK6 | AD2: JUK7 | AE2: JUK8 | AF2: JUK9 | AG2: JUK10 | AH2: JUK11 | AI2: JUK12 | AJ2: JUK13 | AK2: JUK14 | AL2: JUK15 | AM2: JUK16 | AN2: JUK17 | AO2: JUK18 | AP2: JUK19 | AQ2: JUK20 | AR2: 자재구분 | AS2: 공종구분 | AT2: 공종레벨 | AU2: 공종+자재 | AV2: 고유번호
E3: 단 가 | F3: 금 액 | G3: 단 가 | H3: 금 액 | I3: 단 가 | J3: 금 액 | K3: 단 가 | L3: 금 액
A4: 01010101 가 설 공 사 | Q4: 01010101
A5: 이동식가설휀스 설치 및 해체 | B5: H:1.2M | C5: M | D5: 127 | E5: =TRUNC(일위대가목록!E4,0) -> 0 | F5: =TRUNC(E5*D5, 0) -> 0 | G5: =TRUNC(일위대가목록!F4,0) -> 0 | H5: =TRUNC(G5*D5, 0) -> 0 | I5: =TRUNC(일위대가목록!G4,0) -> 0 | J5: =TRUNC(I5*D5, 0) -> 0 | K5: =TRUNC(E5+G5+I5, 0) -> 0 | L5: =TRUNC(F5+H5+J5, 0) -> 0 | M5: 호표 1 | N5: 5E9F54EB13E712E0DA9A5663F1C439 | Q5: 01010101 | R5: T | S5: F | T5: F | AU5: 010101015E9F54EB13E712E0DA9A5663F1C439 | AV5: 7
A6: 가설칸막이 설치 및 해체 | B6: 50mm, 샌드위치판넬(비닐보양포함) | C6: M2 | D6: 72 | E6: =TRUNC(일위대가목록!E5,0) -> 0 | F6: =TRUNC(E6*D6, 0) -> 0 | G6: =TRUNC(일위대가목록!F5,0) -> 0 | H6: =TRUNC(G6*D6, 0) -> 0 | I6: =TRUNC(일위대가목록!G5,0) -> 0 | J6: =TRUNC(I6*D6, 0) -> 0 | K6: =TRUNC(E6+G6+I6, 0) -> 0 | L6: =TRUNC(F6+H6+J6, 0) -> 0 | M6: 호표 2 | N6: 5E9F54EB13E712E0D09729613C572A | Q6: 01010101 | R6: T | S6: F | T6: F | AU6: 010101015E9F54EB13E712E0D09729613C572A | AV6: 8
A7: 가설칸막이 출입문 설치 및 해체 | B7: 판넬 1800*2100, 양개도어 | C7: EA | D7: 5 | E7: =TRUNC(일위대가목록!E6,0) -> 0 | F7: =TRUNC(E7*D7, 0) -> 0 | G7: =TRUNC(일위대가목록!F6,0) -> 0 | H7: =TRUNC(G7*D7, 0) -> 0 | I7: =TRUNC(일위대가목록!G6,0) -> 0 | J7: =TRUNC(I7*D7, 0) -> 0 | K7: =TRUNC(E7+G7+I7, 0) -> 0 | L7: =TRUNC(F7+H7+J7, 0) -> 0 | M7: 호표 3 | N7: 5E9F54EB13E712E0D09729613C52A8 | Q7: 01010101 | R7: T | S7: F | T7: F | AU7: 010101015E9F54EB13E712E0D09729613C52A8 | AV7: 9
A8: 강관 조립말비계(이동식)설치 및 해체 | B8: 높이 2m, 3개월 | C8: 대 | D8: 7 | E8: =TRUNC(일위대가목록!E7,0) -> 0 | F8: =TRUNC(E8*D8, 0) -> 0 | G8: =TRUNC(일위대가목록!F7,0) -> 0 | H8: =TRUNC(G8*D8, 0) -> 0 | I8: =TRUNC(일위대가목록!G7,0) -> 0 | J8: =TRUNC(I8*D8, 0) -> 0 | K8: =TRUNC(E8+G8+I8, 0) -> 0 | L8: =TRUNC(F8+H8+J8, 0) -> 0 | M8: 호표 4 | N8: 5E9F54EB13C412A0B5F32F575B6091 | Q8: 01010101 | R8: T | S8: F | T8: F | AU8: 010101015E9F54EB13C412A0B5F32F575B6091 | AV8: 10
A9: 건축물 현장정리 | B9: 리모델링(준공청소포함) | C9: M2 | D9: 775 | E9: =TRUNC(일위대가목록!E8,0) -> 0 | F9: =TRUNC(E9*D9, 0) -> 0 | G9: =TRUNC(일위대가목록!F8,0) -> 0 | H9: =TRUNC(G9*D9, 0) -> 0 | I9: =TRUNC(일위대가목록!G8,0) -> 0 | J9: =TRUNC(I9*D9, 0) -> 0 | K9: =TRUNC(E9+G9+I9, 0) -> 0 | L9: =TRUNC(F9+H9+J9, 0) -> 0 | M9: 호표 5 | N9: 5E9F54EED32F12809F4C44BF9D4029 | Q9: 01010101 | R9: T | S9: F | T9: F | AU9: 010101015E9F54EED32F12809F4C44BF9D4029 | AV9: 4
A10: 건축물보양 | B10: 바닥 | C10: M2 | D10: 643 | E10: =TRUNC(일위대가목록!E9,0) -> 0 | F10: =TRUNC(E10*D10, 0) -> 0 | G10: =TRUNC(일위대가목록!F9,0) -> 0 | H10: =TRUNC(G10*D10, 0) -> 0 | I10: =TRUNC(일위대가목록!G9,0) -> 0 | J10: =TRUNC(I10*D10, 0) -> 0 | K10: =TRUNC(E10+G10+I10, 0) -> 0 | L10: =TRUNC(F10+H10+J10, 0) -> 0 | M10: 호표 6 | N10: 5E9F54EED31D128027CF3E1F4B5D07 | Q10: 01010101 | R10: T | S10: F | T10: F | AU10: 010101015E9F54EED31D128027CF3E1F4B5D07 | AV10: 5
Q11: 01010101
Q12: 01010101
Q13: 01010101
Q14: 01010101
Q15: 01010101
Q16: 01010101
Q17: 01010101
Q18: 01010101
Q19: 01010101
Q20: 01010101
Q21: 01010101
Q22: 01010101
... Q25: 01010101
A26: [ 합 계 ] | F26: =SUMIF(Q5:Q25,"01010101",F5:F25) -> 0 | H26: =SUMIF(Q5:Q25,"01010101",H5:H25) -> 0 | J26: =SUMIF(Q5:Q25,"01010101",J5:J25) -> 0 | L26: =SUMIF(Q5:Q25,"01010101",L5:L25) -> 0 | N26: TOTAL
A27: 01010102 타 일 공 사 | Q27: 01010102
A28: 바닥타일 [TL-01] | B28: 바닥, 600*600*9mm | C28: M2 | D28: 22 | E28: =TRUNC(단가대비표!O40,0) -> 0 | F28: =TRUNC(E28*D28, 0) -> 0 | G28: =TRUNC(단가대비표!P40,0) -> 0 | H28: =TRUNC(G28*D28, 0) -> 0 | I28: =TRUNC(단가대비표!V40,0) -> 0 | J28: =TRUNC(I28*D28, 0) -> 0 | K28: =TRUNC(E28+G28+I28, 0) -> 0 | L28: =TRUNC(F28+H28+J28, 0) -> 0 | M28: 자재 36 | N28: 59B56427538C12D0FCC972C182CBF5B82CFBE3 | Q28: 01010102 | R28: F | S28: F | T28: T | AU28: 0101010259B56427538C12D0FCC972C182CBF5B82CFBE3 | AV28: 13
A29: 타일 붙임 / 접착 붙이기 | B29: 바닥, 600*600 | C29: M2 | D29: 21 | E29: =TRUNC(일위대가목록!E10,0) -> 0 | F29: =TRUNC(E29*D29, 0) -> 0 | G29: =TRUNC(일위대가목록!F10,0) -> 0 | H29: =TRUNC(G29*D29, 0) -> 0 | I29: =TRUNC(일위대가목록!G10,0) -> 0 | J29: =TRUNC(I29*D29, 0) -> 0 | K29: =TRUNC(E29+G29+I29, 0) -> 0 | L29: =TRUNC(F29+H29+J29, 0) -> 0 | M29: 호표 7 | N29: 5E9F9404332E12C0B048068B79FBD5 | Q29: 01010102 | R29: T | S29: F | T29: F | AU29: 010101025E9F9404332E12C0B048068B79FBD5 | AV29: 15
A30: 벽체타일 [TL-02] | B30: 벽, 300*600*9mm | C30: M2 | D30: 45 | E30: =TRUNC(단가대비표!O39,0) -> 0 | F30: =TRUNC(E30*D30, 0) -> 0 | G30: =TRUNC(단가대비표!P39,0) -> 0 | H30: =TRUNC(G30*D30, 0) -> 0 | I30: =TRUNC(단가대비표!V39,0) -> 0 | J30: =TRUNC(I30*D30, 0) -> 0 | K30: =TRUNC(E30+G30+I30, 0) -> 0 | L30: =TRUNC(F30+H30+J30, 0) -> 0 | M30: 자재 35 | N30: 59B56427538C12D0FCC972C182CF64D40DE171 | Q30: 01010102 | R30: F | S30: F | T30: T | AU30: 0101010259B56427538C12D0FCC972C182CF64D40DE171 | AV30: 12
A31: 타일 붙임 / 접착 붙이기 | B31: 벽, 300*600 | C31: M2 | D31: 44 | E31: =TRUNC(일위대가목록!E11,0) -> 0 | F31: =TRUNC(E31*D31, 0) -> 0 | G31: =TRUNC(일위대가목록!F11,0) -> 0 | H31: =TRUNC(G31*D31, 0) -> 0 | I31: =TRUNC(일위대가목록!G11,0) -> 0 | J31: =TRUNC(I31*D31, 0) -> 0 | K31: =TRUNC(E31+G31+I31, 0) -> 0 | L31: =TRUNC(F31+H31+J31, 0) -> 0 | M31: 호표 8 | N31: 5E9F9404332E12C0B04806894C872A | Q31: 01010102 | R31: T | S31: F | T31: F | AU31: 010101025E9F9404332E12C0B04806894C872A | AV31: 14
Q32: 01010102
Q33: 01010102
Q34: 01010102
Q35: 01010102
Q36: 01010102
Q37: 01010102
Q38: 01010102
Q39: 01010102
Q40: 01010102
Q41: 01010102
Q42: 01010102
Q43: 01010102
... Q48: 01010102
A49: [ 합 계 ] | F49: =SUMIF(Q28:Q48,"01010102",F28:F48) -> 0 | H49: =SUMIF(Q28:Q48,"01010102",H28:H48) -> 0 | J49: =SUMIF(Q28:Q48,"01010102",J28:J48) -> 0 | L49: =SUMIF(Q28:Q48,"01010102",L28:L48) -> 0 | N49: TOTAL
A50: 01010103 목공사및수장공사 | Q50: 01010103
A51: 비닐시트 깔기 [VS-03] | B51: 비닐시트, 2.0mm | C51: M2 | D51: 55 | E51: =TRUNC(일위대가목록!E12,0) -> 0 | F51: =TRUNC(E51*D51, 0) -> 0 | G51: =TRUNC(일위대가목록!F12,0) -> 0 | H51: =TRUNC(G51*D51, 0) -> 0 | I51: =TRUNC(일위대가목록!G12,0) -> 0 | J51: =TRUNC(I51*D51, 0) -> 0 | K51: =TRUNC(E51+G51+I51, 0) -> 0 | L51: =TRUNC(F51+H51+J51, 0) -> 0 | M51: 호표 9 | N51: 5E9FB45383C312A079866617510A3E | Q51: 01010103 | R51: T | S51: F | T51: F | AU51: 010101035E9FB45383C312A079866617510A3E | AV51: 311
A52: 걸레받이 설치 [BA-01] | B52: H:100, 비닐코브베이스 | C52: M | D52: 32 | E52: =TRUNC(일위대가목록!E13,0) -> 0 | F52: =TRUNC(E52*D52, 0) -> 0 | G52: =TRUNC(일위대가목록!F13,0) -> 0 | H52: =TRUNC(G52*D52, 0) -> 0 | I52: =TRUNC(일위대가목록!G13,0) -> 0 | J52: =TRUNC(I52*D52, 0) -> 0 | K52: =TRUNC(E52+G52+I52, 0) -> 0 | L52: =TRUNC(F52+H52+J52, 0) -> 0 | M52: 호표 10 | N52: 5E9FB45383841220433F6E1322C02B | Q52: 01010103 | R52: T | S52: F | T52: F | AU52: 010101035E9FB45383841220433F6E1322C02B | AV52: 312
A53: 석고판 설치 | B53: 벽, 차음GB 12.5mm 2겹(테파드보드+평보드) | C53: M2 | D53: 88 | E53: =TRUNC(일위대가목록!E14,0) -> 0 | F53: =TRUNC(E53*D53, 0) -> 0 | G53: =TRUNC(일위대가목록!F14,0) -> 0 | H53: =TRUNC(G53*D53, 0) -> 0 | I53: =TRUNC(일위대가목록!G14,0) -> 0 | J53: =TRUNC(I53*D53, 0) -> 0 | K53: =TRUNC(E53+G53+I53, 0) -> 0 | L53: =TRUNC(F53+H53+J53, 0) -> 0 | M53: 호표 11 | N53: 5E9FB451D3DB12806E66FB75E41C06 | Q53: 01010103 | R53: T | S53: F | T53: F | AU53: 010101035E9FB451D3DB12806E66FB75E41C06 | AV53: 313
A54: 그라스울 설치 | B54: 벽체, 50mm 그라스울(24K) | C54: M2 | D54: 44 | E54: =TRUNC(일위대가목록!E15,0) -> 0 | F54: =TRUNC(E54*D54, 0) -> 0 | G54: =TRUNC(일위대가목록!F15,0) -> 0 | H54: =TRUNC(G54*D54, 0) -> 0 | I54: =TRUNC(일위대가목록!G15,0) -> 0 | J54: =TRUNC(I54*D54, 0) -> 0 | K54: =TRUNC(E54+G54+I54, 0) -> 0 | L54: =TRUNC(F54+H54+J54, 0) -> 0 | M54: 호표 12 | N54: 5E9FB45FB3F11200528D15FEA4FC8B | Q54: 01010103 | R54: T | S54: F | T54: F | AU54: 010101035E9FB45FB3F11200528D15FEA4FC8B | AV54: 314
A55: 무석면 텍스 [ET-01] | B55: 600*600*12.0mm | C55: M2 | D55: 58 | E55: =TRUNC(단가대비표!O54,0) -> 0 | F55: =TRUNC(E55*D55, 0) -> 0 | G55: =TRUNC(단가대비표!P54,0) -> 0 | H55: =TRUNC(G55*D55, 0) -> 0 | I55: =TRUNC(단가대비표!V54,0) -> 0 | J55: =TRUNC(I55*D55, 0) -> 0 | K55: =TRUNC(E55+G55+I55, 0) -> 0 | L55: =TRUNC(F55+H55+J55, 0) -> 0 | M55: 자재 50 | N55: 59B5642753D412C0678EAA76519FD13AED3FC5 | Q55: 01010103 | R55: F | S55: F | T55: T | AU55: 0101010359B5642753D412C0678EAA76519FD13AED3FC5 | AV55: 309
A56: 스터드설치 | B56: 벽, C-STUD(50*45*0.8mm@450) | C56: M2 | D56: 44 | E56: =TRUNC(일위대가목록!E16,0) -> 0 | F56: =TRUNC(E56*D56, 0) -> 0 | G56: =TRUNC(일위대가목록!F16,0) -> 0 | H56: =TRUNC(G56*D56, 0) -> 0 | I56: =TRUNC(일위대가목록!G16,0) -> 0 | J56: =TRUNC(I56*D56, 0) -> 0 | K56: =TRUNC(E56+G56+I56, 0) -> 0 | L56: =TRUNC(F56+H56+J56, 0) -> 0 | M56: 호표 13 | N56: 5E9FE48C53101290BD7EDCCF2B2F06 | Q56: 01010103 | R56: T | S56: F | T56: F | AU56: 010101035E9FE48C53101290BD7EDCCF2B2F06 | AV56: 310
A57: 인테리어필름/창호면 [SH-01] | B57: 지정시트지 | C57: M2 | D57: 19 | E57: =TRUNC(단가대비표!O45,0) -> 0 | F57: =TRUNC(E57*D57, 0) -> 0 | G57: =TRUNC(단가대비표!P45,0) -> 0 | H57: =TRUNC(G57*D57, 0) -> 0 | I57: =TRUNC(단가대비표!V45,0) -> 0 | J57: =TRUNC(I57*D57, 0) -> 0 | K57: =TRUNC(E57+G57+I57, 0) -> 0 | L57: =TRUNC(F57+H57+J57, 0) -> 0 | M57: 자재 41 | N57: 59B5642753D412C06439861D2844B5029CC28C | Q57: 01010103 | R57: F | S57: F | T57: T | AU57: 0101010359B5642753D412C06439861D2844B5029CC28C | AV57: 17
A58: 암면흡음텍스 | B58: 300*600*12.0mm | C58: M2 | D58: 33 | E58: =TRUNC(단가대비표!O53,0) -> 0 | F58: =TRUNC(E58*D58, 0) -> 0 | G58: =TRUNC(단가대비표!P53,0) -> 0 | H58: =TRUNC(G58*D58, 0) -> 0 | I58: =TRUNC(단가대비표!V53,0) -> 0 | J58: =TRUNC(I58*D58, 0) -> 0 | K58: =TRUNC(E58+G58+I58, 0) -> 0 | L58: =TRUNC(F58+H58+J58, 0) -> 0 | M58: 자재 49 | N58: 59B5642753D412C0678EAA76519FD13AEC1B8F | Q58: 01010103 | R58: F | S58: F | T58: T | AU58: 0101010359B5642753D412C0678EAA76519FD13AEC1B8F | AV58: 18
A59: 무석면 텍스 [ET-01] | B59: 600*600*12.0mm | C59: M2 | D59: 365 | E59: =TRUNC(단가대비표!O54,0) -> 0 | F59: =TRUNC(E59*D59, 0) -> 0 | G59: =TRUNC(단가대비표!P54,0) -> 0 | H59: =TRUNC(G59*D59, 0) -> 0 | I59: =TRUNC(단가대비표!V54,0) -> 0 | J59: =TRUNC(I59*D59, 0) -> 0 | K59: =TRUNC(E59+G59+I59, 0) -> 0 | L59: =TRUNC(F59+H59+J59, 0) -> 0 | M59: 자재 50 | N59: 59B5642753D412C0678EAA76519FD13AED3FC5 | Q59: 01010103 | R59: F | S59: F | T59: T | AU59: 0101010359B5642753D412C0678EAA76519FD13AED3FC5 | AV59: 19
A60: 알루미늄천장재/내부 | B60: 알루미늄천장재, 600*600*0.5mm (내진천정틀포함) | C60: M2 | D60: 37 | E60: =TRUNC(단가대비표!O55,0) -> 0 | F60: =TRUNC(E60*D60, 0) -> 0 | G60: =TRUNC(단가대비표!P55,0) -> 0 | H60: =TRUNC(G60*D60, 0) -> 0 | I60: =TRUNC(단가대비표!V55,0) -> 0 | J60: =TRUNC(I60*D60, 0) -> 0 | K60: =TRUNC(E60+G60+I60, 0) -> 0 | L60: =TRUNC(F60+H60+J60, 0) -> 0 | M60: 자재 51 | N60: 59B5642753D412C0678EAA76519A55DAFC04BF | Q60: 01010103 | R60: F | S60: F | T60: T | AU60: 0101010359B5642753D412C0678EAA76519A55DAFC04BF | AV60: 20
A61: 영유아거치대 | C61: EA | D61: 2 | E61: =TRUNC(단가대비표!O70,0) -> 0 | F61: =TRUNC(E61*D61, 0) -> 0 | G61: =TRUNC(단가대비표!P70,0) -> 0 | H61: =TRUNC(G61*D61, 0) -> 0 | I61: =TRUNC(단가대비표!V70,0) -> 0 | J61: =TRUNC(I61*D61, 0) -> 0 | K61: =TRUNC(E61+G61+I61, 0) -> 0 | L61: =TRUNC(F61+H61+J61, 0) -> 0 | M61: 자재 66 | N61: 59B56427533412B0E7001CD9842C3482B35905 | Q61: 01010103 | R61: F | S61: F | T61: T | AU61: 0101010359B56427533412B0E7001CD9842C3482B35905 | AV61: 272
A62: 원목마루 설치 [WF-01] | B62: 바닥, 10mm 지정원목마루(방염)+에폭시본드 | C62: M2 | D62: 94 | E62: =TRUNC(일위대가목록!E17,0) -> 0 | F62: =TRUNC(E62*D62, 0) -> 0 | G62: =TRUNC(일위대가목록!F17,0) -> 0 | H62: =TRUNC(G62*D62, 0) -> 0 | I62: =TRUNC(일위대가목록!G17,0) -> 0 | J62: =TRUNC(I62*D62, 0) -> 0 | K62: =TRUNC(E62+G62+I62, 0) -> 0 | L62: =TRUNC(F62+H62+J62, 0) -> 0 | M62: 호표 14 | N62: 5E9FD4A1A34C12C0C56521DF4B0EFF | Q62: 01010103 | R62: T | S62: F | T62: F | AU62: 010101035E9FD4A1A34C12C0C56521DF4B0EFF | AV62: 21
A63: 스터드설치 | B63: 벽, C-STUD(50*45*0.8mm@450) | C63: M2 | D63: 550 | E63: =TRUNC(일위대가목록!E16,0) -> 0 | F63: =TRUNC(E63*D63, 0) -> 0 | G63: =TRUNC(일위대가목록!F16,0) -> 0 | H63: =TRUNC(G63*D63, 0) -> 0 | I63: =TRUNC(일위대가목록!G16,0) -> 0 | J63: =TRUNC(I63*D63, 0) -> 0 | K63: =TRUNC(E63+G63+I63, 0) -> 0 | L63: =TRUNC(F63+H63+J63, 0) -> 0 | M63: 호표 13 | N63: 5E9FE48C53101290BD7EDCCF2B2F06 | Q63: 01010103 | R63: T | S63: F | T63: F | AU63: 010101035E9FE48C53101290BD7EDCCF2B2F06 | AV63: 22
A64: 스터드설치 | B64: 벽, C-STUD(75*45*0.8mm@450) | C64: M2 | D64: 79 | E64: =TRUNC(일위대가목록!E18,0) -> 0 | F64: =TRUNC(E64*D64, 0) -> 0 | G64: =TRUNC(일위대가목록!F18,0) -> 0 | H64: =TRUNC(G64*D64, 0) -> 0 | I64: =TRUNC(일위대가목록!G18,0) -> 0 | J64: =TRUNC(I64*D64, 0) -> 0 | K64: =TRUNC(E64+G64+I64, 0) -> 0 | L64: =TRUNC(F64+H64+J64, 0) -> 0 | M64: 호표 15 | N64: 5E9FE48C53101290BD7EDCCF2B2D5C | Q64: 01010103 | R64: T | S64: F | T64: F | AU64: 010101035E9FE48C53101290BD7EDCCF2B2D5C | AV64: 23
A65: 스터드설치 | B65: 벽, C-STUD(100*45*0.8mm@450) | C65: M2 | D65: 267 | E65: =TRUNC(일위대가목록!E19,0) -> 0 | F65: =TRUNC(E65*D65, 0) -> 0 | G65: =TRUNC(일위대가목록!F19,0) -> 0 | H65: =TRUNC(G65*D65, 0) -> 0 | I65: =TRUNC(일위대가목록!G19,0) -> 0 | J65: =TRUNC(I65*D65, 0) -> 0 | K65: =TRUNC(E65+G65+I65, 0) -> 0 | L65: =TRUNC(F65+H65+J65, 0) -> 0 | M65: 호표 16 | N65: 5E9FE48C53101290BD7EDCCF2A03FB | Q65: 01010103 | R65: T | S65: F | T65: F | AU65: 010101035E9FE48C53101290BD7EDCCF2A03FB | AV65: 24
A66: 스터드설치 | B66: 벽, CH-STUD(102*35*0.8mm@600) | C66: M2 | D66: 20 | E66: =TRUNC(일위대가목록!E20,0) -> 0 | F66: =TRUNC(E66*D66, 0) -> 0 | G66: =TRUNC(일위대가목록!F20,0) -> 0 | H66: =TRUNC(G66*D66, 0) -> 0 | I66: =TRUNC(일위대가목록!G20,0) -> 0 | J66: =TRUNC(I66*D66, 0) -> 0 | K66: =TRUNC(E66+G66+I66, 0) -> 0 | L66: =TRUNC(F66+H66+J66, 0) -> 0 | M66: 호표 17 | N66: 5E9FE48C53101290BD7EDCCC574BE6 | Q66: 01010103 | R66: T | S66: F | T66: F | AU66: 010101035E9FE48C53101290BD7EDCCC574BE6 | AV66: 25
A67: 비닐시트 깔기 [VS-01] | B67: 비닐시트, 2.0mm | C67: M2 | D67: 96 | E67: =TRUNC(일위대가목록!E21,0) -> 0 | F67: =TRUNC(E67*D67, 0) -> 0 | G67: =TRUNC(일위대가목록!F21,0) -> 0 | H67: =TRUNC(G67*D67, 0) -> 0 | I67: =TRUNC(일위대가목록!G21,0) -> 0 | J67: =TRUNC(I67*D67, 0) -> 0 | K67: =TRUNC(E67+G67+I67, 0) -> 0 | L67: =TRUNC(F67+H67+J67, 0) -> 0 | M67: 호표 18 | N67: 5E9FB45383C312A079866617510A3C | Q67: 01010103 | R67: T | S67: F | T67: F | AU67: 010101035E9FB45383C312A079866617510A3C | AV67: 26
A68: 비닐시트 깔기 [VS-02] | B68: 비닐시트, 2.0mm | C68: M2 | D68: 86 | E68: =TRUNC(일위대가목록!E22,0) -> 0 | F68: =TRUNC(E68*D68, 0) -> 0 | G68: =TRUNC(일위대가목록!F22,0) -> 0 | H68: =TRUNC(G68*D68, 0) -> 0 | I68: =TRUNC(일위대가목록!G22,0) -> 0 | J68: =TRUNC(I68*D68, 0) -> 0 | K68: =TRUNC(E68+G68+I68, 0) -> 0 | L68: =TRUNC(F68+H68+J68, 0) -> 0 | M68: 호표 19 | N68: 5E9FB45383C312A079866617510A3F | Q68: 01010103 | R68: T | S68: F | T68: F | AU68: 010101035E9FB45383C312A079866617510A3F | AV68: 27
A69: 비닐시트 깔기 [VS-03] | B69: 비닐시트, 2.0mm | C69: M2 | D69: 60 | E69: =TRUNC(일위대가목록!E12,0) -> 0 | F69: =TRUNC(E69*D69, 0) -> 0 | G69: =TRUNC(일위대가목록!F12,0) -> 0 | H69: =TRUNC(G69*D69, 0) -> 0 | I69: =TRUNC(일위대가목록!G12,0) -> 0 | J69: =TRUNC(I69*D69, 0) -> 0 | K69: =TRUNC(E69+G69+I69, 0) -> 0 | L69: =TRUNC(F69+H69+J69, 0) -> 0 | M69: 호표 9 | N69: 5E9FB45383C312A079866617510A3E | Q69: 01010103 | R69: T | S69: F | T69: F | AU69: 010101035E9FB45383C312A079866617510A3E | AV69: 28
A70: 비닐시트 깔기 [VS-04] | B70: 비닐시트, 2.0mm | C70: M2 | D70: 189 | E70: =TRUNC(일위대가목록!E23,0) -> 0 | F70: =TRUNC(E70*D70, 0) -> 0 | G70: =TRUNC(일위대가목록!F23,0) -> 0 | H70: =TRUNC(G70*D70, 0) -> 0 | I70: =TRUNC(일위대가목록!G23,0) -> 0 | J70: =TRUNC(I70*D70, 0) -> 0 | K70: =TRUNC(E70+G70+I70, 0) -> 0 | L70: =TRUNC(F70+H70+J70, 0) -> 0 | M70: 호표 20 | N70: 5E9FB45383C312A079866617510A39 | Q70: 01010103 | R70: T | S70: F | T70: F | AU70: 010101035E9FB45383C312A079866617510A39 | AV70: 29
A71: 비닐시트 깔기 [VS-05] | B71: 비닐시트, 2.0mm | C71: M2 | D71: 103 | E71: =TRUNC(일위대가목록!E24,0) -> 0 | F71: =TRUNC(E71*D71, 0) -> 0 | G71: =TRUNC(일위대가목록!F24,0) -> 0 | H71: =TRUNC(G71*D71, 0) -> 0 | I71: =TRUNC(일위대가목록!G24,0) -> 0 | J71: =TRUNC(I71*D71, 0) -> 0 | K71: =TRUNC(E71+G71+I71, 0) -> 0 | L71: =TRUNC(F71+H71+J71, 0) -> 0 | M71: 호표 21 | N71: 5E9FB45383C312A079866617510A38 | Q71: 01010103 | R71: T | S71: F | T71: F | AU71: 010101035E9FB45383C312A079866617510A38 | AV71: 30
A72: 걸레받이 설치 [BA-01] | B72: H:100, 비닐코브베이스 | C72: M | D72: 407 | E72: =TRUNC(일위대가목록!E13,0) -> 0 | F72: =TRUNC(E72*D72, 0) -> 0 | G72: =TRUNC(일위대가목록!F13,0) -> 0 | H72: =TRUNC(G72*D72, 0) -> 0 | I72: =TRUNC(일위대가목록!G13,0) -> 0 | J72: =TRUNC(I72*D72, 0) -> 0 | K72: =TRUNC(E72+G72+I72, 0) -> 0 | L72: =TRUNC(F72+H72+J72, 0) -> 0 | M72: 호표 10 | N72: 5E9FB45383841220433F6E1322C02B | Q72: 01010103 | R72: T | S72: F | T72: F | AU72: 010101035E9FB45383841220433F6E1322C02B | AV72: 31
A73: 도배바름(합판·석고보드면) [WC-01] | B73: 벽, 지정벽지 | C73: M2 | D73: 14 | E73: =TRUNC(일위대가목록!E25,0) -> 0 | F73: =TRUNC(E73*D73, 0) -> 0 | G73: =TRUNC(일위대가목록!F25,0) -> 0 | H73: =TRUNC(G73*D73, 0) -> 0 | I73: =TRUNC(일위대가목록!G25,0) -> 0 | J73: =TRUNC(I73*D73, 0) -> 0 | K73: =TRUNC(E73+G73+I73, 0) -> 0 | L73: =TRUNC(F73+H73+J73, 0) -> 0 | M73: 호표 22 | N73: 5E9FB450339C125044EEA844821EF2 | Q73: 01010103 | R73: T | S73: F | T73: F | AU73: 010101035E9FB450339C125044EEA844821EF2 | AV73: 32
A74: 도배바름(합판·석고보드면) [WC-02] | B74: 벽, 지정벽지 | C74: M2 | D74: 121 | E74: =TRUNC(일위대가목록!E26,0) -> 0 | F74: =TRUNC(E74*D74, 0) -> 0 | G74: =TRUNC(일위대가목록!F26,0) -> 0 | H74: =TRUNC(G74*D74, 0) -> 0 | I74: =TRUNC(일위대가목록!G26,0) -> 0 | J74: =TRUNC(I74*D74, 0) -> 0 | K74: =TRUNC(E74+G74+I74, 0) -> 0 | L74: =TRUNC(F74+H74+J74, 0) -> 0 | M74: 호표 23 | N74: 5E9FB450339C125044EEA844821DEB | Q74: 01010103 | R74: T | S74: F | T74: F | AU74: 010101035E9FB450339C125044EEA844821DEB | AV74: 33
A75: 도배바름(합판·석고보드면) [WC-03] | B75: 벽, 지정벽지 | C75: M2 | D75: 40 | E75: =TRUNC(일위대가목록!E27,0) -> 0 | F75: =TRUNC(E75*D75, 0) -> 0 | G75: =TRUNC(일위대가목록!F27,0) -> 0 | H75: =TRUNC(G75*D75, 0) -> 0 | I75: =TRUNC(일위대가목록!G27,0) -> 0 | J75: =TRUNC(I75*D75, 0) -> 0 | K75: =TRUNC(E75+G75+I75, 0) -> 0 | L75: =TRUNC(F75+H75+J75, 0) -> 0 | M75: 호표 24 | N75: 5E9FB450339C125044EEA844821CC5 | Q75: 01010103 | R75: T | S75: F | T75: F | AU75: 010101035E9FB450339C125044EEA844821CC5 | AV75: 34
A76: 도배바름(콘크리트·모르타르면) [WC-02] | B76: 벽, 지정벽지 | C76: M2 | D76: 17 | E76: =TRUNC(일위대가목록!E28,0) -> 0 | F76: =TRUNC(E76*D76, 0) -> 0 | G76: =TRUNC(일위대가목록!F28,0) -> 0 | H76: =TRUNC(G76*D76, 0) -> 0 | I76: =TRUNC(일위대가목록!G28,0) -> 0 | J76: =TRUNC(I76*D76, 0) -> 0 | K76: =TRUNC(E76+G76+I76, 0) -> 0 | L76: =TRUNC(F76+H76+J76, 0) -> 0 | M76: 호표 25 | N76: 5E9FB450339C125043C79F82637CAD | Q76: 01010103 | R76: T | S76: F | T76: F | AU76: 010101035E9FB450339C125043C79F82637CAD | AV76: 35
A77: 도배바름(콘크리트·모르타르면) [WC-03] | B77: 벽, 지정벽지 | C77: M2 | D77: 7 | E77: =TRUNC(일위대가목록!E29,0) -> 0 | F77: =TRUNC(E77*D77, 0) -> 0 | G77: =TRUNC(일위대가목록!F29,0) -> 0 | H77: =TRUNC(G77*D77, 0) -> 0 | I77: =TRUNC(일위대가목록!G29,0) -> 0 | J77: =TRUNC(I77*D77, 0) -> 0 | K77: =TRUNC(E77+G77+I77, 0) -> 0 | L77: =TRUNC(F77+H77+J77, 0) -> 0 | M77: 호표 26 | N77: 5E9FB450339C125043C79F82637DB4 | Q77: 01010103 | R77: T | S77: F | T77: F | AU77: 010101035E9FB450339C125043C79F82637DB4 | AV77: 36
A78: 석고판 설치 | B78: 벽, 일반GB 12.5mm 1겹(평보드) | C78: M2 | D78: 32 | E78: =TRUNC(일위대가목록!E30,0) -> 0 | F78: =TRUNC(E78*D78, 0) -> 0 | G78: =TRUNC(일위대가목록!F30,0) -> 0 | H78: =TRUNC(G78*D78, 0) -> 0 | I78: =TRUNC(일위대가목록!G30,0) -> 0 | J78: =TRUNC(I78*D78, 0) -> 0 | K78: =TRUNC(E78+G78+I78, 0) -> 0 | L78: =TRUNC(F78+H78+J78, 0) -> 0 | M78: 호표 27 | N78: 5E9FB451D3DB12806E66FB75E6C8F4 | Q78: 01010103 | R78: T | S78: F | T78: F | AU78: 010101035E9FB451D3DB12806E66FB75E6C8F4 | AV78: 37
A79: 석고판 설치 | B79: 벽, 고강도 일반GB 12.5mm 1겹(테파드보드) | C79: M2 | D79: 223 | E79: =TRUNC(일위대가목록!E31,0) -> 0 | F79: =TRUNC(E79*D79, 0) -> 0 | G79: =TRUNC(일위대가목록!F31,0) -> 0 | H79: =TRUNC(G79*D79, 0) -> 0 | I79: =TRUNC(일위대가목록!G31,0) -> 0 | J79: =TRUNC(I79*D79, 0) -> 0 | K79: =TRUNC(E79+G79+I79, 0) -> 0 | L79: =TRUNC(F79+H79+J79, 0) -> 0 | M79: 호표 28 | N79: 5E9FB451D3DB12806E66FB75E6CF23 | Q79: 01010103 | R79: T | S79: F | T79: F | AU79: 010101035E9FB451D3DB12806E66FB75E6CF23 | AV79: 38
A80: 석고판 설치 | B80: 벽, 일반GB 12.5mm 1겹(평보드) | C80: M2 | D80: 35 | E80: =TRUNC(일위대가목록!E32,0) -> 0 | F80: =TRUNC(E80*D80, 0) -> 0 | G80: =TRUNC(일위대가목록!F32,0) -> 0 | H80: =TRUNC(G80*D80, 0) -> 0 | I80: =TRUNC(일위대가목록!G32,0) -> 0 | J80: =TRUNC(I80*D80, 0) -> 0 | K80: =TRUNC(E80+G80+I80, 0) -> 0 | L80: =TRUNC(F80+H80+J80, 0) -> 0 | M80: 호표 29 | N80: 5E9FB451D3DB12806E66FB75E7D50B | Q80: 01010103 | R80: T | S80: F | T80: F | AU80: 010101035E9FB451D3DB12806E66FB75E7D50B | AV80: 39
A81: 석고판 설치 | B81: 벽, 일반GB 12.5mm 2겹(테파드보드+평보드) | C81: M2 | D81: 93 | E81: =TRUNC(일위대가목록!E33,0) -> 0 | F81: =TRUNC(E81*D81, 0) -> 0 | G81: =TRUNC(일위대가목록!F33,0) -> 0 | H81: =TRUNC(G81*D81, 0) -> 0 | I81: =TRUNC(일위대가목록!G33,0) -> 0 | J81: =TRUNC(I81*D81, 0) -> 0 | K81: =TRUNC(E81+G81+I81, 0) -> 0 | L81: =TRUNC(F81+H81+J81, 0) -> 0 | M81: 호표 30 | N81: 5E9FB451D3DB12806E66FB75E7D467 | Q81: 01010103 | R81: T | S81: F | T81: F | AU81: 010101035E9FB451D3DB12806E66FB75E7D467 | AV81: 40
A82: 석고판 설치 | B82: 벽, 차음GB 12.5mm 1겹(평보드) | C82: M2 | D82: 268 | E82: =TRUNC(일위대가목록!E34,0) -> 0 | F82: =TRUNC(E82*D82, 0) -> 0 | G82: =TRUNC(일위대가목록!F34,0) -> 0 | H82: =TRUNC(G82*D82, 0) -> 0 | I82: =TRUNC(일위대가목록!G34,0) -> 0 | J82: =TRUNC(I82*D82, 0) -> 0 | K82: =TRUNC(E82+G82+I82, 0) -> 0 | L82: =TRUNC(F82+H82+J82, 0) -> 0 | M82: 호표 31 | N82: 5E9FB451D3DB12806E66FB75E41D28 | Q82: 01010103 | R82: T | S82: F | T82: F | AU82: 010101035E9FB451D3DB12806E66FB75E41D28 | AV82: 41
A83: 석고판 설치 | B83: 벽, 차음GB 12.5mm 2겹(테파드보드+평보드) | C83: M2 | D83: 1271 | E83: =TRUNC(일위대가목록!E14,0) -> 0 | F83: =TRUNC(E83*D83, 0) -> 0 | G83: =TRUNC(일위대가목록!F14,0) -> 0 | H83: =TRUNC(G83*D83, 0) -> 0 | I83: =TRUNC(일위대가목록!G14,0) -> 0 | J83: =TRUNC(I83*D83, 0) -> 0 | K83: =TRUNC(E83+G83+I83, 0) -> 0 | L83: =TRUNC(F83+H83+J83, 0) -> 0 | M83: 호표 11 | N83: 5E9FB451D3DB12806E66FB75E41C06 | Q83: 01010103 | R83: T | S83: F | T83: F | AU83: 010101035E9FB451D3DB12806E66FB75E41C06 | AV83: 42
A84: 석고판 설치 | B84: 벽, 방화GB 12.5mm 2겹(평보드) | C84: M2 | D84: 20 | E84: =TRUNC(일위대가목록!E35,0) -> 0 | F84: =TRUNC(E84*D84, 0) -> 0 | G84: =TRUNC(일위대가목록!F35,0) -> 0 | H84: =TRUNC(G84*D84, 0) -> 0 | I84: =TRUNC(일위대가목록!G35,0) -> 0 | J84: =TRUNC(I84*D84, 0) -> 0 | K84: =TRUNC(E84+G84+I84, 0) -> 0 | L84: =TRUNC(F84+H84+J84, 0) -> 0 | M84: 호표 32 | N84: 5E9FB451D3DB12806E66FB75E52526 | Q84: 01010103 | R84: T | S84: F | T84: F | AU84: 010101035E9FB451D3DB12806E66FB75E52526 | AV84: 43
A85: 석고판 설치 | B85: 벽, 방화GB 25mm 1겹 | C85: M2 | D85: 20 | E85: =TRUNC(일위대가목록!E36,0) -> 0 | F85: =TRUNC(E85*D85, 0) -> 0 | G85: =TRUNC(일위대가목록!F36,0) -> 0 | H85: =TRUNC(G85*D85, 0) -> 0 | I85: =TRUNC(일위대가목록!G36,0) -> 0 | J85: =TRUNC(I85*D85, 0) -> 0 | K85: =TRUNC(E85+G85+I85, 0) -> 0 | L85: =TRUNC(F85+H85+J85, 0) -> 0 | M85: 호표 33 | N85: 5E9FB451D3DB12806E66FB75E526CC | Q85: 01010103 | R85: T | S85: F | T85: F | AU85: 010101035E9FB451D3DB12806E66FB75E526CC | AV85: 44
A86: 석고판 설치 | B86: 벽, 고성능 방수방균GB 12.5mm 1겹(평보드) | C86: M2 | D86: 91 | E86: =TRUNC(일위대가목록!E37,0) -> 0 | F86: =TRUNC(E86*D86, 0) -> 0 | G86: =TRUNC(일위대가목록!F37,0) -> 0 | H86: =TRUNC(G86*D86, 0) -> 0 | I86: =TRUNC(일위대가목록!G37,0) -> 0 | J86: =TRUNC(I86*D86, 0) -> 0 | K86: =TRUNC(E86+G86+I86, 0) -> 0 | L86: =TRUNC(F86+H86+J86, 0) -> 0 | M86: 호표 34 | N86: 5E9FB451D3DB12806E66FB75E5214B | Q86: 01010103 | R86: T | S86: F | T86: F | AU86: 010101035E9FB451D3DB12806E66FB75E5214B | AV86: 45
A87: 석고판 설치 | B87: 천장, 일반 9.5mm 2겹(마감판부착노임1겹제외) | C87: M2 | D87: 347 | E87: =TRUNC(일위대가목록!E38,0) -> 0 | F87: =TRUNC(E87*D87, 0) -> 0 | G87: =TRUNC(일위대가목록!F38,0) -> 0 | H87: =TRUNC(G87*D87, 0) -> 0 | I87: =TRUNC(일위대가목록!G38,0) -> 0 | J87: =TRUNC(I87*D87, 0) -> 0 | K87: =TRUNC(E87+G87+I87, 0) -> 0 | L87: =TRUNC(F87+H87+J87, 0) -> 0 | M87: 호표 35 | N87: 5E9FB451D3DB12806D40F89E2B55ED | Q87: 01010103 | R87: T | S87: F | T87: F | AU87: 010101035E9FB451D3DB12806D40F89E2B55ED | AV87: 46
A88: 그라스울 설치 | B88: 벽체, 50mm 그라스울(24K) | C88: M2 | D88: 801 | E88: =TRUNC(일위대가목록!E15,0) -> 0 | F88: =TRUNC(E88*D88, 0) -> 0 | G88: =TRUNC(일위대가목록!F15,0) -> 0 | H88: =TRUNC(G88*D88, 0) -> 0 | I88: =TRUNC(일위대가목록!G15,0) -> 0 | J88: =TRUNC(I88*D88, 0) -> 0 | K88: =TRUNC(E88+G88+I88, 0) -> 0 | L88: =TRUNC(F88+H88+J88, 0) -> 0 | M88: 호표 12 | N88: 5E9FB45FB3F11200528D15FEA4FC8B | Q88: 01010103 | R88: T | S88: F | T88: F | AU88: 010101035E9FB45FB3F11200528D15FEA4FC8B | AV88: 47
A89: 시트마감 [SH-02] | B89: 벽, 시트마감(MDF9.0mm+지정시트) | C89: M2 | D89: 39 | E89: =TRUNC(일위대가목록!E39,0) -> 0 | F89: =TRUNC(E89*D89, 0) -> 0 | G89: =TRUNC(일위대가목록!F39,0) -> 0 | H89: =TRUNC(G89*D89, 0) -> 0 | I89: =TRUNC(일위대가목록!G39,0) -> 0 | J89: =TRUNC(I89*D89, 0) -> 0 | K89: =TRUNC(E89+G89+I89, 0) -> 0 | L89: =TRUNC(F89+H89+J89, 0) -> 0 | M89: 호표 36 | N89: 5E9FB45FB3C512C0AA8A71F15345DB | Q89: 01010103 | R89: T | S89: F | T89: F | AU89: 010101035E9FB45FB3C512C0AA8A71F15345DB | AV89: 48
A90: 시트마감 [SH-03] | B90: 벽, 시트마감(GB12.5mm+지정시트) | C90: M2 | D90: 5 | E90: =TRUNC(일위대가목록!E40,0) -> 0 | F90: =TRUNC(E90*D90, 0) -> 0 | G90: =TRUNC(일위대가목록!F40,0) -> 0 | H90: =TRUNC(G90*D90, 0) -> 0 | I90: =TRUNC(일위대가목록!G40,0) -> 0 | J90: =TRUNC(I90*D90, 0) -> 0 | K90: =TRUNC(E90+G90+I90, 0) -> 0 | L90: =TRUNC(F90+H90+J90, 0) -> 0 | M90: 호표 37 | N90: 5E9FB45FB3C512C0AA8A71F15345DE | Q90: 01010103 | R90: T | S90: F | T90: F | AU90: 010101035E9FB45FB3C512C0AA8A71F15345DE | AV90: 49
A91: 시트마감 [SH-02] | B91: 천정, 시트마감(MDF4.0mm+지정시트) | C91: M2 | D91: 2 | E91: =TRUNC(일위대가목록!E41,0) -> 0 | F91: =TRUNC(E91*D91, 0) -> 0 | G91: =TRUNC(일위대가목록!F41,0) -> 0 | H91: =TRUNC(G91*D91, 0) -> 0 | I91: =TRUNC(일위대가목록!G41,0) -> 0 | J91: =TRUNC(I91*D91, 0) -> 0 | K91: =TRUNC(E91+G91+I91, 0) -> 0 | L91: =TRUNC(F91+H91+J91, 0) -> 0 | M91: 호표 38 | N91: 5E9FB45FB3C512C0AA8A71F1546E92 | Q91: 01010103 | R91: T | S91: F | T91: F | AU91: 010101035E9FB45FB3C512C0AA8A71F1546E92 | AV91: 50
A92: 시트마감 [SH-02]-곡면 | B92: 천정, 시트마감(MDF4.0mm+지정시트) | C92: M2 | D92: 3 | E92: =TRUNC(일위대가목록!E42,0) -> 0 | F92: =TRUNC(E92*D92, 0) -> 0 | G92: =TRUNC(일위대가목록!F42,0) -> 0 | H92: =TRUNC(G92*D92, 0) -> 0 | I92: =TRUNC(일위대가목록!G42,0) -> 0 | J92: =TRUNC(I92*D92, 0) -> 0 | K92: =TRUNC(E92+G92+I92, 0) -> 0 | L92: =TRUNC(F92+H92+J92, 0) -> 0 | M92: 호표 39 | N92: 5E9FB45FB3C512C0AA8A71F1546FB8 | Q92: 01010103 | R92: T | S92: F | T92: F | AU92: 010101035E9FB45FB3C512C0AA8A71F1546FB8 | AV92: 51
A93: 시트마감 [SH-02] | B93: 벽, 시트마감(지정시트) | C93: M2 | D93: 149 | E93: =TRUNC(일위대가목록!E43,0) -> 0 | F93: =TRUNC(E93*D93, 0) -> 0 | G93: =TRUNC(일위대가목록!F43,0) -> 0 | H93: =TRUNC(G93*D93, 0) -> 0 | I93: =TRUNC(일위대가목록!G43,0) -> 0 | J93: =TRUNC(I93*D93, 0) -> 0 | K93: =TRUNC(E93+G93+I93, 0) -> 0 | L93: =TRUNC(F93+H93+J93, 0) -> 0 | M93: 호표 40 | N93: 5E9FB45FB3C512C0AA8A71F1546763 | Q93: 01010103 | R93: T | S93: F | T93: F | AU93: 010101035E9FB45FB3C512C0AA8A71F1546763 | AV93: 52
Q94: 01010103
A95: [ 합 계 ] | F95: =SUMIF(Q51:Q94,"01010103",F51:F94) -> 0 | H95: =SUMIF(Q51:Q94,"01010103",H51:H94) -> 0 | J95: =SUMIF(Q51:Q94,"01010103",J51:J94) -> 0 | L95: =SUMIF(Q51:Q94,"01010103",L51:L94) -> 0 | N95: TOTAL
A96: 01010104 방 수 공 사 | Q96: 01010104
A97: 우레탄 도막방수(코너보강) | B97: 비노출, 바닥, W150+150 | C97: M | D97: 32 | E97: =TRUNC(일위대가목록!E44,0) -> 0 | F97: =TRUNC(E97*D97, 0) -> 0 | G97: =TRUNC(일위대가목록!F44,0) -> 0 | H97: =TRUNC(G97*D97, 0) -> 0 | I97: =TRUNC(일위대가목록!G44,0) -> 0 | J97: =TRUNC(I97*D97, 0) -> 0 | K97: =TRUNC(E97+G97+I97, 0) -> 0 | L97: =TRUNC(F97+H97+J97, 0) -> 0 | M97: 호표 41 | N97: 5E9FC4BA636212106D5B982F9CCEB7 | Q97: 01010104 | R97: T | S97: F | T97: F | AU97: 010101045E9FC4BA636212106D5B982F9CCEB7 | AV97: 54
A98: 우레탄 도막방수(코너보강) | B98: 비노출, 벽, W150+150 | C98: M | D98: 13 | E98: =TRUNC(일위대가목록!E45,0) -> 0 | F98: =TRUNC(E98*D98, 0) -> 0 | G98: =TRUNC(일위대가목록!F45,0) -> 0 | H98: =TRUNC(G98*D98, 0) -> 0 | I98: =TRUNC(일위대가목록!G45,0) -> 0 | J98: =TRUNC(I98*D98, 0) -> 0 | K98: =TRUNC(E98+G98+I98, 0) -> 0 | L98: =TRUNC(F98+H98+J98, 0) -> 0 | M98: 호표 42 | N98: 5E9FC4BA636212106D5B982F9CCDAE | Q98: 01010104 | R98: T | S98: F | T98: F | AU98: 010101045E9FC4BA636212106D5B982F9CCDAE | AV98: 55
A99: 수밀코킹(실리콘) | B99: 삼각, 10mm, 창호주위 | C99: M | D99: 369 | E99: =TRUNC(일위대가목록!E46,0) -> 0 | F99: =TRUNC(E99*D99, 0) -> 0 | G99: =TRUNC(일위대가목록!F46,0) -> 0 | H99: =TRUNC(G99*D99, 0) -> 0 | I99: =TRUNC(일위대가목록!G46,0) -> 0 | J99: =TRUNC(I99*D99, 0) -> 0 | K99: =TRUNC(E99+G99+I99, 0) -> 0 | L99: =TRUNC(F99+H99+J99, 0) -> 0 | M99: 호표 43 | N99: 5E9FC4BFE3B812D0EB2AF7136BB03E | Q99: 01010104 | R99: T | S99: F | T99: F | AU99: 010101045E9FC4BFE3B812D0EB2AF7136BB03E | AV99: 56
A100: 죠인트코킹 | B100: 이질재접합부위 | C100: M | D100: 68 | E100: =TRUNC(일위대가목록!E47,0) -> 0 | F100: =TRUNC(E100*D100, 0) -> 0 | G100: =TRUNC(일위대가목록!F47,0) -> 0 | H100: =TRUNC(G100*D100, 0) -> 0 | I100: =TRUNC(일위대가목록!G47,0) -> 0 | J100: =TRUNC(I100*D100, 0) -> 0 | K100: =TRUNC(E100+G100+I100, 0) -> 0 | L100: =TRUNC(F100+H100+J100, 0) -> 0 | M100: 호표 44 | N100: 5E9FC4BFE3C91270ACDC7967983540 | Q100: 01010104 | R100: T | S100: F | T100: F | AU100: 010101045E9FC4BFE3C91270ACDC7967983540 | AV100: 57
A101: 침투성방수+MMA방수 | B101: 바닥 | C101: M2 | D101: 21 | E101: =TRUNC(일위대가목록!E48,0) -> 0 | F101: =TRUNC(E101*D101, 0) -> 0 | G101: =TRUNC(일위대가목록!F48,0) -> 0 | H101: =TRUNC(G101*D101, 0) -> 0 | I101: =TRUNC(일위대가목록!G48,0) -> 0 | J101: =TRUNC(I101*D101, 0) -> 0 | K101: =TRUNC(E101+G101+I101, 0) -> 0 | L101: =TRUNC(F101+H101+J101, 0) -> 0 | M101: 호표 45 | N101: 5E9FC4B0633F12402AA95E5A22CE6A | Q101: 01010104 | R101: T | S101: F | T101: F | AU101: 010101045E9FC4B0633F12402AA95E5A22CE6A | AV101: 58
A102: MMA방수 | B102: 수직부 | C102: M2 | D102: 25 | E102: =TRUNC(일위대가목록!E49,0) -> 0 | F102: =TRUNC(E102*D102, 0) -> 0 | G102: =TRUNC(일위대가목록!F49,0) -> 0 | H102: =TRUNC(G102*D102, 0) -> 0 | I102: =TRUNC(일위대가목록!G49,0) -> 0 | J102: =TRUNC(I102*D102, 0) -> 0 | K102: =TRUNC(E102+G102+I102, 0) -> 0 | L102: =TRUNC(F102+H102+J102, 0) -> 0 | M102: 호표 46 | N102: 5E9FC4B0633F12402AA95DB3B8F8D1 | Q102: 01010104 | R102: T | S102: F | T102: F | AU102: 010101045E9FC4B0633F12402AA95DB3B8F8D1 | AV102: 59
Q103: 01010104
Q104: 01010104
Q105: 01010104
Q106: 01010104
...

Sheet 일위대가목록
B1: 일 위 대 가 목 록
B2: [ 영주적십자병원건강검진센터리모델링실시설계 ]
A3: 코 드 | B3: 품 명 | C3: 규 격 | D3: 단위 | E3: 재 료 비 | F3: 노 무 비 | G3: 경 비 | H3: 합 계 | I3: 번 호 | J3: 비 고 | K3: 노임계수 | L3: 할증 | M3: 품셈개요 | N3: 장비일위
A4: 5E9F54EB13E712E0DA9A5663F1C439 | B4: 이동식가설휀스 설치 및 해체 | C4: H:1.2M | D4: M | E4: =일위대가!F6 -> 0 | F4: =일위대가!H6 -> 0 | G4: =일위대가!J6 -> 0 | H4: =E4+F4+G4 -> 0 | I4: 호표 1
A5: 5E9F54EB13E712E0D09729613C572A | B5: 가설칸막이 설치 및 해체 | C5: 50mm, 샌드위치판넬(비닐보양포함) | D5: M2 | E5: =일위대가!F14 -> 0 | F5: =일위대가!H14 -> 0 | G5: =일위대가!J14 -> 0 | H5: =E5+F5+G5 -> 0 | I5: 호표 2
A6: 5E9F54EB13E712E0D09729613C52A8 | B6: 가설칸막이 출입문 설치 및 해체 | C6: 판넬 1800*2100, 양개도어 | D6: EA | E6: =일위대가!F21 -> 0 | F6: =일위대가!H21 -> 0 | G6: =일위대가!J21 -> 0 | H6: =E6+F6+G6 -> 0 | I6: 호표 3
A7: 5E9F54EB13C412A0B5F32F575B6091 | B7: 강관 조립말비계(이동식)설치 및 해체 | C7: 높이 2m, 3개월 | D7: 대 | E7: =일위대가!F34 -> 0 | F7: =일위대가!H34 -> 0 | G7: =일위대가!J34 -> 0 | H7: =E7+F7+G7 -> 0 | I7: 호표 4 | M7: 공통 2-7-6, 2-2-5
A8: 5E9F54EED32F12809F4C44BF9D4029 | B8: 건축물 현장정리 | C8: 리모델링(준공청소포함) | D8: M2 | E8: =일위대가!F38 -> 0 | F8: =일위대가!H38 -> 0 | G8: =일위대가!J38 -> 0 | H8: =E8+F8+G8 -> 0 | I8: 호표 5
A9: 5E9F54EED31D128027CF3E1F4B5D07 | B9: 건축물보양 | C9: 바닥 | D9: M2 | E9: =일위대가!F44 -> 0 | F9: =일위대가!H44 -> 0 | G9: =일위대가!J44 -> 0 | H9: =E9+F9+G9 -> 0 | I9: 호표 6 | M9: 공통 2-11-1
A10: 5E9F9404332E12C0B048068B79FBD5 | B10: 타일 붙임 / 접착 붙이기 | C10: 바닥, 600*600 | D10: M2 | E10: =일위대가!F50 -> 0 | F10: =일위대가!H50 -> 0 | G10: =일위대가!J50 -> 0 | H10: =E10+F10+G10 -> 0 | I10: 호표 7 | M10: 건축 3-2-3
A11: 5E9F9404332E12C0B04806894C872A | B11: 타일 붙임 / 접착 붙이기 | C11: 벽, 300*600 | D11: M2 | E11: =일위대가!F56 -> 0 | F11: =일위대가!H56 -> 0 | G11: =일위대가!J56 -> 0 | H11: =E11+F11+G11 -> 0 | I11: 호표 8 | M11: 건축 3-2-3
A12: 5E9FB45383C312A079866617510A3E | B12: 비닐시트 깔기 [VS-03] | C12: 비닐시트, 2.0mm | D12: M2 | E12: =일위대가!F62 -> 0 | F12: =일위대가!H62 -> 0 | G12: =일위대가!J62 -> 0 | H12: =E12+F12+G12 -> 0 | I12: 호표 9
A13: 5E9FB45383841220433F6E1322C02B | B13: 걸레받이 설치 [BA-01] | C13: H:100, 비닐코브베이스 | D13: M | E13: =일위대가!F68 -> 0 | F13: =일위대가!H68 -> 0 | G13: =일위대가!J68 -> 0 | H13: =E13+F13+G13 -> 0 | I13: 호표 10
A14: 5E9FB451D3DB12806E66FB75E41C06 | B14: 석고판 설치 | C14: 벽, 차음GB 12.5mm 2겹(테파드보드+평보드) | D14: M2 | E14: =일위대가!F73 -> 0 | F14: =일위대가!H73 -> 0 | G14: =일위대가!J73 -> 0 | H14: =E14+F14+G14 -> 0 | I14: 호표 11
A15: 5E9FB45FB3F11200528D15FEA4FC8B | B15: 그라스울 설치 | C15: 벽체, 50mm 그라스울(24K) | D15: M2 | E15: =일위대가!F79 -> 0 | F15: =일위대가!H79 -> 0 | G15: =일위대가!J79 -> 0 | H15: =E15+F15+G15 -> 0 | I15: 호표 12
A16: 5E9FE48C53101290BD7EDCCF2B2F06 | B16: 스터드설치 | C16: 벽, C-STUD(50*45*0.8mm@450) | D16: M2 | E16: =일위대가!F91 -> 0 | F16: =일위대가!H91 -> 0 | G16: =일위대가!J91 -> 0 | H16: =E16+F16+G16 -> 0 | I16: 호표 13
A17: 5E9FD4A1A34C12C0C56521DF4B0EFF | B17: 원목마루 설치 [WF-01] | C17: 바닥, 10mm 지정원목마루(방염)+에폭시본드 | D17: M2 | E17: =일위대가!F97 -> 0 | F17: =일위대가!H97 -> 0 | G17: =일위대가!J97 -> 0 | H17: =E17+F17+G17 -> 0 | I17: 호표 14
A18: 5E9FE48C53101290BD7EDCCF2B2D5C | B18: 스터드설치 | C18: 벽, C-STUD(75*45*0.8mm@450) | D18: M2 | E18: =일위대가!F109 -> 0 | F18: =일위대가!H109 -> 0 | G18: =일위대가!J109 -> 0 | H18: =E18+F18+G18 -> 0 | I18: 호표 15
A19: 5E9FE48C53101290BD7EDCCF2A03FB | B19: 스터드설치 | C19: 벽, C-STUD(100*45*0.8mm@450) | D19: M2 | E19: =일위대가!F121 -> 0 | F19: =일위대가!H121 -> 0 | G19: =일위대가!J121 -> 0 | H19: =E19+F19+G19 -> 0 | I19: 호표 16
A20: 5E9FE48C53101290BD7EDCCC574BE6 | B20: 스터드설치 | C20: 벽, CH-STUD(102*35*0.8mm@600) | D20: M2 | E20: =일위대가!F133 -> 0 | F20: =일위대가!H133 -> 0 | G20: =일위대가!J133 -> 0 | H20: =E20+F20+G20 -> 0 | I20: 호표 17
A21: 5E9FB45383C312A079866617510A3C | B21: 비닐시트 깔기 [VS-01] | C21: 비닐시트, 2.0mm | D21: M2 | E21: =일위대가!F139 -> 0 | F21: =일위대가!H139 -> 0 | G21: =일위대가!J139 -> 0 | H21: =E21+F21+G21 -> 0 | I21: 호표 18
A22: 5E9FB45383C312A079866617510A3F | B22: 비닐시트 깔기 [VS-02] | C22: 비닐시트, 2.0mm | D22: M2 | E22: =일위대가!F145 -> 0 | F22: =일위대가!H145 -> 0 | G22: =일위대가!J145 -> 0 | H22: =E22+F22+G22 -> 0 | I22: 호표 19
A23: 5E9FB45383C312A079866617510A39 | B23: 비닐시트 깔기 [VS-04] | C23: 비닐시트, 2.0mm | D23: M2 | E23: =일위대가!F151 -> 0 | F23: =일위대가!H151 -> 0 | G23: =일위대가!J151 -> 0 | H23: =E23+F23+G23 -> 0 | I23: 호표 20
A24: 5E9FB45383C312A079866617510A38 | B24: 비닐시트 깔기 [VS-05] | C24: 비닐시트, 2.0mm | D24: M2 | E24: =일위대가!F157 -> 0 | F24: =일위대가!H157 -> 0 | G24: =일위대가!J157 -> 0 | H24: =E24+F24+G24 -> 0 | I24: 호표 21
A25: 5E9FB450339C125044EEA844821EF2 | B25: 도배바름(합판·석고보드면) [WC-01] | C25: 벽, 지정벽지 | D25: M2 | E25: =일위대가!F164 -> 0 | F25: =일위대가!H164 -> 0 | G25: =일위대가!J164 -> 0 | H25: =E25+F25+G25 -> 0 | I25: 호표 22 | M25: 건축 5-3-7
A26: 5E9FB450339C125044EEA844821DEB | B26: 도배바름(합판·석고보드면) [WC-02] | C26: 벽, 지정벽지 | D26: M2 | E26: =일위대가!F171 -> 0 | F26: =일위대가!H171 -> 0 | G26: =일위대가!J171 -> 0 | H26: =E26+F26+G26 -> 0 | I26: 호표 23 | M26: 건축 5-3-7
A27: 5E9FB450339C125044EEA844821CC5 | B27: 도배바름(합판·석고보드면) [WC-03] | C27: 벽, 지정벽지 | D27: M2 | E27: =일위대가!F178 -> 0 | F27: =일위대가!H178 -> 0 | G27: =일위대가!J178 -> 0 | H27: =E27+F27+G27 -> 0 | I27: 호표 24 | M27: 건축 5-3-7
A28: 5E9FB450339C125043C79F82637CAD | B28: 도배바름(콘크리트·모르타르면) [WC-02] | C28: 벽, 지정벽지 | D28: M2 | E28: =일위대가!F185 -> 0 | F28: =일위대가!H185 -> 0 | G28: =일위대가!J185 -> 0 | H28: =E28+F28+G28 -> 0 | I28: 호표 25 | M28: 건축 5-3-7
A29: 5E9FB450339C125043C79F82637DB4 | B29: 도배바름(콘크리트·모르타르면) [WC-03] | C29: 벽, 지정벽지 | D29: M2 | E29: =일위대가!F192 -> 0 | F29: =일위대가!H192 -> 0 | G29: =일위대가!J192 -> 0 | H29: =E29+F29+G29 -> 0 | I29: 호표 26 | M29: 건축 5-3-7
A30: 5E9FB451D3DB12806E66FB75E6C8F4 | B30: 석고판 설치 | C30: 벽, 일반GB 12.5mm 1겹(평보드) | D30: M2 | E30: =일위대가!F197 -> 0 | F30: =일위대가!H197 -> 0 | G30: =일위대가!J197 -> 0 | H30: =E30+F30+G30 -> 0 | I30: 호표 27
A31: 5E9FB451D3DB12806E66FB75E6CF23 | B31: 석고판 설치 | C31: 벽, 고강도 일반GB 12.5mm 1겹(테파드보드) | D31: M2 | E31: =일위대가!F202 -> 0 | F31: =일위대가!H202 -> 0 | G31: =일위대가!J202 -> 0 | H31: =E31+F31+G31 -> 0 | I31: 호표 28
A32: 5E9FB451D3DB12806E66FB75E7D50B | B32: 석고판 설치 | C32: 벽, 일반GB 12.5mm 1겹(평보드) | D32: M2 | E32: =일위대가!F207 -> 0 | F32: =일위대가!H207 -> 0 | G32: =일위대가!J207 -> 0 | H32: =E32+F32+G32 -> 0 | I32: 호표 29
A33: 5E9FB451D3DB12806E66FB75E7D467 | B33: 석고판 설치 | C33: 벽, 일반GB 12.5mm 2겹(테파드보드+평보드) | D33: M2 | E33: =일위대가!F212 -> 0 | F33: =일위대가!H212 -> 0 | G33: =일위대가!J212 -> 0 | H33: =E33+F33+G33 -> 0 | I33: 호표 30
A34: 5E9FB451D3DB12806E66FB75E41D28 | B34: 석고판 설치 | C34: 벽, 차음GB 12.5mm 1겹(평보드) | D34: M2 | E34: =일위대가!F217 -> 0 | F34: =일위대가!H217 -> 0 | G34: =일위대가!J217 -> 0 | H34: =E34+F34+G34 -> 0 | I34: 호표 31
A35: 5E9FB451D3DB12806E66FB75E52526 | B35: 석고판 설치 | C35: 벽, 방화GB 12.5mm 2겹(평보드) | D35: M2 | E35: =일위대가!F222 -> 0 | F35: =일위대가!H222 -> 0 | G35: =일위대가!J222 -> 0 | H35: =E35+F35+G35 -> 0 | I35: 호표 32
A36: 5E9FB451D3DB12806E66FB75E526CC | B36: 석고판 설치 | C36: 벽, 방화GB 25mm 1겹 | D36: M2 | E36: =일위대가!F227 -> 0 | F36: =일위대가!H227 -> 0 | G36: =일위대가!J227 -> 0 | H36: =E36+F36+G36 -> 0 | I36: 호표 33
A37: 5E9FB451D3DB12806E66FB75E5214B | B37: 석고판 설치 | C37: 벽, 고성능 방수방균GB 12.5mm 1겹(평보드) | D37: M2 | E37: =일위대가!F232 -> 0 | F37: =일위대가!H232 -> 0 | G37: =일위대가!J232 -> 0 | H37: =E37+F37+G37 -> 0 | I37: 호표 34
A38: 5E9FB451D3DB12806D40F89E2B55ED | B38: 석고판 설치 | C38: 천장, 일반 9.5mm 2겹(마감판부착노임1겹제외) | D38: M2 | E38: =일위대가!F238 -> 0 | F38: =일위대가!H238 -> 0 | G38: =일위대가!J238 -> 0 | H38: =E38+F38+G38 -> 0 | I38: 호표 35
A39: 5E9FB45FB3C512C0AA8A71F15345DB | B39: 시트마감 [SH-02] | C39: 벽, 시트마감(MDF9.0mm+지정시트) | D39: M2 | E39: =일위대가!F244 -> 0 | F39: =일위대가!H244 -> 0 | G39: =일위대가!J244 -> 0 | H39: =E39+F39+G39 -> 0 | I39: 호표 36
A40: 5E9FB45FB3C512C0AA8A71F15345DE | B40: 시트마감 [SH-03] | C40: 벽, 시트마감(GB12.5mm+지정시트) | D40: M2 | E40: =일위대가!F249 -> 0 | F40: =일위대가!H249 -> 0 | G40: =일위대가!J249 -> 0 | H40: =E40+F40+G40 -> 0 | I40: 호표 37
A41: 5E9FB45FB3C512C0AA8A71F1546E92 | B41: 시트마감 [SH-02] | C41: 천정, 시트마감(MDF4.0mm+지정시트) | D41: M2 | E41: =일위대가!F256 -> 0 | F41: =일위대가!H256 -> 0 | G41: =일위대가!J256 -> 0 | H41: =E41+F41+G41 -> 0 | I41: 호표 38
A42: 5E9FB45FB3C512C0AA8A71F1546FB8 | B42: 시트마감 [SH-02]-곡면 | C42: 천정, 시트마감(MDF4.0mm+지정시트) | D42: M2 | E42: =일위대가!F264 -> 0 | F42: =일위대가!H264 -> 0 | G42: =일위대가!J264 -> 0 | H42: =E42+F42+G42 -> 0 | I42: 호표 39
A43: 5E9FB45FB3C512C0AA8A71F1546763 | B43: 시트마감 [SH-02] | C43: 벽, 시트마감(지정시트) | D43: M2 | E43: =일위대가!F268 -> 0 | F43: =일위대가!H268 -> 0 | G43: =일위대가!J268 -> 0 | H43: =E43+F43+G43 -> 0 | I43: 호표 40
A44: 5E9FC4BA636212106D5B982F9CCEB7 | B44: 우레탄 도막방수(코너보강) | C44: 비노출, 바닥, W150+150 | D44: M | E44: =일위대가!F272 -> 0 | F44: =일위대가!H272 -> 0 | G44: =일위대가!J272 -> 0 | H44: =E44+F44+G44 -> 0 | I44: 호표 41
A45: 5E9FC4BA636212106D5B982F9CCDAE | B45: 우레탄 도막방수(코너보강) | C45: 비노출, 벽, W150+150 | D45: M | E45: =일위대가!F276 -> 0 | F45: =일위대가!H276 -> 0 | G45: =일위대가!J276 -> 0 | H45: =E45+F45+G45 -> 0 | I45: 호표 42
A46: 5E9FC4BFE3B812D0EB2AF7136BB03E | B46: 수밀코킹(실리콘) | C46: 삼각, 10mm, 창호주위 | D46: M | E46: =일위대가!F281 -> 0 | F46: =일위대가!H281 -> 0 | G46: =일위대가!J281 -> 0 | H46: =E46+F46+G46 -> 0 | I46: 호표 43 | M46: 건축 6-6-1
A47: 5E9FC4BFE3C91270ACDC7967983540 | B47: 죠인트코킹 | C47: 이질재접합부위 | D47: M | E47: =일위대가!F286 -> 0 | F47: =일위대가!H286 -> 0 | G47: =일위대가!J286 -> 0 | H47: =E47+F47+G47 -> 0 | I47: 호표 44 | M47: 건축 6-6-1
A48: 5E9FC4B0633F12402AA95E5A22CE6A | B48: 침투성방수+MMA방수 | C48: 바닥 | D48: M2 | E48: =일위대가!F292 -> 0 | F48: =일위대가!H292 -> 0 | G48: =일위대가!J292 -> 0 | H48: =E48+F48+G48 -> 0 | I48: 호표 45
A49: 5E9FC4B0633F12402AA95DB3B8F8D1 | B49: MMA방수 | C49: 수직부 | D49: M2 | E49: =일위대가!F297 -> 0 | F49: =일위대가!H297 -> 0 | G49: =일위대가!J297 -> 0 | H49: =E49+F49+G49 -> 0 | I49: 호표 46
A50: 5E9FE48413D712703CA335CB44A91E28 | B50: 스테인리스핸드레일/지하층 | C50: H:1200, D50.8+31.8*1.5t | D50: M | E50: =일위대가!F304 -> 0 | F50: =일위대가!H304 -> 0 | G50: =일위대가!J304 -> 0 | H50: =E50+F50+G50 -> 0 | I50: 호표 47
A51: 5E9FE48E03341200D5CA61E82F0C03 | B51: 내진천장틀 설치(석고2겹) | C51: M-BAR (H:1.8M이상), 마감판부착노임포함 | D51: M2 | E51: =일위대가!F319 -> 0 | F51: =일위대가!H319 -> 0 | G51: =일위대가!J319 -> 0 | H51: =E51+F51+G51 -> 0 | I51: 호표 48
A52: 5E9FE48E03341200D5CA61E82D5EA7 | B52: 내진천장틀 설치(텍스) | C52: T-BAR (H:1.8M이상), 마감판부착노임포함 | D52: M2 | E52: =일위대가!F335 -> 0 | F52: =일위대가!H335 -> 0 | G52: =일위대가!J335 -> 0 | H52: =E52+F52+G52 -> 0 | I52: 호표 49
A53: 5E9FE48E03461260D8A013FEE6B9CE | B53: 천장점검구 설치 | C53: AL 백색, 600*600mm | D53: 개소 | E53: =일위대가!F343 -> 0 | F53: =일위대가!H343 -> 0 | G53: =일위대가!J343 -> 0 | H53: =E53+F53+G53 -> 0 | I53: 호표 50 | M53: 건축 8-1-6
A54: 5E9FB455B3BD12E0EB570DFFE30AFF | B54: 스테인리스재료분리대 <A-951> | C54: 바닥, 5*25 SST'L PL | D54: M | E54: =일위대가!F347 -> 0 | F54: =일위대가!H347 -> 0 | G54: =일위대가!J347 -> 0 | H54: =E54+F54+G54 -> 0 | I54: 호표 51
A55: 5E9FB45A33D11290943EFC0B014537 | B55: 철재커텐박스(ㄱ자형) | C55: 150*500*1.2t, STL(도장 유) | D55: M | E55: =일위대가!F356 -> 0 | F55: =일위대가!H356 -> 0 | G55: =일위대가!J356 -> 0 | H55: =E55+F55+G55 -> 0 | I55: 호표 52
A56: 5E9FB45A33D112A0BA21BDE0C1B310 | B56: 간접조명박스 [∑1089mm] <I-405> | C56: 천정, 220*300, 1.6mm 갈바(PT-01)+ㅁ-30*30 각파이프 구조틀 | D56: M | E56: =일위대가!F362 -> 0 | F56: =일위대가!H362 -> 0 | G56: =일위대가!J362 -> 0 | H56: =E56+F56+G56 -> 0 | I56: 호표 53
A57: 5E9FB45A33D112A0BA21BDE0C1B313 | B57: 간접조명박스 [∑1089mm]-곡면 <I-405> | C57: 천정, 220*300, 1.6mm 갈바(PT-01)+ㅁ-30*30 각파이프 구조틀 | D57: M | E57: =일위대가!F370 -> 0 | F57: =일위대가!H370 -> 0 | G57: =일위대가!J370 -> 0 | H57: =E57+F57+G57 -> 0 | I57: 호표 54
A58: 5E9FB45A33D112A0BA21BDE0C1B31D | B58: 간접조명박스 [∑342mm] <I-405> | C58: 벽체, 150*80, 1.6mm 갈바(PT-01)+ㅁ-30*30 각파이프 구조틀 | D58: M | E58: =일위대가!F376 -> 0 | F58: =일위대가!H376 -> 0 | G58: =일위대가!J376 -> 0 | H58: =E58+F58+G58 -> 0 | I58: 호표 55
A59: 5E9FB45A33D112A0BA21BDE1EDDF70 | B59: 각파이프틀설치 | C59: 벽, ㅁ-20*20 각파이프 구조틀 | D59: M2 | E59: =일위대가!F380 -> 0 | F59: =일위대가!H380 -> 0 | G59: =일위대가!J380 -> 0 | H59: =E59+F59+G59 -> 0 | I59: 호표 56
A60: 5E9FB45A33D112A0BA21BDE1EDDF73 | B60: 각파이프틀설치 <I-405> | C60: 벽, ㅁ-25*25 각파이프 구조틀 | D60: M2 | E60: =일위대가!F384 -> 0 | F60: =일위대가!H384 -> 0 | G60: =일위대가!J384 -> 0 | H60: =E60+F60+G60 -> 0 | I60: 호표 57
A61: 5E9FB45A33D112A0BA21BDE1EDDF75 | B61: 각파이프틀설치 <I-405> | C61: 벽, W:350, ㅁ-25*25+ㅁ-25*25 각파이프 이중 구조틀 | D61: M2 | E61: =일위대가!F388 -> 0 | F61: =일위대가!H388 -> 0 | G61: =일위대가!J388 -> 0 | H61: =E61+F61+G61 -> 0 | I61: 호표 58
A62: 5E9FB45A33D112A0BA21BDE1EDDE69 | B62: 각파이프틀설치 | C62: 벽, ㅁ-30*30 각파이프 구조틀 | D62: M2 | E62: =일위대가!F392 -> 0 | F62: =일위대가!H392 -> 0 | G62: =일위대가!J392 -> 0 | H62: =E62+F62+G62 -> 0 | I62: 호표 59
A63: 5E9FB45A33D112A0BA21BDE1EEE55B | B63: 각파이프틀설치 | C63: 벽, W:150, ㅁ-30*30+ㅁ-30*30 각파이프 이중 구조틀 | D63: M2 | E63: =일위대가!F396 -> 0 | F63: =일위대가!H396 -> 0 | G63: =일위대가!J396 -> 0 | H63: =E63+F63+G63 -> 0 | I63: 호표 60
A64: 5E9FB45A33D112A0BA21BDE1EEE3AD | B64: 각파이프틀설치 | C64: 벽, W:0~350, ㅁ-30*30 각파이프 이중 구조틀 | D64: M2 | E64: =일위대가!F400 -> 0 | F64: =일위대가!H400 -> 0 | G64: =일위대가!J400 -> 0 | H64: =E64+F64+G64 -> 0 | I64: 호표 61
A65: 5E9FB45A33D112A0BA21BDE1EB1016 | B65: 각파이프틀설치 | C65: 천정, W:100, ㅁ-30*30+ㅁ-30*30 각파이프 이중 구조틀 | D65: M2 | E65: =일위대가!F404 -> 0 | F65: =일위대가!H404 -> 0 | G65: =일위대가!J404 -> 0 | H65: =E65+F65+G65 -> 0 | I65: 호표 62
A66: 5E9FB45A33D112A0BA21BDE1EB13EB | B66: 각파이프틀설치 | C66: 천정, W:100~600, ㅁ-30*30+ㅁ-30*30 각파이프 이중 구조틀 | D66: M2 | E66: =일위대가!F408 -> 0 | F66: =일위대가!H408 -> 0 | G66: =일위대가!J408 -> 0 | H66: =E66+F66+G66 -> 0 | I66: 호표 63
A67: 5E9FB45A33D112A0BA21BDE2F783C0 | B67: 아연도철판설치 <I-311> | C67: 벽, 1.2mm 아연도철판 | D67: M2 | E67: =일위대가!F415 -> 0 | F67: =일위대가!H415 -> 0 | G67: =일위대가!J415 -> 0 | H67: =E67+F67+G67 -> 0 | I67: 호표 64
A68: 5E9FB45A33D112A0BA21BDE2F7823A | B68: 아연도철판설치-곡면 <I-311> | C68: 벽, 1.2mm 아연도철판 | D68: M2 | E68: =일위대가!F424 -> 0 | F68: =일위대가!H424 -> 0 | G68: =일위대가!J424 -> 0 | H68: =E68+F68+G68 -> 0 | I68: 호표 65
A69: 5E9FB45A33D112A0BA209302DDAE33 | B69: 루버 설치/카페테리아 [SH-02] <I-209> | C69: 벽체(수직), ㅁ-20*50@100 각파이프 (지정시트마감) | D69: M2 | E69: =일위대가!F428 -> 0 | F69: =일위대가!H428 -> 0 | G69: =일위대가!J428 -> 0 | H69: =E69+F69+G69 -> 0 | I69: 호표 66
A70: 5E9FB45A33D112A0BA209302DDAE3E | B70: 루버 벽체 설치/카페테리아 [SH-02] <I-209> | C70: 벽체(수직), ㅁ-40*100@100 각파이프 (지정시트마감) | D70: M2 | E70: =일위대가!F432 -> 0 | F70: =일위대가!H432 -> 0 | G70: =일위대가!J432 -> 0 | H70: =E70+F70+G70 -> 0 | I70: 호표 67
A71: 5E9FB45BC31D125057E76864C9FD2E | B71: 내진ㄷ형몰딩 | C71: 20*40*0.8T | D71: M | E71: =일위대가!F437 -> 0 | F71: =일위대가!H437 -> 0 | G71: =일위대가!J437 -> 0 | H71: =E71+F71+G71 -> 0 | I71: 호표 68
A72: 5E9F349D63D01270E4FE2D62AA795A | B72: 자동수평모르타르 (셀프레벨링) | C72: 10mm | D72: M2 | E72: =일위대가!F442 -> 0 | F72: =일위대가!H442 -> 0 | G72: =일위대가!J442 -> 0 | H72: =E72+F72+G72 -> 0 | I72: 호표 69
A73: 5E9F349D63E212900A15FD0502ABC2 | B73: 기존면정리 | C73: 내벽 | D73: M2 | E73: =일위대가!F446 -> 0 | F73: =일위대가!H446 -> 0 | G73: =일위대가!J446 -> 0 | H73: =E73+F73+G73 -> 0 | I73: 호표 70
A74: 5E9F349D63E212900A15FD0502ABC0 | B74: 기존면정리 | C74: 내벽(GB면) | D74: M2 | E74: =일위대가!F450 -> 0 | F74: =일위대가!H450 -> 0 | G74: =일위대가!J450 -> 0 | H74: =E74+F74+G74 -> 0 | I74: 호표 71
A75: 5E9F349D63881220D869D3FA69E18C | B75: 표면 마무리 | C75: 기계마감 | D75: M2 | E75: =일위대가!F455 -> 0 | F75: =일위대가!H455 -> 0 | G75: =일위대가!J455 -> 0 | H75: =E75+F75+G75 -> 0 | I75: 호표 72 | M75: 건축 9-1-4
A76: 5E9F841873391220652687215D436B | B76: 창호주위 발포우레탄 충전 | D76: M | E76: =일위대가!F461 -> 0 | F76: =일위대가!H461 -> 0 | G76: =일위대가!J461 -> 0 | H76: =E76+F76+G76 -> 0 | I76: 호표 73 | M76: 건축 9-3-2
A77: 5E9F841FA36D12C0D4A8D0C2FF075C | B77: AW01 | C77: 2.800 x 2.400 = 6.720 | D77: EA | E77: =일위대가!F465 -> 0 | F77: =일위대가!H465 -> 0 | G77: =일위대가!J465 -> 0 | H77: =E77+F77+G77 -> 0 | I77: 호표 74
A78: 5E9F841FA36D12C0D4A8D0C2FF075E | B78: AW02 | C78: 2.625 x 2.700 = 7.087 | D78: EA | E78: =일위대가!F469 -> 0 | F78: =일위대가!H469 -> 0 | G78: =일위대가!J469 -> 0 | H78: =E78+F78+G78 -> 0 | I78: 호표 75
A79: 5E9F841FA36D12C0D4A8D0C2FF06B3 | B79: AW04 | C79: 2.700 x 2.350 = 6.345 | D79: EA | E79: =일위대가!F473 -> 0 | F79: =일위대가!H473 -> 0 | G79: =일위대가!J473 -> 0 | H79: =E79+F79+G79 -> 0 | I79: 호표 76
A80: 5E9F841FA36D12C0D4A8D0C2FF05AA | B80: WD01 | C80: 1.000 x 2.100 = 2.100 | D80: EA | E80: =일위대가!F477 -> 0 | F80: =일위대가!H477 -> 0 | G80: =일위대가!J477 -> 0 | H80: =E80+F80+G80 -> 0 | I80: 호표 77
A81: 5E9F841913F912E06752652377ADDD | B81: 창호유리설치 / 판유리 | C81: 유리두께 12mm 이하 | D81: M2 | E81: =일위대가!F482 -> 0 | F81: =일위대가!H482 -> 0 | G81: =일위대가!J482 -> 0 | H81: =E81+F81+G81 -> 0 | I81: 호표 78 | M81: 건축 10-3-1
A82: 5E9FC4BFE3AE1290331103261E012D | B82: 유리주위 코킹 | C82: 5*5, 실리콘 | D82: M | E82: =일위대가!F486 -> 0 | F82: =일위대가!H486 -> 0 | G82: =일위대가!J486 -> 0 | H82: =E82+F82+G82 -> 0 | I82: 호표 79 | M82: 건축 6-6-1
A83: 5E9F8417534D12E07273B56CEC2401 | B83: 장애인용 경사거울 | C83: 500*800, 5mm, 틀 포함 | D83: EA | E83: =일위대가!F490 -> 0 | F83: =일위대가!H490 -> 0 | G83: =일위대가!J490 -> 0 | H83: =E83+F83+G83 -> 0 | I83: 호표 80
A84: 5E9FA46F036B1260C21DF0BA55FE87 | B84: 바탕만들기+수성페인트 롤러칠 [PT-01] | C84: 내부 2회, con'c·mortar면, 친환경 | D84: M2 | E84: =일위대가!F497 -> 0 | F84: =일위대가!H497 -> 0 | G84: =일위대가!J497 -> 0 | H84: =E84+F84+G84 -> 0 | I84: 호표 81 | M84: 건축 11-1-1,-2-2
A85: 5E9FA46F036B1260C21DF0BE304FDF | B85: 바탕만들기+수성페인트 롤러칠 [PT-01] | C85: 내부 2회, G.B.면 올퍼티, 친환경 | D85: M2 | E85: =일위대가!F503 -> 0 | F85: =일위대가!H503 -> 0 | G85: =일위대가!J503 -> 0 | H85: =E85+F85+G85 -> 0 | I85: 호표 82 | M85: 건축 11-1-2,-2-2
A86: 5E9FA46F036B1260C21DF0BE304FDC | B86: 바탕만들기+수성페인트 롤러칠 [PT-02] | C86: 내부 2회, G.B.면 올퍼티, 친환경 | D86: M2 | E86: =일위대가!F509 -> 0 | F86: =일위대가!H509 -> 0 | G86: =일위대가!J509 -> 0 | H86: =E86+F86+G86 -> 0 | I86: 호표 83 | M86: 건축 11-1-2,-2-2
A87: 5E9FA46F036B1260C21DF0BE304E34 | B87: 바탕만들기+수성페인트 롤러칠/도어마감 [PT-03] | C87: 내부 2회, G.B.면 올퍼티, 친환경 | D87: M2 | E87: =일위대가!F515 -> 0 | F87: =일위대가!H515 -> 0 | G87: =일위대가!J515 -> 0 | H87: =E87+F87+G87 -> 0 | I87: 호표 84 | M87: 건축 11-1-2,-2-2
A88: 5E9FA46F036B1260C21DF0BD28B69C | B88: 바탕만들기+수성페인트 롤러칠 [PT-01] | C88: 내부 2회, 철재면, 친환경 | D88: M2 | E88: =일위대가!F521 -> 0 | F88: =일위대가!H521 -> 0 | G88: =일위대가!J521 -> 0 | H88: =E88+F88+G88 -> 0 | I88: 호표 85 | M88: 건축 11-1-2,-2-2
A89: 5E9FA46F036B1260C21DF0BD28B69F | B89: 바탕만들기+수성페인트 롤러칠 [PT-02] | C89: 내부 2회, 철재면, 친환경 | D89: M2 | E89: =일위대가!F527 -> 0 | F89: =일위대가!H527 -> 0 | G89: =일위대가!J527 -> 0 | H89: =E89+F89+G89 -> 0 | I89: 호표 86 | M89: 건축 11-1-2,-2-2
A90: 5E9FA46F036B1260C21DF0BD28B7A3 | B90: 바탕만들기+수성페인트 롤러칠/도어마감 [PT-03] | C90: 내부 2회, 철재면, 친환경 | D90: M2 | E90: =일위대가!F533 -> 0 | F90: =일위대가!H533 -> 0 | G90: =일위대가!J533 -> 0 | H90: =E90+F90+G90 -> 0 | I90: 호표 87 | M90: 건축 11-1-2,-2-2
A91: 5E9FA46F036B1260C21DFABBD52B4F | B91: 바탕만들기+수성페인트 롤러칠 [PT-01] | C91: 내천장 2회, G.B.면 올퍼티 | D91: M2 | E91: =일위대가!F539 -> 0 | F91: =일위대가!H539 -> 0 | G91: =일위대가!J539 -> 0 | H91: =E91+F91+G91 -> 0 | I91: 호표 88 | M91: 건축 11-1-2,-2-2
A92: 5E9E441443B012209E9D30EC073EC8 | B92: 고원식 횡단보도 설치 | C92: 5100*3680 | D92: EA | E92: =일위대가!F544 -> 0 | F92: =일위대가!H544 -> 0 | G92: =일위대가!J544 -> 0 | H92: =E92+F92+G92 -> 0 | I92: 호표 89
A93: 5E9E441443B012209E9D30EC073FEE | B93: 병원사인(SIGN-19) | C93: 텍스트, 8mm 아크릴 문자 가공 후 우렌탄도장 | D93: EA | E93: =일위대가!F549 -> 0 | F93: =일위대가!H549 -> 0 | G93: =일위대가!J549 -> 0 | H93: =E93+F93+G93 -> 0 | I93: 호표 90
A94: 5E9E441443B012209E9D30EC073C1A | B94: 방향안내사인(SIGN-19) | C94: 텍스트, 8mm 아크릴 문자 가공 후 우렌탄도장 | D94: EA | E94: =일위대가!F554 -> 0 | F94: =일위대가!H554 -> 0 | G94: =일위대가!J554 -> 0 | H94: =E94+F94+G94 -> 0 | I94: 호표 91
A95: 5E9E441443B012209E9D30EC073D21 | B95: 진찰실명사인(SIGN-16) | C95: 150*55, 벽부형, 8mm 아크릴성형 후 우렌탄도장+지정문안 점착시트부착 | D95: EA | E95: =일위대가!F559 -> 0 | F95: =일위대가!H559 -> 0 | G95: =일위대가!J559 -> 0 | H95: =E95+F95+G95 -> 0 | I95: 호표 92
A96: 5E9E441443B012209E9D30EC073A6D | B96: 진찰실명사인(SIGN-14) | C96: 140*320, 돌출형, 10mm+5mm 아크릴성형 후 우렌탄도장+지정문안 점착시트부착(1.2mm 갈바 프레임) | D96: EA | E96: =일위대가!F564 -> 0 | F96: =일위대가!H564 -> 0 | G96: =일위대가!J564 -> 0 | H96: =E96+F96+G96 -> 0 | I96: 호표 93
A97: 5E9E441443B012209E9D30EC073B73 | B97: 화장실명사인(SIGN-15) | C97: 80*200, 벽부형, 8mm 아크릴성형 후 우렌탄도장+지정문안 점착시트부착 | D97: EA | E97: =일위대가!F569 -> 0 | F97: =일위대가!H569 -> 0 | G97: =일위대가!J569 -> 0 | H97: =E97+F97+G97 -> 0 | I97: 호표 94
A98: 5E9E441443B012209E9D30EC0738BF | B98: 화장실명사인(SIGN-14) | C98: 140*320, 돌출형, 10mm+5mm 아크릴성형 후 우렌탄도장+지정문안 점착시트부착(1.2mm 갈바 프레임) | D98: EA | E98: =일위대가!F574 -> 0 | F98: =일위대가!H574 -> 0 | G98: =일위대가!J574 -> 0 | H98: =E98+F98+G98 -> 0 | I98: 호표 95
A99: 5E9E441443B012209E9D30EC073946 | B99: 점자표지판 | D99: EA | E99: =일위대가!F579 -> 0 | F99: =일위대가!H579 -> 0 | G99: =일위대가!J579 -> 0 | H99: =E99+F99+G99 -> 0 | I99: 호표 96
A100: 5E9E441443B012209E9D30EC0736F2 | B100: 실명사인(SIGN-19) | C100: 텍스트, 8mm 아크릴 문자 가공 후 우렌탄도장 | D100: EA | E100: =일위대가!F584 -> 0 | F100: =일위대가!H584 -> 0 | G100: =일위대가!J584 -> 0 | H100: =E100+F100+G100 -> 0 | I100: 호표 97
...

Sheet 일위대가
A1: [ 영주적십자병원건강검진센터리모델링실시설계 ]
A2: 품 명 | B2: 규 격 | C2: 단위 | D2: 수량 | E2: 재 료 비 | G2: 노 무 비 | I2: 경 비 | K2: 합 계 | M2: 비 고 | N2: 일위대가 | O2: 품목코드 | P2: 일위 | Q2: 단산 | R2: 자재 | S2: 손료적용 | T2: 손료저장 | U2: 적용율 | V2: JUK1 | W2: JUK2 | X2: JUK3 | Y2: JUK4 | Z2: JUK5 | AA2: JUK6 | AB2: JUK7 | AC2: JUK8 | AD2: JUK9 | AE2: JUK10 | AF2: JUK11 | AG2: JUK12 | AH2: JUK13 | AI2: JUK14 | AJ2: JUK15 | AK2: JUK16 | AL2: JUK17 | AM2: JUK18 | AN2: JUK19 | AO2: JUK20 | AP2: 할증적용 | AQ2: 할증저장 | AR2: 할증율 | AS2: HAL1 | AT2: HAL2 | AU2: HAL3 | AV2: 자재구분 | AW2: 일위대가+자재 | AX2: 장비일위 | AY2: 설정 | AZ2: 할증체크
E3: 단 가 | F3: 금 액 | G3: 단 가 | H3: 금 액 | I3: 단 가 | J3: 금 액 | K3: 단 가 | L3: 금 액
A4: 이동식가설휀스 설치 및 해체 H:1.2M M ( 호표 1 ) | N4: 5E9F54EB13E712E0DA9A5663F1C439
A5: 이동식가설휀스 | C5: M | D5: 1 | E5: =단가대비표!O212 -> 0 | F5: =TRUNC(E5*D5,1) -> 0 | G5: =단가대비표!P212 -> 0 | H5: =TRUNC(G5*D5,1) -> 0 | I5: =단가대비표!V212 -> 0 | J5: =TRUNC(I5*D5,1) -> 0 | K5: =TRUNC(E5+G5+I5,1) -> 0 | L5: =TRUNC(F5+H5+J5,1) -> 0 | M5: 자재 190 | N5: 5E9F54EB13E712E0DA9A5663F1C439 | O5: 5F290447F36A12F09E54969BA0F11CE7D608B8 | P5: F | Q5: F | R5: T | AW5: 5E9F54EB13E712E0DA9A5663F1C4395F290447F36A12F09E54969BA0F11CE7D608B8
A6: [ 합 계 ] | F6: =TRUNC(SUMIF(N5:N5, N4, F5:F5),0) -> 0 | H6: =TRUNC(SUMIF(N5:N5, N4, H5:H5),0) -> 0 | J6: =TRUNC(SUMIF(N5:N5, N4, J5:J5),0) -> 0 | L6: =F6+H6+J6 -> 0 | N6: TOTAL | O6: TOTAL
A8: 가설칸막이 설치 및 해체 50mm, 샌드위치판넬(비닐보양포함) M2 ( 호표 2 ) | N8: 5E9F54EB13E712E0D09729613C572A
A9: 샌드위치패널 | B9: 샌드위치패널, EPS(0.016), 벽재, 50mm | C9: M2 | D9: 1.05 | E9: =단가대비표!O41 -> 0 | F9: =TRUNC(E9*D9,1) -> 0 | G9: =단가대비표!P41 -> 0 | H9: =TRUNC(G9*D9,1) -> 0 | I9: =단가대비표!V41 -> 0 | J9: =TRUNC(I9*D9,1) -> 0 | K9: =TRUNC(E9+G9+I9,1) -> 0 | L9: =TRUNC(F9+H9+J9,1) -> 0 | M9: 자재 37 | N9: 5E9F54EB13E712E0D09729613C572A | O9: 59B5642753E5125009EEAD193FA9D8C31BD960 | P9: F | Q9: F | R9: T | AW9: 5E9F54EB13E712E0D09729613C572A59B5642753E5125009EEAD193FA9D8C31BD960
A10: 내장공 | B10: 일반공사 직종 | C10: 인 | D10: 0.048 | E10: =단가대비표!O160 -> 0 | F10: =TRUNC(E10*D10,1) -> 0 | G10: =단가대비표!P160 -> 0 | H10: =TRUNC(G10*D10,1) -> 0 | I10: =단가대비표!V160 -> 0 | J10: =TRUNC(I10*D10,1) -> 0 | K10: =TRUNC(E10+G10+I10,1) -> 0 | L10: =TRUNC(F10+H10+J10,1) -> 0 | M10: 노임 14 | N10: 5E9F54EB13E712E0D09729613C572A | O10: 5E40348DB33712E0DA7192D8353B1A971A6824 | P10: F | Q10: F | R10: T | AW10: 5E9F54EB13E712E0D09729613C572A5E40348DB33712E0DA7192D8353B1A971A6824
A11: 보통인부 | B11: 일반공사 직종 | C11: 인 | D11: 0.008 | E11: =단가대비표!O147 -> 0 | F11: =TRUNC(E11*D11,1) -> 0 | G11: =단가대비표!P147 -> 0 | H11: =TRUNC(G11*D11,1) -> 0 | I11: =단가대비표!V147 -> 0 | J11: =TRUNC(I11*D11,1) -> 0 | K11: =TRUNC(E11+G11+I11,1) -> 0 | L11: =TRUNC(F11+H11+J11,1) -> 0 | M11: 노임 1 | N11: 5E9F54EB13E712E0D09729613C572A | O11: 5E40348DB33712E0DA7192D8353B1A971A6BFB | P11: F | Q11: F | R11: T | AW11: 5E9F54EB13E712E0D09729613C572A5E40348DB33712E0DA7192D8353B1A971A6BFB
A12: 내장공 | B12: 일반공사 직종 | C12: 인 | D12: 0.03 | E12: =단가대비표!O160 -> 0 | F12: =TRUNC(E12*D12,1) -> 0 | G12: =단가대비표!P160 -> 0 | H12: =TRUNC(G12*D12,1) -> 0 | I12: =단가대비표!V160 -> 0 | J12: =TRUNC(I12*D12,1) -> 0 | K12: =TRUNC(E12+G12+I12,1) -> 0 | L12: =TRUNC(F12+H12+J12,1) -> 0 | M12: 노임 14 | N12: 5E9F54EB13E712E0D09729613C572A | O12: 5E40348DB33712E0DA7192D8353B1A971A6824 | P12: F | Q12: F | R12: T | AW12: 5E9F54EB13E712E0D09729613C572A5E40348DB33712E0DA7192D8353B1A971A6824
A13: 각파이프보강 | B13: ㅁ30*30*1.6mm(비노출/도장유) | C13: M | D13: 2.5 | E13: =일위대가목록!E149 -> 0 | F13: =TRUNC(E13*D13,1) -> 0 | G13: =일위대가목록!F149 -> 0 | H13: =TRUNC(G13*D13,1) -> 0 | I13: =일위대가목록!G149 -> 0 | J13: =TRUNC(I13*D13,1) -> 0 | K13: =TRUNC(E13+G13+I13,1) -> 0 | L13: =TRUNC(F13+H13+J13,1) -> 0 | M13: 호표 146 | N13: 5E9F54EB13E712E0D09729613C572A | O13: 5E9FB45A33D112A0BA21BDE0C363BE | P13: T | Q13: F | R13: F | AW13: 5E9F54EB13E712E0D09729613C572A5E9FB45A33D112A0BA21BDE0C363BE
A14: [ 합 계 ] | F14: =TRUNC(SUMIF(N9:N13, N8, F9:F13),0) -> 0 | H14: =TRUNC(SUMIF(N9:N13, N8, H9:H13),0) -> 0 | J14: =TRUNC(SUMIF(N9:N13, N8, J9:J13),0) -> 0 | L14: =F14+H14+J14 -> 0 | N14: TOTAL | O14: TOTAL
A16: 가설칸막이 출입문 설치 및 해체 판넬 1800*2100, 양개도어 EA ( 호표 3 ) | N16: 5E9F54EB13E712E0D09729613C52A8
A17: 가설칸막이 설치 및 해체 | B17: 50mm, 샌드위치판넬(비닐보양포함) | C17: M2 | D17: 3.78 | E17: =일위대가목록!E5 -> 0 | F17: =TRUNC(E17*D17,1) -> 0 | G17: =일위대가목록!F5 -> 0 | H17: =TRUNC(G17*D17,1) -> 0 | I17: =일위대가목록!G5 -> 0 | J17: =TRUNC(I17*D17,1) -> 0 | K17: =TRUNC(E17+G17+I17,1) -> 0 | L17: =TRUNC(F17+H17+J17,1) -> 0 | M17: 호표 2 | N17: 5E9F54EB13E712E0D09729613C52A8 | O17: 5E9F54EB13E712E0D09729613C572A | P17: T | Q17: F | R17: F | AW17: 5E9F54EB13E712E0D09729613C52A85E9F54EB13E712E0D09729613C572A
A18: 도어힌지 | B18: 도어힌지, 황동, 101.6*88.9*2.7mm | C18: 개 | D18: 6 | E18: =단가대비표!O81 -> 0 | F18: =TRUNC(E18*D18,1) -> 0 | G18: =단가대비표!P81 -> 0 | H18: =TRUNC(G18*D18,1) -> 0 | I18: =단가대비표!V81 -> 0 | J18: =TRUNC(I18*D18,1) -> 0 | K18: =TRUNC(E18+G18+I18,1) -> 0 | L18: =TRUNC(F18+H18+J18,1) -> 0 | M18: 자재 77 | N18: 5E9F54EB13E712E0D09729613C52A8 | O18: 59B574CCD31512F022F40BBF9EA63974D12FA4 | P18: F | Q18: F | R18: T | AW18: 5E9F54EB13E712E0D09729613C52A859B574CCD31512F022F40BBF9EA63974D12FA4
A19: 도어핸들 | B19: 도어핸들, 8300, 2CA, 스테인리스 | C19: 조 | D19: 2 | E19: =단가대비표!O82 -> 0 | F19: =TRUNC(E19*D19,1) -> 0 | G19: =단가대비표!P82 -> 0 | H19: =TRUNC(G19*D19,1) -> 0 | I19: =단가대비표!V82 -> 0 | J19: =TRUNC(I19*D19,1) -> 0 | K19: =TRUNC(E19+G19+I19,1) -> 0 | L19: =TRUNC(F19+H19+J19,1) -> 0 | M19: 자재 78 | N19: 5E9F54EB13E712E0D09729613C52A8 | O19: 59B574CCD31512F02EA510096C2CAF1AFE1DB1 | P19: F | Q19: F | R19: T | AW19: 5E9F54EB13E712E0D09729613C52A859B574CCD31512F02EA510096C2CAF1AFE1DB1
A20: 도어록 설치 / 일반도어록 강재창호 | B20: 재료비 별도 | C20: 개소 | D20: 2 | E20: =일위대가목록!E154 -> 0 | F20: =TRUNC(E20*D20,1) -> 0 | G20: =일위대가목록!F154 -> 0 | H20: =TRUNC(G20*D20,1) -> 0 | I20: =일위대가목록!G154 -> 0 | J20: =TRUNC(I20*D20,1) -> 0 | K20: =TRUNC(E20+G20+I20,1) -> 0 | L20: =TRUNC(F20+H20+J20,1) -> 0 | M20: 호표 151 | N20: 5E9F54EB13E712E0D09729613C52A8 | O20: 5E9F841873661240141DA9F71EAB53 | P20: T | Q20: F | R20: F | AW20: 5E9F54EB13E712E0D09729613C52A85E9F841873661240141DA9F71EAB53
A21: [ 합 계 ] | F21: =TRUNC(SUMIF(N17:N20, N16, F17:F20),0) -> 0 | H21: =TRUNC(SUMIF(N17:N20, N16, H17:H20),0) -> 0 | J21: =TRUNC(SUMIF(N17:N20, N16, J17:J20),0) -> 0 | L21: =F21+H21+J21 -> 0 | N21: TOTAL | O21: TOTAL
A23: 강관 조립말비계(이동식)설치 및 해체 높이 2m, 3개월 대 공통 2-7-6, 2-2-5 ( 호표 4 ) | N23: 5E9F54EB13C412A0B5F32F575B6091
A24: 비계안정장치 | B24: 비계안정장치, 비계기본틀, 기둥, 1.2*1.7m | C24: 개 | D24: 0.14 | E24: =단가대비표!O71 -> 0 | F24: =TRUNC(E24*D24,1) -> 0 | G24: =단가대비표!P71 -> 0 | H24: =TRUNC(G24*D24,1) -> 0 | I24: =단가대비표!V71 -> 0 | J24: =TRUNC(I24*D24,1) -> 0 | K24: =TRUNC(E24+G24+I24,1) -> 0 | L24: =TRUNC(F24+H24+J24,1) -> 0 | M24: 자재 67 | N24: 5E9F54EB13C412A0B5F32F575B6091 | O24: 59B56427532A12204CA07629B2E834DD051DC1 | P24: F | Q24: F | R24: T | AW24: 5E9F54EB13C412A0B5F32F575B609159B56427532A12204CA07629B2E834DD051DC1
A25: 비계안정장치 | B25: 비계안정장치, 가새, 1.2*1.9m | C25: 개 | D25: 0.14 | E25: =단가대비표!O72 -> 0 | F25: =TRUNC(E25*D25,1) -> 0 | G25: =단가대비표!P72 -> 0 | H25: =TRUNC(G25*D25,1) -> 0 | I25: =단가대비표!V72 -> 0 | J25: =TRUNC(I25*D25,1) -> 0 | K25: =TRUNC(E25+G25+I25,1) -> 0 | L25: =TRUNC(F25+H25+J25,1) -> 0 | M25: 자재 68 | N25: 5E9F54EB13C412A0B5F32F575B6091 | O25: 59B56427532A12204CA07629B2E834DD051DCF | P25: F | Q25: F | R25: T | AW25: 5E9F54EB13C412A0B5F32F575B609159B56427532A12204CA07629B2E834DD051DCF
A26: 비계안정장치 | B26: 비계안정장치, 수평띠장, 1829mm | C26: 개 | D26: 0.28 | E26: =단가대비표!O73 -> 0 | F26: =TRUNC(E26*D26,1) -> 0 | G26: =단가대비표!P73 -> 0 | H26: =TRUNC(G26*D26,1) -> 0 | I26: =단가대비표!V73 -> 0 | J26: =TRUNC(I26*D26,1) -> 0 | K26: =TRUNC(E26+G26+I26,1) -> 0 | L26: =TRUNC(F26+H26+J26,1) -> 0 | M26: 자재 69 | N26: 5E9F54EB13C412A0B5F32F575B6091 | O26: 59B56427532A12204CA07629B2E834DD05123E | P26: F | Q26: F | R26: T | AW26: 5E9F54EB13C412A0B5F32F575B609159B56427532A12204CA07629B2E834DD05123E
A27: 비계안정장치 | B27: 비계안정장치, 손잡이기둥 | C27: 개 | D27: 0.28 | E27: =단가대비표!O76 -> 0 | F27: =TRUNC(E27*D27,1) -> 0 | G27: =단가대비표!P76 -> 0 | H27: =TRUNC(G27*D27,1) -> 0 | I27: =단가대비표!V76 -> 0 | J27: =TRUNC(I27*D27,1) -> 0 | K27: =TRUNC(E27+G27+I27,1) -> 0 | L27: =TRUNC(F27+H27+J27,1) -> 0 | M27: 자재 72 | N27: 5E9F54EB13C412A0B5F32F575B6091 | O27: 59B56427532A12204CA07629B2E834DD051239 | P27: F | Q27: F | R27: T | AW27: 5E9F54EB13C412A0B5F32F575B609159B56427532A12204CA07629B2E834DD051239
A28: 비계안정장치 | B28: 비계안정장치, 손잡이, 1229mm | C28: 개 | D28: 0.14 | E28: =단가대비표!O74 -> 0 | F28: =TRUNC(E28*D28,1) -> 0 | G28: =단가대비표!P74 -> 0 | H28: =TRUNC(G28*D28,1) -> 0 | I28: =단가대비표!V74 -> 0 | J28: =TRUNC(I28*D28,1) -> 0 | K28: =TRUNC(E28+G28+I28,1) -> 0 | L28: =TRUNC(F28+H28+J28,1) -> 0 | M28: 자재 70 | N28: 5E9F54EB13C412A0B5F32F575B6091 | O28: 59B56427532A12204CA07629B2E834DD05123F | P28: F | Q28: F | R28: T | AW28: 5E9F54EB13C412A0B5F32F575B609159B56427532A12204CA07629B2E834DD05123F
A29: 비계안정장치 | B29: 비계안정장치, 손잡이, 1829mm | C29: 개 | D29: 0.28 | E29: =단가대비표!O75 -> 0 | F29: =TRUNC(E29*D29,1) -> 0 | G29: =단가대비표!P75 -> 0 | H29: =TRUNC(G29*D29,1) -> 0 | I29: =단가대비표!V75 -> 0 | J29: =TRUNC(I29*D29,1) -> 0 | K29: =TRUNC(E29+G29+I29,1) -> 0 | L29: =TRUNC(F29+H29+J29,1) -> 0 | M29: 자재 71 | N29: 5E9F54EB13C412A0B5F32F575B6091 | O29: 59B56427532A12204CA07629B2E834DD051238 | P29: F | Q29: F | R29: T | AW29: 5E9F54EB13C412A0B5F32F575B609159B56427532A12204CA07629B2E834DD051238
A30: 비계안정장치 | B30: 비계안정장치, 바퀴 | C30: 개 | D30: 0.36 | E30: =단가대비표!O77 -> 0 | F30: =TRUNC(E30*D30,1) -> 0 | G30: =단가대비표!P77 -> 0 | H30: =TRUNC(G30*D30,1) -> 0 | I30: =단가대비표!V77 -> 0 | J30: =TRUNC(I30*D30,1) -> 0 | K30: =TRUNC(E30+G30+I30,1) -> 0 | L30: =TRUNC(F30+H30+J30,1) -> 0 | M30: 자재 73 | N30: 5E9F54EB13C412A0B5F32F575B6091 | O30: 59B56427532A12204CA07629B2E834DD05123A | P30: F | Q30: F | R30: T | AW30: 5E9F54EB13C412A0B5F32F575B609159B56427532A12204CA07629B2E834DD05123A
A31: 비계안정장치 | B31: 비계안정장치, 쟈키 | C31: 개 | D31: 0.36 | E31: =단가대비표!O78 -> 0 | F31: =TRUNC(E31*D31,1) -> 0 | G31: =단가대비표!P78 -> 0 | H31: =TRUNC(G31*D31,1) -> 0 | I31: =단가대비표!V78 -> 0 | J31: =TRUNC(I31*D31,1) -> 0 | K31: =TRUNC(E31+G31+I31,1) -> 0 | L31: =TRUNC(F31+H31+J31,1) -> 0 | M31: 자재 74 | N31: 5E9F54EB13C412A0B5F32F575B6091 | O31: 59B56427532A12204CA07629B2E834DD05123B | P31: F | Q31: F | R31: T | AW31: 5E9F54EB13C412A0B5F32F575B609159B56427532A12204CA07629B2E834DD05123B
A32: 비계안정장치 | B32: 비계안정장치, 발판, 40*200*2000 | C32: 장 | D32: 0.63 | E32: =단가대비표!O79 -> 0 | F32: =TRUNC(E32*D32,1) -> 0 | G32: =단가대비표!P79 -> 0 | H32: =TRUNC(G32*D32,1) -> 0 | I32: =단가대비표!V79 -> 0 | J32: =TRUNC(I32*D32,1) -> 0 | K32: =TRUNC(E32+G32+I32,1) -> 0 | L32: =TRUNC(F32+H32+J32,1) -> 0 | M32: 자재 75 | N32: 5E9F54EB13C412A0B5F32F575B6091 | O32: 59B56427532A12204CA07629B038E4FF2FA737 | P32: F | Q32: F | R32: T | AW32: 5E9F54EB13C412A0B5F32F575B609159B56427532A12204CA07629B038E4FF2FA737
A33: 강관 조립말비계(이동식)설치 및 해체 | B33: 높이 2m, 노무비 | C33: 대 | D33: 1 | E33: =일위대가목록!E155 -> 0 | F33: =TRUNC(E33*D33,1) -> 0 | G33: =일위대가목록!F155 -> 0 | H33: =TRUNC(G33*D33,1) -> 0 | I33: =일위대가목록!G155 -> 0 | J33: =TRUNC(I33*D33,1) -> 0 | K33: =TRUNC(E33+G33+I33,1) -> 0 | L33: =TRUNC(F33+H33+J33,1) -> 0 | M33: 호표 152 | N33: 5E9F54EB13C412A0B5F32F575B6091 | O33: 5E9F54EB13C412A0B5F32F56B4F65F | P33: T | Q33: F | R33: F | AW33: 5E9F54EB13C412A0B5F32F575B60915E9F54EB13C412A0B5F32F56B4F65F
A34: [ 합 계 ] | F34: =TRUNC(SUMIF(N24:N33, N23, F24:F33),0) -> 0 | H34: =TRUNC(SUMIF(N24:N33, N23, H24:H33),0) -> 0 | J34: =TRUNC(SUMIF(N24:N33, N23, J24:J33),0) -> 0 | L34: =F34+H34+J34 -> 0 | N34: TOTAL | O34: TOTAL
A36: 건축물 현장정리 리모델링(준공청소포함) M2 ( 호표 5 ) | N36: 5E9F54EED32F12809F4C44BF9D4029
A37: 보통인부 | B37: 일반공사 직종 | C37: 인 | D37: 0.03 | E37: =단가대비표!O147 -> 0 | F37: =TRUNC(E37*D37,1) -> 0 | G37: =단가대비표!P147 -> 0 | H37: =TRUNC(G37*D37,1) -> 0 | I37: =단가대비표!V147 -> 0 | J37: =TRUNC(I37*D37,1) -> 0 | K37: =TRUNC(E37+G37+I37,1) -> 0 | L37: =TRUNC(F37+H37+J37,1) -> 0 | M37: 노임 1 | N37: 5E9F54EED32F12809F4C44BF9D4029 | O37: 5E40348DB33712E0DA7192D8353B1A971A6BFB | P37: F | Q37: F | R37: T | AW37: 5E9F54EED32F12809F4C44BF9D40295E40348DB33712E0DA7192D8353B1A971A6BFB
A38: [ 합 계 ] | F38: =TRUNC(SUMIF(N37:N37, N36, F37:F37),0) -> 0 | H38: =TRUNC(SUMIF(N37:N37, N36, H37:H37),0) -> 0 | J38: =TRUNC(SUMIF(N37:N37, N36, J37:J37),0) -> 0 | L38: =F38+H38+J38 -> 0 | N38: TOTAL | O38: TOTAL
A40: 건축물보양 바닥 M2 공통 2-11-1 ( 호표 6 ) | N40: 5E9F54EED31D128027CF3E1F4B5D07
A41: 공통자재 | B41: 하드롱지 | C41: M2 | D41: 1.2 | E41: =단가대비표!O25 -> 0 | F41: =TRUNC(E41*D41,1) -> 0 | G41: =단가대비표!P25 -> 0 | H41: =TRUNC(G41*D41,1) -> 0 | I41: =단가대비표!V25 -> 0 | J41: =TRUNC(I41*D41,1) -> 0 | K41: =TRUNC(E41+G41+I41,1) -> 0 | L41: =TRUNC(F41+H41+J41,1) -> 0 | M41: 자재 21 | N41: 5E9F54EED31D128027CF3E1F4B5D07 | O41: 59AB443F434C12A08AC99BC737F4A562E8D2FE | P41: F | Q41: F | R41: T | AW41: 5E9F54EED31D128027CF3E1F4B5D0759AB443F434C12A08AC99BC737F4A562E8D2FE
A42: 합성풀 | B42: 합성풀, 건설용 | C42: kg | D42: 0.06 | E42: =단가대비표!O100 -> 0 | F42: =TRUNC(E42*D42,1) -> 0 | G42: =단가대비표!P100 -> 0 | H42: =TRUNC(G42*D42,1) -> 0 | I42: =단가대비표!V100 -> 0 | J42: =TRUNC(I42*D42,1) -> 0 | K42: =TRUNC(E42+G42+I42,1) -> 0 | L42: =TRUNC(F42+H42+J42,1) -> 0 | M42: 자재 96 | N42: 5E9F54EED31D128027CF3E1F4B5D07 | O42: 59B574CFA3B41250E28F3935F6523D49A962DD | P42: F | Q42: F | R42: T | AW42: 5E9F54EED31D128027CF3E1F4B5D0759B574CFA3B41250E28F3935F6523D49A962DD
A43: 보통인부 | B43: 일반공사 직종 | C43: 인 | D43: 0.01 | E43: =단가대비표!O147 -> 0 | F43: =TRUNC(E43*D43,1) -> 0 | G43: =단가대비표!P147 -> 0 | H43: =TRUNC(G43*D43,1) -> 0 | I43: =단가대비표!V147 -> 0 | J43: =TRUNC(I43*D43,1) -> 0 | K43: =TRUNC(E43+G43+I43,1) -> 0 | L43: =TRUNC(F43+H43+J43,1) -> 0 | M43: 노임 1 | N43: 5E9F54EED31D128027CF3E1F4B5D07 | O43: 5E40348DB33712E0DA7192D8353B1A971A6BFB | P43: F | Q43: F | R43: T | AW43: 5E9F54EED31D128027CF3E1F4B5D075E40348DB33712E0DA7192D8353B1A971A6BFB
A44: [ 합 계 ] | F44: =TRUNC(SUMIF(N41:N43, N40, F41:F43),0) -> 0 | H44: =TRUNC(SUMIF(N41:N43, N40, H41:H43),0) -> 0 | J44: =TRUNC(SUMIF(N41:N43, N40, J41:J43),0) -> 0 | L44: =F44+H44+J44 -> 0 | N44: TOTAL | O44: TOTAL
A46: 타일 붙임 / 접착 붙이기 바닥, 600*600 M2 건축 3-2-3 ( 호표 7 ) | N46: 5E9F9404332E12C0B048068B79FBD5
A47: 타일 붙임 / 접착 붙이기 | B47: 벽, 타일 0.21∼0.40m2 이하, 28m2/일당 | C47: M2 | D47: 1 | E47: =일위대가목록!E156 -> 0 | F47: =TRUNC(E47*D47,1) -> 0 | G47: =일위대가목록!F156 -> 0 | H47: =TRUNC(G47*D47,1) -> 0 | I47: =일위대가목록!G156 -> 0 | J47: =TRUNC(I47*D47,1) -> 0 | K47: =TRUNC(E47+G47+I47,1) -> 0 | L47: =TRUNC(F47+H47+J47,1) -> 0 | M47: 호표 153 | N47: 5E9F9404332E12C0B048068B79FBD5 | O47: 5E9F9404332E12C0B04806894C8560 | P47: T | Q47: F | R47: F | AW47: 5E9F9404332E12C0B048068B79FBD55E9F9404332E12C0B04806894C8560
A48: 에폭시접착제 | B48: 에폭시접착제, 세라믹타일용 | C48: kg | D48: 0.7 | E48: =단가대비표!O104 -> 0 | F48: =TRUNC(E48*D48,1) -> 0 | G48: =단가대비표!P104 -> 0 | H48: =TRUNC(G48*D48,1) -> 0 | I48: =단가대비표!V104 -> 0 | J48: =TRUNC(I48*D48,1) -> 0 | K48: =TRUNC(E48+G48+I48,1) -> 0 | L48: =TRUNC(F48+H48+J48,1) -> 0 | M48: 자재 100 | N48: 5E9F9404332E12C0B048068B79FBD5 | O48: 59B574CFA3B41250E28F3F423C81DC8DC82CC2 | P48: F | Q48: F | R48: T | AW48: 5E9F9404332E12C0B048068B79FBD559B574CFA3B41250E28F3F423C81DC8DC82CC2
A49: 줄눈 모르타르(배합품 포함) | B49: 배합용적비 1:1(백시멘트), 모래 별도 | C49: M3 | D49: 0.001 | E49: =일위대가목록!E157 -> 0 | F49: =TRUNC(E49*D49,1) -> 0 | G49: =일위대가목록!F157 -> 0 | H49: =TRUNC(G49*D49,1) -> 0 | I49: =일위대가목록!G157 -> 0 | J49: =TRUNC(I49*D49,1) -> 0 | K49: =TRUNC(E49+G49+I49,1) -> 0 | L49: =TRUNC(F49+H49+J49,1) -> 0 | M49: 호표 154 | N49: 5E9F9404332E12C0B048068B79FBD5 | O49: 5E9F9404332E12F006BAEA65CBB420 | P49: T | Q49: F | R49: F | AW49: 5E9F9404332E12C0B048068B79FBD55E9F9404332E12F006BAEA65CBB420
A50: [ 합 계 ] | F50: =TRUNC(SUMIF(N47:N49, N46, F47:F49),0) -> 0 | H50: =TRUNC(SUMIF(N47:N49, N46, H47:H49),0) -> 0 | J50: =TRUNC(SUMIF(N47:N49, N46, J47:J49),0) -> 0 | L50: =F50+H50+J50 -> 0 | N50: TOTAL | O50: TOTAL
A52: 타일 붙임 / 접착 붙이기 벽, 300*600 M2 건축 3-2-3 ( 호표 8 ) | N52: 5E9F9404332E12C0B04806894C872A
A53: 타일 붙임 / 접착 붙이기 | B53: 벽, 타일 0.11∼0.20m2 이하, 26m2/일당 | C53: M2 | D53: 1 | E53: =일위대가목록!E158 -> 0 | F53: =TRUNC(E53*D53,1) -> 0 | G53: =일위대가목록!F158 -> 0 | H53: =TRUNC(G53*D53,1) -> 0 | I53: =일위대가목록!G158 -> 0 | J53: =TRUNC(I53*D53,1) -> 0 | K53: =TRUNC(E53+G53+I53,1) -> 0 | L53: =TRUNC(F53+H53+J53,1) -> 0 | M53: 호표 155 | N53: 5E9F9404332E12C0B04806894C872A | O53: 5E9F9404332E12C0B04806894C8459 | P53: T | Q53: F | R53: F | AW53: 5E9F9404332E12C0B04806894C872A5E9F9404332E12C0B04806894C8459
A54: 에폭시접착제 | B54: 에폭시접착제, 세라믹타일용 | C54: kg | D54: 0.7 | E54: =단가대비표!O104 -> 0 | F54: =TRUNC(E54*D54,1) -> 0 | G54: =단가대비표!P104 -> 0 | H54: =TRUNC(G54*D54,1) -> 0 | I54: =단가대비표!V104 -> 0 | J54: =TRUNC(I54*D54,1) -> 0 | K54: =TRUNC(E54+G54+I54,1) -> 0 | L54: =TRUNC(F54+H54+J54,1) -> 0 | M54: 자재 100 | N54: 5E9F9404332E12C0B04806894C872A | O54: 59B574CFA3B41250E28F3F423C81DC8DC82CC2 | P54: F | Q54: F | R54: T | AW54: 5E9F9404332E12C0B04806894C872A59B574CFA3B41250E28F3F423C81DC8DC82CC2
A55: 줄눈 모르타르(배합품 포함) | B55: 배합용적비 1:1(백시멘트), 모래 별도 | C55: M3 | D55: 0.001 | E55: =일위대가목록!E157 -> 0 | F55: =TRUNC(E55*D55,1) -> 0 | G55: =일위대가목록!F157 -> 0 | H55: =TRUNC(G55*D55,1) -> 0 | I55: =일위대가목록!G157 -> 0 | J55: =TRUNC(I55*D55,1) -> 0 | K55: =TRUNC(E55+G55+I55,1) -> 0 | L55: =TRUNC(F55+H55+J55,1) -> 0 | M55: 호표 154 | N55: 5E9F9404332E12C0B04806894C872A | O55: 5E9F9404332E12F006BAEA65CBB420 | P55: T | Q55: F | R55: F | AW55: 5E9F9404332E12C0B04806894C872A5E9F9404332E12F006BAEA65CBB420
A56: [ 합 계 ] | F56: =TRUNC(SUMIF(N53:N55, N52, F53:F55),0) -> 0 | H56: =TRUNC(SUMIF(N53:N55, N52, H53:H55),0) -> 0 | J56: =TRUNC(SUMIF(N53:N55, N52, J53:J55),0) -> 0 | L56: =F56+H56+J56 -> 0 | N56: TOTAL | O56: TOTAL
A58: 비닐시트 깔기 [VS-03] 비닐시트, 2.0mm M2 ( 호표 9 ) | N58: 5E9FB45383C312A079866617510A3E
A59: 비닐시트 | B59: IQ OPTIMA, 2T*2M*25M | C59: M2 | D59: 1.05 | E59: =단가대비표!O167 -> 0 | F59: =TRUNC(E59*D59,1) -> 0 | G59: =단가대비표!P167 -> 0 | H59: =TRUNC(G59*D59,1) -> 0 | I59: =단가대비표!V167 -> 0 | J59: =TRUNC(I59*D59,1) -> 0 | K59: =TRUNC(E59+G59+I59,1) -> 0 | L59: =TRUNC(F59+H59+J59,1) -> 0 | M59: 자재 145 | N59: 5E9FB45383C312A079866617510A3E | O59: 5F290447F36A12F09E5496EA26FF5A123222B5 | P59: F | Q59: F | R59: T | AW59: 5E9FB45383C312A079866617510A3E5F290447F36A12F09E5496EA26FF5A123222B5
A60: 비닐시트 | B60: 시공비 | C60: M2 | D60: 1 | E60: =단가대비표!O168 -> 0 | F60: =TRUNC(E60*D60,1) -> 0 | G60: =단가대비표!P168 -> 0 | H60: =TRUNC(G60*D60,1) -> 0 | I60: =단가대비표!V168 -> 0 | J60: =TRUNC(I60*D60,1) -> 0 | K60: =TRUNC(E60+G60+I60,1) -> 0 | L60: =TRUNC(F60+H60+J60,1) -> 0 | M60: 자재 146 | N60: 5E9FB45383C312A079866617510A3E | O60: 5F290447F36A12F09E5496EA26FF5A123222B0 | P60: F | Q60: F | R60: T | AW60: 5E9FB45383C312A079866617510A3E5F290447F36A12F09E5496EA26FF5A123222B0
A61: 초산비닐계접착제 | B61: 초산비닐계접착제, 비닐타일용 | C61: kg | D61: 0.4 | E61: =단가대비표!O98 -> 0 | F61: =TRUNC(E61*D61,1) -> 0 | G61: =단가대비표!P98 -> 0 | H61: =TRUNC(G61*D61,1) -> 0 | I61: =단가대비표!V98 -> 0 | J61: =TRUNC(I61*D61,1) -> 0 | K61: =TRUNC(E61+G61+I61,1) -> 0 | L61: =TRUNC(F61+H61+J61,1) -> 0 | M61: 자재 94 | N61: 5E9FB45383C312A079866617510A3E | O61: 59B574CFA3B41250E28F3935F6523D49A965AC | P61: F | Q61: F | R61: T | AW61: 5E9FB45383C312A079866617510A3E59B574CFA3B41250E28F3935F6523D49A965AC
A62: [ 합 계 ] | F62: =TRUNC(SUMIF(N59:N61, N58, F59:F61),0) -> 0 | H62: =TRUNC(SUMIF(N59:N61, N58, H59:H61),0) -> 0 | J62: =TRUNC(SUMIF(N59:N61, N58, J59:J61),0) -> 0 | L62: =F62+H62+J62 -> 0 | N62: TOTAL | O62: TOTAL
A64: 걸레받이 설치 [BA-01] H:100, 비닐코브베이스 M ( 호표 10 ) | N64: 5E9FB45383841220433F6E1322C02B
A65: 비닐시트 | B65: IQ OPTIMA, 2T*2M*25M | C65: M2 | D65: 0.11 | E65: =단가대비표!O167 -> 0 | F65: =TRUNC(E65*D65,1) -> 0 | G65: =단가대비표!P167 -> 0 | H65: =TRUNC(G65*D65,1) -> 0 | I65: =단가대비표!V167 -> 0 | J65: =TRUNC(I65*D65,1) -> 0 | K65: =TRUNC(E65+G65+I65,1) -> 0 | L65: =TRUNC(F65+H65+J65,1) -> 0 | M65: 자재 145 | N65: 5E9FB45383841220433F6E1322C02B | O65: 5F290447F36A12F09E5496EA26FF5A123222B5 | P65: F | Q65: F | R65: T | AW65: 5E9FB45383841220433F6E1322C02B5F290447F36A12F09E5496EA26FF5A123222B5
A66: 고무접착제 | B66: 고무접착제, 건설용고무풀 | C66: kg | D66: 0.022 | E66: =단가대비표!O101 -> 0 | F66: =TRUNC(E66*D66,1) -> 0 | G66: =단가대비표!P101 -> 0 | H66: =TRUNC(G66*D66,1) -> 0 | I66: =단가대비표!V101 -> 0 | J66: =TRUNC(I66*D66,1) -> 0 | K66: =TRUNC(E66+G66+I66,1) -> 0 | L66: =TRUNC(F66+H66+J66,1) -> 0 | M66: 자재 97 | N66: 5E9FB45383841220433F6E1322C02B | O66: 59B574CFA3B41250E28F3C8E75F7BE1685A5C5 | P66: F | Q66: F | R66: T | AW66: 5E9FB45383841220433F6E1322C02B59B574CFA3B41250E28F3C8E75F7BE1685A5C5
A67: 비닐시트 | B67: 시공비, 말아올림 | C67: M2 | D67: 0.1 | E67: =단가대비표!O169 -> 0 | F67: =TRUNC(E67*D67,1) -> 0 | G67: =단가대비표!P169 -> 0 | H67: =TRUNC(G67*D67,1) -> 0 | I67: =단가대비표!V169 -> 0 | J67: =TRUNC(I67*D67,1) -> 0 | K67: =TRUNC(E67+G67+I67,1) -> 0 | L67: =TRUNC(F67+H67+J67,1) -> 0 | M67: 자재 147 | N67: 5E9FB45383841220433F6E1322C02B | O67: 5F290447F36A12F09E5496EA26FF5A123222BF | P67: F | Q67: F | R67: T | AW67: 5E9FB45383841220433F6E1322C02B5F290447F36A12F09E5496EA26FF5A123222BF
A68: [ 합 계 ] | F68: =TRUNC(SUMIF(N65:N67, N64, F65:F67),0) -> 0 | H68: =TRUNC(SUMIF(N65:N67, N64, H65:H67),0) -> 0 | J68: =TRUNC(SUMIF(N65:N67, N64, J65:J67),0) -> 0 | L68: =F68+H68+J68 -> 0 | N68: TOTAL | O68: TOTAL
A70: 석고판 설치 벽, 차음GB 12.5mm 2겹(테파드보드+평보드) M2 ( 호표 11 ) | N70: 5E9FB451D3DB12806E66FB75E41C06
A71: 석고보드 | B71: 석고보드, 평보드, 차음, 12.5*900*1800mm(㎡) | C71: M2 | D71: 2.1 | E71: =단가대비표!O51 -> 0 | F71: =TRUNC(E71*D71,1) -> 0 | G71: =단가대비표!P51 -> 0 | H71: =TRUNC(G71*D71,1) -> 0 | I71: =단가대비표!V51 -> 0 | J71: =TRUNC(I71*D71,1) -> 0 | K71: =TRUNC(E71+G71+I71,1) -> 0 | L71: =TRUNC(F71+H71+J71,1) -> 0 | M71: 자재 47 | N71: 5E9FB451D3DB12806E66FB75E41C06 | O71: 59B5642753D412C064398AF8B8835E2A80BE6B | P71: F | Q71: F | R71: T | AW71: 5E9FB451D3DB12806E66FB75E41C0659B5642753D412C064398AF8B8835E2A80BE6B
A72: 석고보드 설치 | B72: 건식벽체, 2P, 3.6m 이하,일반, 방수, 차음, 방화 15mm이하 | C72: ㎡ | D72: 1 | E72: =단가대비표!O144 -> 0 | F72: =TRUNC(E72*D72,1) -> 0 | G72: =단가대비표!P144 -> 0 | H72: =TRUNC(G72*D72,1) -> 0 | I72: =단가대비표!V144 -> 0 | J72: =TRUNC(I72*D72,1) -> 0 | K72: =TRUNC(E72+G72+I72,1) -> 0 | L72: =TRUNC(F72+H72+J72,1) -> 0 | M72: 자재 140 | N72: 5E9FB451D3DB12806E66FB75E41C06 | O72: 5E9FB451D3C912307387C67CAABF86 | P72: F | Q72: F | R72: T | AW72: 5E9FB451D3DB12806E66FB75E41C065E9FB451D3C912307387C67CAABF86
A73: [ 합 계 ] | F73: =TRUNC(SUMIF(N71:N72, N70, F71:F72),0) -> 0 | H73: =TRUNC(SUMIF(N71:N72, N70, H71:H72),0) -> 0 | J73: =TRUNC(SUMIF(N71:N72, N70, J71:J72),0) -> 0 | L73: =F73+H73+J73 -> 0 | N73: TOTAL | O73: TOTAL
A75: 그라스울 설치 벽체, 50mm 그라스울(24K) M2 ( 호표 12 ) | N75: 5E9FB45FB3F11200528D15FEA4FC8B
A76: 그라스울 | B76: 50mm(24K) | C76: M2 | D76: 1.1 | E76: =단가대비표!O166 -> 0 | F76: =TRUNC(E76*D76,1) -> 0 | G76: =단가대비표!P166 -> 0 | H76: =TRUNC(G76*D76,1) -> 0 | I76: =단가대비표!V166 -> 0 | J76: =TRUNC(I76*D76,1) -> 0 | K76: =TRUNC(E76+G76+I76,1) -> 0 | L76: =TRUNC(F76+H76+J76,1) -> 0 | M76: 자재 144 | N76: 5E9FB45FB3F11200528D15FEA4FC8B | O76: 5F290447F36A12F09E5496EA26FF5A123222B6 | P76: F | Q76: F | R76: T | AW76: 5E9FB45FB3F11200528D15FEA4FC8B5F290447F36A12F09E5496EA26FF5A123222B6
A77: 초산비닐계접착제 | B77: 초산비닐계접착제, 스치로폴, 암면 | C77: kg | D77: 0.035 | E77: =단가대비표!O99 -> 0 | F77: =TRUNC(E77*D77,1) -> 0 | G77: =단가대비표!P99 -> 0 | H77: =TRUNC(G77*D77,1) -> 0 | I77: =단가대비표!V99 -> 0 | J77: =TRUNC(I77*D77,1) -> 0 | K77: =TRUNC(E77+G77+I77,1) -> 0 | L77: =TRUNC(F77+H77+J77,1) -> 0 | M77: 자재 95 | N77: 5E9FB45FB3F11200528D15FEA4FC8B | O77: 59B574CFA3B41250E28F3935F6523D49A965AE | P77: F | Q77: F | R77: T | AW77: 5E9FB45FB3F11200528D15FEA4FC8B59B574CFA3B41250E28F3935F6523D49A965AE
A78: 단열재(흡음재) 설치 | B78: 건식벽체, 50mm이하, (유리면, 발포폴리스티렌 등) | C78: ㎡ | D78: 1 | E78: =단가대비표!O145 -> 0 | F78: =TRUNC(E78*D78,1) -> 0 | G78: =단가대비표!P145 -> 0 | H78: =TRUNC(G78*D78,1) -> 0 | I78: =단가대비표!V145 -> 0 | J78: =TRUNC(I78*D78,1) -> 0 | K78: =TRUNC(E78+G78+I78,1) -> 0 | L78: =TRUNC(F78+H78+J78,1) -> 0 | M78: 자재 141 | N78: 5E9FB45FB3F11200528D15FEA4FC8B | O78: 5E9FB45FB3F11210799533677ED5CC | P78: F | Q78: F | R78: T | AW78: 5E9FB45FB3F11200528D15FEA4FC8B5E9FB45FB3F11210799533677ED5CC
A79: [ 합 계 ] | F79: =TRUNC(SUMIF(N76:N78, N75, F76:F78),0) -> 0 | H79: =TRUNC(SUMIF(N76:N78, N75, H76:H78),0) -> 0 | J79: =TRUNC(SUMIF(N76:N78, N75, J76:J78),0) -> 0 | L79: =F79+H79+J79 -> 0 | N79: TOTAL | O79: TOTAL
A81: 스터드설치 벽, C-STUD(50*45*0.8mm@450) M2 ( 호표 13 ) | N81: 5E9FE48C53101290BD7EDCCF2B2F06
A82: C-RUNNER | B82: 50*40*0.8t | C82: M | D82: 2.2 | E82: =단가대비표!O59 -> 0 | F82: =TRUNC(E82*D82,1) -> 0 | G82: =단가대비표!P59 -> 0 | H82: =TRUNC(G82*D82,1) -> 0 | I82: =단가대비표!V59 -> 0 | J82: =TRUNC(I82*D82,1) -> 0 | K82: =TRUNC(E82+G82+I82,1) -> 0 | L82: =TRUNC(F82+H82+J82,1) -> 0 | M82: 자재 55 | N82: 5E9FE48C53101290BD7EDCCF2B2F06 | O82: 59B5642753D412C0678EAC2328854F87507B | P82: F | Q82: F | R82: T | AW82: 5E9FE48C53101290BD7EDCCF2B2F0659B5642753D412C0678EAC2328854F87507B
A83: C-STUD | B83: 50*45*0.8t | C83: M | D83: 3.22 | E83: =단가대비표!O62 -> 0 | F83: =TRUNC(E83*D83,1) -> 0 | G83: =단가대비표!P62 -> 0 | H83: =TRUNC(G83*D83,1) -> 0 | I83: =단가대비표!V62 -> 0 | J83: =TRUNC(I83*D83,1) -> 0 | K83: =TRUNC(E83+G83+I83,1) -> 0 | L83: =TRUNC(F83+H83+J83,1) -> 0 | M83: 자재 58 | N83: 5E9FE48C53101290BD7EDCCF2B2F06 | O83: 59B5642753D412C0678EAC2328854F849CB4 | P83: F | Q83: F | R83: T | AW83: 5E9FE48C53101290BD7EDCCF2B2F0659B5642753D412C0678EAC2328854F849CB4
A84: STUD-SPACER | B84: SP-65,75 | C84: 개 | D84: 11 | E84: =단가대비표!O56 -> 0 | F84: =TRUNC(E84*D84,1) -> 0 | G84: =단가대비표!P56 -> 0 | H84: =TRUNC(G84*D84,1) -> 0 | I84: =단가대비표!V56 -> 0 | J84: =TRUNC(I84*D84,1) -> 0 | K84: =TRUNC(E84+G84+I84,1) -> 0 | L84: =TRUNC(F84+H84+J84,1) -> 0 | M84: 자재 52 | N84: 5E9FE48C53101290BD7EDCCF2B2F06 | O84: 59B5642753D412C0678EAC2328854FF4972B61 | P84: F | Q84: F | R84: T | AW84: 5E9FE48C53101290BD7EDCCF2B2F0659B5642753D412C0678EAC2328854FF4972B61
A85: CORNER BEAD | B85: 40*40*0.5t | C85: M | D85: 1.4 | E85: =단가대비표!O57 -> 0 | F85: =TRUNC(E85*D85,1) -> 0 | G85: =단가대비표!P57 -> 0 | H85: =TRUNC(G85*D85,1) -> 0 | I85: =단가대비표!V57 -> 0 | J85: =TRUNC(I85*D85,1) -> 0 | K85: =TRUNC(E85+G85+I85,1) -> 0 | L85: =TRUNC(F85+H85+J85,1) -> 0 | M85: 자재 53 | N85: 5E9FE48C53101290BD7EDCCF2B2F06 | O85: 59B5642753D412C0678EAC2328854FF4972B60 | P85: F | Q85: F | R85: T | AW85: 5E9FE48C53101290BD7EDCCF2B2F0659B5642753D412C0678EAC2328854FF4972B60
A86: 힐티앙카 | B86: NK-27 | C86: 개 | D86: 6 | E86: =단가대비표!O126 -> 0 | F86: =TRUNC(E86*D86,1) -> 0 | G86: =단가대비표!P126 -> 0 | H86: =TRUNC(G86*D86,1) -> 0 | I86: =단가대비표!V126 -> 0 | J86: =TRUNC(I86*D86,1) -> 0 | K86: =TRUNC(E86+G86+I86,1) -> 0 | L86: =TRUNC(F86+H86+J86,1) -> 0 | M86: 자재 122 | N86: 5E9FE48C53101290BD7EDCCF2B2F06 | O86: 59D07456F3D9125058D74203C02121028F5C3D | P86: F | Q86: F | R86: T | AW86: 5E9FE48C53101290BD7EDCCF2B2F0659D07456F3D9125058D74203C02121028F5C3D
A87: 집성스크류 | B87: φ4*32mm(1¼") | C87: 개 | D87: 40 | E87: =단가대비표!O127 -> 0 | F87: =TRUNC(E87*D87,1) -> 0 | G87: =단가대비표!P127 -> 0 | H87: =TRUNC(G87*D87,1) -> 0 | I87: =단가대비표!V127 -> 0 | J87: =TRUNC(I87*D87,1) -> 0 | K87: =TRUNC(E87+G87+I87,1) -> 0 | L87: =TRUNC(F87+H87+J87,1) -> 0 | M87: 자재 123 | N87: 5E9FE48C53101290BD7EDCCF2B2F06 | O87: 59D07456F3D9125058D74203C023EE4E39A601 | P87: F | Q87: F | R87: T | AW87: 5E9FE48C53101290BD7EDCCF2B2F0659D07456F3D9125058D74203C023EE4E39A601
A88: 집성스크류 | B88: φ4*44mm(1¾") | C88: 개 | D88: 80 | E88: =단가대비표!O128 -> 0 | F88: =TRUNC(E88*D88,1) -> 0 | G88: =단가대비표!P128 -> 0 | H88: =TRUNC(G88*D88,1) -> 0 | I88: =단가대비표!V128 -> 0 | J88: =TRUNC(I88*D88,1) -> 0 | K88: =TRUNC(E88+G88+I88,1) -> 0 | L88: =TRUNC(F88+H88+J88,1) -> 0 | M88: 자재 124 | N88: 5E9FE48C53101290BD7EDCCF2B2F06 | O88: 59D07456F3D9125058D74203C022C84B423530 | P88: F | Q88: F | R88: T | AW88: 5E9FE48C53101290BD7EDCCF2B2F0659D07456F3D9125058D74203C022C84B423530
A89: 실링재 | B89: 실링재, 실리콘, 비초산, 방화용 | C89: L | D89: 0.2 | E89: =단가대비표!O115 -> 0 | F89: =TRUNC(E89*D89,1) -> 0 | G89: =단가대비표!P115 -> 0 | H89: =TRUNC(G89*D89,1) -> 0 | I89: =단가대비표!V115 -> 0 | J89: =TRUNC(I89*D89,1) -> 0 | K89: =TRUNC(E89+G89+I89,1) -> 0 | L89: =TRUNC(F89+H89+J89,1) -> 0 | M89: 자재 111 | N89: 5E9FE48C53101290BD7EDCCF2B2F06 | O89: 59B574CFA3AB12F03FB1225C1188CFD7E9DDBB | P89: F | Q89: F | R89: T | AW89: 5E9FE48C53101290BD7EDCCF2B2F0659B574CFA3AB12F03FB1225C1188CFD7E9DDBB
A90: 경량철골틀 설치 | B90: 건식벽체, C-100이하(또는 W-100이하) | C90: ㎡ | D90: 1 | E90: =단가대비표!O140 -> 0 | F90: =TRUNC(E90*D90,1) -> 0 | G90: =단가대비표!P140 -> 0 | H90: =TRUNC(G90*D90,1) -> 0 | I90: =단가대비표!V140 -> 0 | J90: =TRUNC(I90*D90,1) -> 0 | K90: =TRUNC(E90+G90+I90,1) -> 0 | L90: =TRUNC(F90+H90+J90,1) -> 0 | M90: 자재 136 | N90: 5E9FE48C53101290BD7EDCCF2B2F06 | O90: 5E9FE488F3B512B0BF19208690674C | P90: F | Q90: F | R90: T | AW90: 5E9FE48C53101290BD7EDCCF2B2F065E9FE488F3B512B0BF19208690674C
A91: [ 합 계 ] | F91: =TRUNC(SUMIF(N82:N90, N81, F82:F90),0) -> 0 | H91: =TRUNC(SUMIF(N82:N90, N81, H82:H90),0) -> 0 | J91: =TRUNC(SUMIF(N82:N90, N81, J82:J90),0) -> 0 | L91: =F91+H91+J91 -> 0 | N91: TOTAL | O91: TOTAL
A93: 원목마루 설치 [WF-01] 바닥, 10mm 지정원목마루(방염)+에폭시본드 M2 ( 호표 14 ) | N93: 5E9FD4A1A34C12C0C56521DF4B0EFF
A94: 원목마루[WF-01] | B94: 10mm 지정원목마루(방염) | C94: M2 | D94: 1.05 | E94: =단가대비표!O202 -> 0 | F94: =TRUNC(E94*D94,1) -> 0 | G94: =단가대비표!P202 -> 0 | H94: =TRUNC(G94*D94,1) -> 0 | I94: =단가대비표!V202 -> 0 | J94: =TRUNC(I94*D94,1) -> 0 | K94: =TRUNC(E94+G94+I94,1) -> 0 | L94: =TRUNC(F94+H94+J94,1) -> 0 | M94: 자재 180 | N94: 5E9FD4A1A34C12C0C56521DF4B0EFF | O94: 5F290447F36A12F09E5496EA26FF5A123224FC | P94: F | Q94: F | R94: T | AW94: 5E9FD4A1A34C12C0C56521DF4B0EFF5F290447F36A12F09E5496EA26FF5A123224FC
A95: 원목마루[WF-01] | B95: 본드비 | C95: KG | D95: 1 | E95: =단가대비표!O203 -> 0 | F95: =TRUNC(E95*D95,1) -> 0 | G95: =단가대비표!P203 -> 0 | H95: =TRUNC(G95*D95,1) -> 0 | I95: =단가대비표!V203 -> 0 | J95: =TRUNC(I95*D95,1) -> 0 | K95: =TRUNC(E95+G95+I95,1) -> 0 | L95: =TRUNC(F95+H95+J95,1) -> 0 | M95: 자재 181 | N95: 5E9FD4A1A34C12C0C56521DF4B0EFF | O95: 5F290447F36A12F09E5496EA26FF5A123224FD | P95: F | Q95: F | R95: T | AW95: 5E9FD4A1A34C12C0C56521DF4B0EFF5F290447F36A12F09E5496EA26FF5A123224FD
A96: 플로어링 마루 설치 | C96: M2 | D96: 1 | E96: =일위대가목록!E159 -> 0 | F96: =TRUNC(E96*D96,1) -> 0 | G96: =일위대가목록!F159 -> 0 | H96: =TRUNC(G96*D96,1) -> 0 | I96: =일위대가목록!G159 -> 0 | J96: =TRUNC(I96*D96,1) -> 0 | K96: =TRUNC(E96+G96+I96,1) -> 0 | L96: =TRUNC(F96+H96+J96,1) -> 0 | M96: 호표 156 | N96: 5E9FD4A1A34C12C0C56521DF4B0EFF | O96: 5E9FD4A1A34C12C0C45FD6B19A31A5 | P96: T | Q96: F | R96: F | AW96: 5E9FD4A1A34C12C0C56521DF4B0EFF5E9FD4A1A34C12C0C45FD6B19A31A5
A97: [ 합 계 ] | F97: =TRUNC(SUMIF(N94:N96, N93, F94:F96),0) -> 0 | H97: =TRUNC(SUMIF(N94:N96, N93, H94:H96),0) -> 0 | J97: =TRUNC(SUMIF(N94:N96, N93, J94:J96),0) -> 0 | L97: =F97+H97+J97 -> 0 | N97: TOTAL | O97: TOTAL
A99: 스터드설치 벽, C-STUD(75*45*0.8mm@450) M2 ( 호표 15 ) | N99: 5E9FE48C53101290BD7EDCCF2B2D5C
A100: C-RUNNER | B100: 75*40*0.8t | C100: M | D100: 2.2 | E100: =단가대비표!O60 -> 0 | F100: =TRUNC(E100*D100,1) -> 0 | G100: =단가대비표!P60 -> 0 | H100: =TRUNC(G100*D100,1) -> 0 | I100: =단가대비표!V60 -> 0 | J100: =TRUNC(I100*D100,1) -> 0 | K100: =TRUNC(E100+G100+I100,1) -> 0 | L100: =TRUNC(F100+H100+J100,1) -> 0 | M100: 자재 56 | N100: 5E9FE48C53101290BD7EDCCF2B2D5C | O100: 59B5642753D412C0678EAC2328854F8753CF | P100: F | Q100: F | R100: T | AW100: 5E9FE48C53101290BD7EDCCF2B2D5C59B5642753D412C0678EAC2328854F8753CF
A101: C-STUD | B101: 75*45*0.8t | C101: M | D101: 3.22 | E101: =단가대비표!O63 -> 0 | F101: =TRUNC(E101*D101,1) -> 0 | G101: =단가대비표!P63 -> 0 | H101: =TRUNC(G101*D101,1) -> 0 | I101: =단가대비표!V63 -> 0 | J101: =TRUNC(I101*D101,1) -> 0 | K101: =TRUNC(E101+G101+I101,1) -> 0 | L101: =TRUNC(F101+H101+J101,1) -> 0 | M101: 자재 59 | N101: 5E9FE48C53101290BD7EDCCF2B2D5C | O101: 59B5642753D412C0678EAC2328854F849F08 | P101: F | Q101: F | R101: T | AW101: 5E9FE48C53101290BD7EDCCF2B2D5C59B5642753D412C0678EAC2328854F849F08
A102: STUD-SPACER | B102: SP-65,75 | C102: 개 | D102: 11 | E102: =단가대비표!O56 -> 0 | F102: =TRUNC(E102*D102,1) -> 0 | G102: =단가대비표!P56 -> 0 | H102: =TRUNC(G102*D102,1) -> 0 | I102: =단가대비표!V56 -> 0 | J102: =TRUNC(I102*D102,1) -> 0 | K102: =TRUNC(E102+G102+I102,1) -> 0 | L102: =TRUNC(F102+H102+J102,1) -> 0 | M102: 자재 52 | N102: 5E9FE48C53101290BD7EDCCF2B2D5C | O102: 59B5642753D412C0678EAC2328854FF4972B61 | P102: F | Q102: F | R102: T | AW102: 5E9FE48C53101290BD7EDCCF2B2D5C59B5642753D412C0678EAC2328854FF4972B61
A103: CORNER BEAD | B103: 40*40*0.5t | C103: M | D103: 1.4 | E103: =단가대비표!O57 -> 0 | F103: =TRUNC(E103*D103,1) -> 0 | G103: =단가대비표!P57 -> 0 | H103: =TRUNC(G103*D103,1) -> 0 | I103: =단가대비표!V57 -> 0 | J103: =TRUNC(I103*D103,1) -> 0 | K103: =TRUNC(E103+G103+I103,1) -> 0 | L103: =TRUNC(F103+H103+J103,1) -> 0 | M103: 자재 53 | N103: 5E9FE48C53101290BD7EDCCF2B2D5C | O103: 59B5642753D412C0678EAC2328854FF4972B60 | P103: F | Q103: F | R103: T | AW103: 5E9FE48C53101290BD7EDCCF2B2D5C59B5642753D412C0678EAC2328854FF4972B60
A104: 힐티앙카 | B104: NK-27 | C104: 개 | D104: 6 | E104: =단가대비표!O126 -> 0 | F104: =TRUNC(E104*D104,1) -> 0 | G104: =단가대비표!P126 -> 0 | H104: =TRUNC(G104*D104,1) -> 0 | I104: =단가대비표!V126 -> 0 | J104: =TRUNC(I104*D104,1) -> 0 | K104: =TRUNC(E104+G104+I104,1) -> 0 | L104: =TRUNC(F104+H104+J104,1) -> 0 | M104: 자재 122 | N104: 5E9FE48C53101290BD7EDCCF2B2D5C | O104: 59D07456F3D9125058D74203C02121028F5C3D | P104: F | Q104: F | R104: T | AW104: 5E9FE48C53101290BD7EDCCF2B2D5C59D07456F3D9125058D74203C02121028F5C3D
A105: 집성스크류 | B105: φ4*32mm(1¼") | C105: 개 | D105: 40 | E105: =단가대비표!O127 -> 0 | F105: =TRUNC(E105*D105,1) -> 0 | G105: =단가대비표!P127 -> 0 | H105: =TRUNC(G105*D105,1) -> 0 | I105: =단가대비표!V127 -> 0 | J105: =TRUNC(I105*D105,1) -> 0 | K105: =TRUNC(E105+G105+I105,1) -> 0 | L105: =TRUNC(F105+H105+J105,1) -> 0 | M105: 자재 123 | N105: 5E9FE48C53101290BD7EDCCF2B2D5C | O105: 59D07456F3D9125058D74203C023EE4E39A601 | P105: F | Q105: F | R105: T | AW105: 5E9FE48C53101290BD7EDCCF2B2D5C59D07456F3D9125058D74203C023EE4E39A601
A106: 집성스크류 | B106: φ4*44mm(1¾") | C106: 개 | D106: 80 | E106: =단가대비표!O128 -> 0 | F106: =TRUNC(E106*D106,1) -> 0 | G106: =단가대비표!P128 -> 0 | H106: =TRUNC(G106*D106,1) -> 0 | I106: =단가대비표!V128 -> 0 | J106: =TRUNC(I106*D106,1) -> 0 | K106: =TRUNC(E106+G106+I106,1) -> 0 | L106: =TRUNC(F106+H106+J106,1) -> 0 | M106: 자재 124 | N106: 5E9FE48C53101290BD7EDCCF2B2D5C | O106: 59D07456F3D9125058D74203C022C84B423530 | P106: F | Q106: F | R106: T | AW106: 5E9FE48C53101290BD7EDCCF2B2D5C59D07456F3D9125058D74203C022C84B423530
A107: 실링재 | B107: 실링재, 실리콘, 비초산, 방화용 | C107: L | D107: 0.2 | E107: =단가대비표!O115 -> 0 | F107: =TRUNC(E107*D107,1) -> 0 | G107: =단가대비표!P115 -> 0 | H107: =TRUNC(G107*D107,1) -> 0 | I107: =단가대비표!V115 -> 0 | J107: =TRUNC(I107*D107,1) -> 0 | K107: =TRUNC(E107+G107+I107,1) -> 0 | L107: =TRUNC(F107+H107+J107,1) -> 0 | M107: 자재 111 | N107: 5E9FE48C53101290BD7EDCCF2B2D5C | O107: 59B574CFA3AB12F03FB1225C1188CFD7E9DDBB | P107: F | Q107: F | R107: T | AW107: 5E9FE48C53101290BD7EDCCF2B2D5C59B574CFA3AB12F03FB1225C1188CFD7E9DDBB
A108: 경량철골틀 설치 | B108: 건식벽체, C-100이하(또는 W-100이하) | C108: ㎡ | D108: 1 | E108: =단가대비표!O140 -> 0 | F108: =TRUNC(E108*D108,1) -> 0 | G108: =단가대비표!P140 -> 0 | H108: =TRUNC(G108*D108,1) -> 0 | I108: =단가대비표!V140 -> 0 | J108: =TRUNC(I108*D108,1) -> 0 | K108: =TRUNC(E108+G108+I108,1) -> 0 | L108: =TRUNC(F108+H108+J108,1) -> 0 | M108: 자재 136 | N108: 5E9FE48C53101290BD7EDCCF2B2D5C | O108: 5E9FE488F3B512B0BF19208690674C | P108: F | Q108: F | R108: T | AW108: 5E9FE48C53101290BD7EDCCF2B2D5C5E9FE488F3B512B0BF19208690674C
A109: [ 합 계 ] | F109: =TRUNC(SUMIF(N100:N108, N99, F100:F108),0) -> 0 | H109: =TRUNC(SUMIF(N100:N108, N99, H100:H108),0) -> 0 | J109: =TRUNC(SUMIF(N100:N108, N99, J100:J108),0) -> 0 | L109: =F109+H109+J109 -> 0 | N109: TOTAL | O109: TOTAL
A111: 스터드설치 벽, C-STUD(100*45*0.8mm@450) M2 ( 호표 16 ) | N111: 5E9FE48C53101290BD7EDCCF2A03FB
A112: C-RUNNER | B112: 100*40*0.8t | C112: M | D112: 2.2 | E112: =단가대비표!O61 -> 0 | F112: =TRUNC(E112*D112,1) -> 0 | G112: =단가대비표!P61 -> 0 | H112: =TRUNC(G112*D112,1) -> 0 | I112: =단가대비표!V61 -> 0 | J112: =TRUNC(I112*D112,1) -> 0 | K112: =TRUNC(E112+G112+I112,1) -> 0 | L112: =TRUNC(F112+H112+J112,1) -> 0 | M112: 자재 57 | N112: 5E9FE48C53101290BD7EDCCF2A03FB | O112: 59B5642753D412C0678EAC2328854F875228 | P112: F | Q112: F | R112: T | AW112: 5E9FE48C53101290BD7EDCCF2A03FB59B5642753D412C0678EAC2328854F875228
A113: C-STUD | B113: 100*45*0.8t | C113: M | D113: 3.22 | E113: =단가대비표!O64 -> 0 | F113: =TRUNC(E113*D113,1) -> 0 | G113: =단가대비표!P64 -> 0 | H113: =TRUNC(G113*D113,1) -> 0 | I113: =단가대비표!V64 -> 0 | J113: =TRUNC(I113*D113,1) -> 0 | K113: =TRUNC(E113+G113+I113,1) -> 0 | L113: =TRUNC(F113+H113+J113,1) -> 0 | M113: 자재 60 | N113: 5E9FE48C53101290BD7EDCCF2A03FB | O113: 59B5642753D412C0678EAC2328854F849E61 | P113: F | Q113: F | R113: T | AW113: 5E9FE48C53101290BD7EDCCF2A03FB59B5642753D412C0678EAC2328854F849E61
A114: STUD-SPACER | B114: SP-65,75 | C114: 개 | D114: 11 | E114: =단가대비표!O56 -> 0 | F114: =TRUNC(E114*D114,1) -> 0 | G114: =단가대비표!P56 -> 0 | H114: =TRUNC(G114*D114,1) -> 0 | I114: =단가대비표!V56 -> 0 | J114: =TRUNC(I114*D114,1) -> 0 | K114: =TRUNC(E114+G114+I114,1) -> 0 | L114: =TRUNC(F114+H114+J114,1) -> 0 | M114: 자재 52 | N114: 5E9FE48C53101290BD7EDCCF2A03FB | O114: 59B5642753D412C0678EAC2328854FF4972B61 | P114: F | Q114: F | R114: T | AW114: 5E9FE48C53101290BD7EDCCF2A03FB59B5642753D412C0678EAC2328854FF4972B61
A115: CORNER BEAD | B115: 40*40*0.5t | C115: M | D115: 1.4 | E115: =단가대비표!O57 -> 0 | F115: =TRUNC(E115*D115,1) -> 0 | G115: =단가대비표!P57 -> 0 | H115: =TRUNC(G115*D115,1) -> 0 | I115: =단가대비표!V57 -> 0 | J115: =TRUNC(I115*D115,1) -> 0 | K115: =TRUNC(E115+G115+I115,1) -> 0 | L115: =TRUNC(F115+H115+J115,1) -> 0 | M115: 자재 53 | N115: 5E9FE48C53101290BD7EDCCF2A03FB | O115: 59B5642753D412C0678EAC2328854FF4972B60 | P115: F | Q115: F | R115: T | AW115: 5E9FE48C53101290BD7EDCCF2A03FB59B5642753D412C0678EAC2328854FF4972B60
...

Sheet 단가산출목록
B1: 단 가 산 출 목 록
B2: [ 영주적십자병원건강검진센터리모델링실시설계 ]
A3: 코 드 | B3: 품 명 | C3: 규 격 | D3: 단위 | E3: 재 료 비 | F3: 노 무 비 | G3: 경 비 | H3: 합 계 | I3: 번 호 | J3: 비 고 | K3: START | L3: 품셈개요
A4: 5EBCE440436712E0070A1224412B86 | B4: 차선도색/융착식 도료 수동식/신설공사 | C4: 횡단보도,주차장 (재료비 별도) | D4: M2 | E4: =단가산출서!B38 -> 0 | F4: =단가산출서!C38 -> 0 | G4: =단가산출서!D38 -> 0 | H4: =단가산출서!E38 -> 0 | I4: 산근 1 | K4: 5EBCE440436712E0070A1224412B86 | L4: 토목 1-8-9.4
A5: 5EBCE440435512C0FFD9FB5A5805B1 | B5: 주차블록 설치 | C5: 길이 750mm∼1000mm | D5: 개소 | E5: =단가산출서!B59 -> 0 | F5: =단가산출서!C59 -> 0 | G5: =단가산출서!D59 -> 0 | H5: =단가산출서!E59 -> 0 | I5: 산근 2 | K5: 5EBCE440435512C0FFD9FB5A5805B1 | L5: 토목 1-8-7

Sheet 단가산출서
A1: 단 가 산 출 서
A2: [ 영주적십자병원건강검진센터리모델링실시설계 ]
A3: 산 출 내 역 | B3: 재 료 비 | C3: 노 무 비 | D3: 경 비 | E3: 합 계 | F3: 비 고 | G3: START | H3: 코드 | I3: 품명 | J3: 규격 | K3: 단위 | L3: 수량 | M3: 변수 | N3: 값 | O3: 소계 | P3: 소계 | Q3: 소계 | R3: 소계 | S3: 소계 | T3: 총계
A4: 차선도색/융착식 도료 수동식/신설공사 횡단보도,주차장 (재료비 별도) M2 토목 1-8-9.4 ( 산근 1 ) | G4: 5EBCE440436712E0070A1224412B86 | I4: 차선도색/융착식 도료 수동식/신설공사 | J4: 횡단보도,주차장 (재료비 별도) | K4: M2
G5: 5EBCE440436712E0070A1224412B86 | H5: C | L5: 1
A6: 차선도색 - 횡단보도,주차장 M2 | B6: 0 | C6: 0 | D6: 0 | E6: 0 | G6: 5EBCE440436712E0070A1224412B86 | H6: C! | I6: '차선도색 - 횡단보도,주차장 M2'
A7: (융착식 도료 수동식(핸드가이드식 라인마커)) | B7: 0 | C7: 0 | D7: 0 | E7: 0 | G7: 5EBCE440436712E0070A1224412B86 | H7: C! | I7: '(융착식 도료 수동식(핸드가이드식 라인마커)) '
B8: 0 | C8: 0 | D8: 0 | E8: 0 | G8: 5EBCE440436712E0070A1224412B86 | H8: C!
A9: Q1 1일시공량(M2/일) =266 | B9: 0 | C9: 0 | D9: 0 | E9: 0 | G9: 5EBCE440436712E0070A1224412B86 | H9: C! | I9: q1'1일시공량(M2/일)' =266 | M9: Q1 | N9: 266
A10: Q 시간당 작업량(M2/HR) =Q1/8/1.0= 33.25 | B10: 0 | C10: 0 | D10: 0 | E10: 0 | G10: 5EBCE440436712E0070A1224412B86 | H10: C! | I10: Q '시간당 작업량(M2/HR)' =q1/8/1.0=? | M10: Q | N10: 33.25
B11: 0 | C11: 0 | D11: 0 | E11: 0 | G11: 5EBCE440436712E0070A1224412B86 | H11: C!
A12: ◈배치인원 | B12: 0 | C12: 0 | D12: 0 | E12: 0 | G12: 5EBCE440436712E0070A1224412B86 | H12: C! | I12: '◈배치인원'
B13: 0 | C13: 0 | D13: 0 | E13: 0 | G13: 5EBCE440436712E0070A1224412B86 | H13: C!
A14: 1.인력 | B14: 0 | C14: 0 | D14: 0 | E14: 0 | G14: 5EBCE440436712E0070A1224412B86 | H14: C! | I14: '1.인력'
A15: [1]=0, [2]=0 | B15: 0 | C15: 0 | D15: 0 | E15: 0 | G15: 5EBCE440436712E0070A1224412B86 | H15: C! | I15: [1]=0, [2]=0 | M15: [2] | N15: 0
A16: 특별인부 2인/8HR*작업시간 | B16: 0 | C16: 0 | D16: 0 | E16: 0 | G16: 5EBCE440436712E0070A1224412B86 | H16: C! | I16: '특별인부 2인/8HR*작업시간'
A17: =" 노무비: "&단가대비표!P148&"*2/8/"&N10&"="&C17 -> 노무비: *2/8/33.25=0 | B17: 0 | C17: =TRUNC(단가대비표!P148*2/8/N10,1) -> 0 | D17: 0 | E17: =SUM(B17,C17,D17) -> 0 | G17: 5EBCE440436712E0070A1224412B86 | H17: C! | I17: '노무비:' ~L001010101000003.L~*2/8/{Q} =?LA+:LA1 | M17: LA1 | N17: =TRUNC(단가대비표!P148*2/8/N10,1) -> 0 | O17: T11 | P17: T21 | Q17: T31 | R17: T41 | S17: T51 | T17: TT
A18: 보통인부 2인/8HR*작업시간 | B18: 0 | C18: 0 | D18: 0 | E18: 0 | G18: 5EBCE440436712E0070A1224412B86 | H18: C! | I18: '보통인부 2인/8HR*작업시간'
A19: =" 노무비: "&단가대비표!P147&"*2/8/"&N10&"="&C19 -> 노무비: *2/8/33.25=0 | B19: 0 | C19: =TRUNC(단가대비표!P147*2/8/N10,1) -> 0 | D19: 0 | E19: =SUM(B19,C19,D19) -> 0 | G19: 5EBCE440436712E0070A1224412B86 | H19: C! | I19: '노무비:' ~L001010101000002.L~*2/8/{Q} =?LA+:LA2 | M19: LA2 | N19: =TRUNC(단가대비표!P147*2/8/N10,1) -> 0 | O19: T11 | P19: T21 | Q19: T31 | R19: T41 | S19: T51 | T19: TT
A20: 소 계 | B20: =TRUNC(SUMIF(O6:O19, "T11", B6:B19), 1) -> 0 | C20: =TRUNC(SUMIF(O6:O19, "T11", C6:C19), 1) -> 0 | D20: =TRUNC(SUMIF(O6:O19, "T11", D6:D19), 1) -> 0 | E20: =TRUNC(SUM(B20,C20, D20), 1) -> 0 | G20: 5EBCE440436712E0070A1224412B86 | H20: C! | I20: >'소 계' | M20: T1
B21: 0 | C21: 0 | D21: 0 | E21: 0 | G21: 5EBCE440436712E0070A1224412B86 | H21: C!
A22: ◈사용기계 | B22: 0 | C22: 0 | D22: 0 | E22: 0 | G22: 5EBCE440436712E0070A1224412B86 | H22: C! | I22: '◈사용기계 '
B23: 0 | C23: 0 | D23: 0 | E23: 0 | G23: 5EBCE440436712E0070A1224412B86 | H23: C!
A24: 2.트럭(덤프트럭 준용) 4.5톤 | B24: 0 | C24: 0 | D24: 0 | E24: 0 | G24: 5EBCE440436712E0070A1224412B86 | H24: C! | I24: '2.트럭(덤프트럭 준용) 4.5톤'
A25: =" 재료비: "&일위대가목록!E193&"/"&N10&"="&B25 -> 재료비: 0/33.25=0 | B25: =TRUNC(일위대가목록!E193/N10,1) -> 0 | C25: 0 | D25: 0 | E25: =SUM(B25,C25,D25) -> 0 | G25: 5EBCE440436712E0070A1224412B86 | H25: C! | I25: '재료비:' ~00000602004500000.M~ / {Q}=?MA+ | N25: =TRUNC(일위대가목록!E193/N10,1) -> 0 | O25: T12 | P25: T21 | Q25: T31 | R25: T41 | S25: T51 | T25: TT
A26: =" 노무비: "&일위대가목록!F193&"/"&N10&"="&C26 -> 노무비: 0/33.25=0 | B26: 0 | C26: =TRUNC(일위대가목록!F193/N10,1) -> 0 | D26: 0 | E26: =SUM(B26,C26,D26) -> 0 | G26: 5EBCE440436712E0070A1224412B86 | H26: C! | I26: '노무비:' ~00000602004500000.L~ / {Q}=?LA+ | N26: =TRUNC(일위대가목록!F193/N10,1) -> 0 | O26: T12 | P26: T21 | Q26: T31 | R26: T41 | S26: T51 | T26: TT
A27: =" 경 비: "&일위대가목록!G193&"/"&N10&"="&D27 -> 경 비: 0/33.25=0 | B27: 0 | C27: 0 | D27: =TRUNC(일위대가목록!G193/N10,1) -> 0 | E27: =SUM(B27,C27,D27) -> 0 | G27: 5EBCE440436712E0070A1224412B86 | H27: C! | I27: '경 비:' ~00000602004500000.E~ / {Q}=?EQ+ | N27: =TRUNC(일위대가목록!G193/N10,1) -> 0 | O27: T12 | P27: T21 | Q27: T31 | R27: T41 | S27: T51 | T27: TT
A28: 소 계 | B28: =TRUNC(SUMIF(O21:O27, "T12", B21:B27), 1) -> 0 | C28: =TRUNC(SUMIF(O21:O27, "T12", C21:C27), 1) -> 0 | D28: =TRUNC(SUMIF(O21:O27, "T12", D21:D27), 1) -> 0 | E28: =TRUNC(SUM(B28,C28, D28), 1) -> 0 | G28: 5EBCE440436712E0070A1224412B86 | H28: C! | I28: >'소 계' | M28: T1
B29: 0 | C29: 0 | D29: 0 | E29: 0 | G29: 5EBCE440436712E0070A1224412B86 | H29: C!
A30: 3.트럭(덤프트럭 준용) 2.5톤 | B30: 0 | C30: 0 | D30: 0 | E30: 0 | G30: 5EBCE440436712E0070A1224412B86 | H30: C! | I30: '3.트럭(덤프트럭 준용) 2.5톤
A31: =" 재료비: "&일위대가목록!E194&"/"&N10&"="&B31 -> 재료비: 0/33.25=0 | B31: =TRUNC(일위대가목록!E194/N10,1) -> 0 | C31: 0 | D31: 0 | E31: =SUM(B31,C31,D31) -> 0 | G31: 5EBCE440436712E0070A1224412B86 | H31: C! | I31: '재료비:' ~00000602002500000.M~ / {Q} =?MA+ | N31: =TRUNC(일위대가목록!E194/N10,1) -> 0 | O31: T13 | P31: T21 | Q31: T31 | R31: T41 | S31: T51 | T31: TT
A32: =" 노무비: "&일위대가목록!F194&"/"&N10&"="&C32 -> 노무비: 0/33.25=0 | B32: 0 | C32: =TRUNC(일위대가목록!F194/N10,1) -> 0 | D32: 0 | E32: =SUM(B32,C32,D32) -> 0 | G32: 5EBCE440436712E0070A1224412B86 | H32: C! | I32: '노무비:' ~00000602002500000.L~ / {Q} =?LA+ | N32: =TRUNC(일위대가목록!F194/N10,1) -> 0 | O32: T13 | P32: T21 | Q32: T31 | R32: T41 | S32: T51 | T32: TT
A33: =" 경 비: "&일위대가목록!G194&"/"&N10&"="&D33 -> 경 비: 0/33.25=0 | B33: 0 | C33: 0 | D33: =TRUNC(일위대가목록!G194/N10,1) -> 0 | E33: =SUM(B33,C33,D33) -> 0 | G33: 5EBCE440436712E0070A1224412B86 | H33: C! | I33: '경 비:' ~00000602002500000.E~ / {Q} =?EQ+ | N33: =TRUNC(일위대가목록!G194/N10,1) -> 0 | O33: T13 | P33: T21 | Q33: T31 | R33: T41 | S33: T51 | T33: TT
A34: 소 계 | B34: =TRUNC(SUMIF(O29:O33, "T13", B29:B33), 1) -> 0 | C34: =TRUNC(SUMIF(O29:O33, "T13", C29:C33), 1) -> 0 | D34: =TRUNC(SUMIF(O29:O33, "T13", D29:D33), 1) -> 0 | E34: =TRUNC(SUM(B34,C34, D34), 1) -> 0 | G34: 5EBCE440436712E0070A1224412B86 | H34: C! | I34: >'소 계' | M34: T1
B35: 0 | C35: 0 | D35: 0 | E35: 0 | G35: 5EBCE440436712E0070A1224412B86 | H35: C!
A36: 4.공구손료(인력품의 10%): (1719.6+1298.4)*0.1= 301.8 | B36: 0 | C36: 0 | G36: 5EBCE440436712E0070A1224412B86 | H36: C! | I36: '4.공구손료(인력품의 10%):'({LA1}+{LA2})*0.1=?EQ+ | O36: T14 | P36: T21 | Q36: T31 | R36: T41 | S36: T51 | T36: TT
A37: 소 계 | B37: =TRUNC(SUMIF(O35:O36, "T14", B35:B36), 1) -> 0 | C37: =TRUNC(SUMIF(O35:O36, "T14", C35:C36), 1) -> 0 | G37: 5EBCE440436712E0070A1224412B86 | H37: C! | I37: >'소 계' | M37: T1
A38: 총 계 | B38: =TRUNC(SUMIF(T5:T37, "TT", B5:B37), 0) -> 0 | C38: =TRUNC(SUMIF(T5:T37, "TT", C5:C37), 0) -> 0
A40: 주차블록 설치 길이 750mm∼1000mm 개소 토목 1-8-7 ( 산근 2 ) | G40: 5EBCE440435512C0FFD9FB5A5805B1 | I40: 주차블록 설치 | J40: 길이 750mm∼1000mm | K40: 개소
G41: 5EBCE440435512C0FFD9FB5A5805B1 | H41: C | L41: 1
A42: 주차블록 설치(길이 750MM∼1000MM) EA | B42: 0 | C42: 0 | D42: 0 | E42: 0 | G42: 5EBCE440435512C0FFD9FB5A5805B1 | H42: C! | I42: '주차블록 설치(길이 750mm∼1000mm) EA'
B43: 0 | C43: 0 | D43: 0 | E43: 0 | G43: 5EBCE440435512C0FFD9FB5A5805B1 | H43: C!
A44: Q1 1일시공량(EA/일) =90 | B44: 0 | C44: 0 | D44: 0 | E44: 0 | G44: 5EBCE440435512C0FFD9FB5A5805B1 | H44: C! | I44: q1'1일시공량(EA/일)' =90 | M44: Q1 | N44: 90
A45: Q 시간당 작업량(EA/HR) =Q1/8/1.0= 11.25 | B45: 0 | C45: 0 | D45: 0 | E45: 0 | G45: 5EBCE440435512C0FFD9FB5A5805B1 | H45: C! | I45: Q '시간당 작업량(EA/HR)' =q1/8/1.0=? | M45: Q | N45: 11.25
B46: 0 | C46: 0 | D46: 0 | E46: 0 | G46: 5EBCE440435512C0FFD9FB5A5805B1 | H46: C!
A47: ◈배치인원 | B47: 0 | C47: 0 | D47: 0 | E47: 0 | G47: 5EBCE440435512C0FFD9FB5A5805B1 | H47: C! | I47: '◈배치인원'
B48: 0 | C48: 0 | D48: 0 | E48: 0 | G48: 5EBCE440435512C0FFD9FB5A5805B1 | H48: C!
A49: 1.인력 | B49: 0 | C49: 0 | D49: 0 | E49: 0 | G49: 5EBCE440435512C0FFD9FB5A5805B1 | H49: C! | I49: '1.인력'
A50: [1]=0, [2]=0 | B50: 0 | C50: 0 | D50: 0 | E50: 0 | G50: 5EBCE440435512C0FFD9FB5A5805B1 | H50: C! | I50: [1]=0, [2]=0 | M50: [2] | N50: 0
A51: 특별인부2.0인/8HR*작업시간 | B51: 0 | C51: 0 | D51: 0 | E51: 0 | G51: 5EBCE440435512C0FFD9FB5A5805B1 | H51: C! | I51: '특별인부2.0인/8HR*작업시간'
A52: =" 노무비: "&단가대비표!P148&"*2.0/8/Q="&C52 -> 노무비: *2.0/8/Q=0 | B52: 0 | C52: =TRUNC(단가대비표!P148*2/8/N45,1) -> 0 | D52: 0 | E52: =SUM(B52,C52,D52) -> 0 | G52: 5EBCE440435512C0FFD9FB5A5805B1 | H52: C! | I52: '노무비:'~L001010101000003.L~*2.0/8/Q =?LA+:LA1 | M52: LA1 | N52: =TRUNC(단가대비표!P148*2/8/N45,1) -> 0 | O52: T11 | P52: T21 | Q52: T31 | R52: T41 | S52: T51 | T52: TT
A53: 보통인부1.0인/8HR*작업시간 | B53: 0 | C53: 0 | D53: 0 | E53: 0 | G53: 5EBCE440435512C0FFD9FB5A5805B1 | H53: C! | I53: '보통인부1.0인/8HR*작업시간'
A54: =" 노무비: "&단가대비표!P147&"*1.0/8/Q="&C54 -> 노무비: *1.0/8/Q=0 | B54: 0 | C54: =TRUNC(단가대비표!P147*1/8/N45,1) -> 0 | D54: 0 | E54: =SUM(B54,C54,D54) -> 0 | G54: 5EBCE440435512C0FFD9FB5A5805B1 | H54: C! | I54: '노무비:'~L001010101000002.L~*1.0/8/Q =?LA+:LA2 | M54: LA2 | N54: =TRUNC(단가대비표!P147*1/8/N45,1) -> 0 | O54: T11 | P54: T21 | Q54: T31 | R54: T41 | S54: T51 | T54: TT
A55: 소 계 | B55: =TRUNC(SUMIF(O42:O54, "T11", B42:B54), 1) -> 0 | C55: =TRUNC(SUMIF(O42:O54, "T11", C42:C54), 1) -> 0 | D55: =TRUNC(SUMIF(O42:O54, "T11", D42:D54), 1) -> 0 | E55: =TRUNC(SUM(B55,C55, D55), 1) -> 0 | G55: 5EBCE440435512C0FFD9FB5A5805B1 | H55: C! | I55: >'소 계' | M55: T1
B56: 0 | C56: 0 | D56: 0 | E56: 0 | G56: 5EBCE440435512C0FFD9FB5A5805B1 | H56: C!
A57: 2.공구손료(인력품의 5%): (5082.6+1918.8)*0.05 = 350 | B57: 0 | C57: 0 | G57: 5EBCE440435512C0FFD9FB5A5805B1 | H57: C! | I57: '2.공구손료(인력품의 5%):'({LA1}+{LA2})*0.05 =?EQ+ | O57: T12 | P57: T21 | Q57: T31 | R57: T41 | S57: T51 | T57: TT
A58: 소 계 | B58: =TRUNC(SUMIF(O56:O57, "T12", B56:B57), 1) -> 0 | C58: =TRUNC(SUMIF(O56:O57, "T12", C56:C57), 1) -> 0 | D58: =TRUNC(SUMIF(O56:O57, "T12", D56:D57), 1) -> 0 | E58: =TRUNC(SUM(B58,C58, D58), 1) -> 0 | G58: 5EBCE440435512C0FFD9FB5A5805B1 | H58: C! | I58: >'소 계' | M58: T1
A59: 총 계 | B59: =TRUNC(SUMIF(T41:T58, "TT", B41:B58), 0) -> 0 | C59: =TRUNC(SUMIF(T41:T58, "TT", C41:C58), 0) -> 0 | D59: =TRUNC(SUMIF(T41:T58, "TT", D41:D58), 0) -> 0 | E59: =TRUNC(SUM(B59,C59, D59), 0) -> 0

Sheet 단가대비표
A1: 단 가 대 비 표
A2: [ 영주적십자병원건강검진센터리모델링실시설계 ]
A3: 코 드 | B3: 품 명 | C3: 규격 | D3: 단위 | E3: 재 료 비 | P3: 노 무 비 | Q3: 경 비 | W3: 번 호 | X3: 비 고 | Y3: 품목구분 | Z3: 노임구분 | AA3: 소수점처리 | AB3: 자재구분
E4: 조달청가격 | F4: PAGE | G4: 거래가격 | H4: PAGE | I4: 유통물가 | J4: PAGE | K4: 물가자료 | L4: PAGE | M4: 조사가격 | N4: PAGE | O4: 적용단가 | Q4: 조달청가격 | R4: 거래가격 | S4: 유통물가 | T4: 물가자료 | U4: 조사가격 | V4: 적용단가
A5: 5988244793581230194DF6CC8986BB8591635C | B5: 덤프트럭 | C5: 2.5ton | D5: 대 | W5: 자재 1 | X5: 천원
A6: 5988244793581230194DF6CC89801034A83F08 | B6: 덤프트럭 | C6: 4.5ton | D6: 대 | W6: 자재 2 | X6: 천원
A7: 5988244793581270FEC31F8AA379FDFFA491E2 | B7: 커터(콘크리트 및 아스팔트용) | C7: 320∼400mm | D7: 대 | W7: 자재 3 | X7: 천원
A8: 5988244793581260D6120C80BB4F9655262645 | B8: 소형브레이커(전기식) | C8: 1.5kw | D8: 대 | W8: 자재 4 | X8: 천원
A9: 599A844B13221210B41FF72CECD916CD1B736A | B9: 모래 | C9: (별도) | D9: M3 | W9: 자재 5 | X9: 별도
A10: 599A844B13221210B41FF72CECD916CD1B7368 | B10: 모래 | C10: 모래, 도착도 | D10: M3 | W10: 자재 6
A11: 599A844B131112B0682BCBE3F5EEDC21439BE4 | B11: 보통합판 | C11: 보통합판, 1급, 9.0*1220*2440mm | D11: M2 | W11: 자재 7
A12: 599A844B131112B0682BCBE3F5EEDC21439BE6 | B12: 보통합판 | C12: 보통합판, 1급, 12*1220*2440mm | D12: M2 | W12: 자재 8
A13: 599A844B131112B0682BC93661CE002944FB62 | B13: 중밀도섬유판 | C13: 중밀도섬유판, 6.0*1220*2440mm | D13: M2 | W13: 자재 9
A14: 599A844B131112B0682BC93661CE002944FB64 | B14: 중밀도섬유판 | C14: 중밀도섬유판, 9.0*1220*2440mm | D14: M2 | W14: 자재 10
A15: 599A844B131112B0682BC93661CE002944FB66 | B15: 중밀도섬유판 | C15: 중밀도섬유판, 15*1220*2440mm | D15: M2 | W15: 자재 11
A16: 599A844B131112B0682BC93661CE002944F433 | B16: 중밀도섬유판 | C16: 고밀도MDF, 9*1220*2440mm | D16: M2 | W16: 자재 12
A17: 599A844B131112B0682BC93661CE002944F434 | B17: 중밀도섬유판 | C17: 고밀도MDF, 18*1220*2440mm | D17: M2 | W17: 자재 13
A18: 599A844B13A712702DCAD82B5DFA79CCC92B1D | B18: 철강설 | C18: 철강설, 고철, 작업설부산물 | D18: kg | W18: 자재 14 | X18: 수집상차도
A19: 599A844B13A712702DCAD82B5DFA79CCC92A78 | B19: 철강설 | C19: 철강설, 스텐레스, 작업설부산물 | D19: kg | W19: 자재 15 | X19: 수집상차도
A20: 599A844B13A712702DCAD82B5CDA932E33FC85 | B20: 철강설 | C20: 철강설, 알루미늄, 작업설부산물 | D20: kg | W20: 자재 16 | X20: 수집상차도
A21: 599AC424336C12306476B3EEAEF6D4326A0ADB | B21: 경유 | C21: 경유, 저유황 | D21: L | W21: 자재 17
A22: 599AC424336C12306476B0158FD4E9C043C7F4 | B22: 공업용휘발유 | C22: 공업용휘발유, 무연 | D22: L | W22: 자재 18
A23: 599AC424337E128058A7C4A31B749FA78AF19E | B23: 프로판가스 | D23: kg | W23: 자재 19
A24: 59AB2471331F12E04EF31C101F8780C641FB20 | B24: 토공용용날 | C24: 도저용블레이드, 두께3.2mm | D24: 대 | W24: 자재 20
A25: 59AB443F434C12A08AC99BC737F4A562E8D2FE | B25: 공통자재 | C25: 하드롱지 | D25: M2 | W25: 자재 21
A26: 59B5642753B81210A79A54C1F600833A2905C1 | B26: ㄱ형강 | C26: ㄱ형강, 등변, 25*25*3mm | D26: kg | W26: 자재 22
A27: 59B5642753B812204B4FD0C8131446FB1EBB32 | B27: 일반구조용압연강판 | C27: 일반구조용압연강판, 1.2mm | D27: kg | W27: 자재 23
A28: 59B5642753B812204B4FD0C8131446F4EE8462 | B28: 도장용융아연도강판 | C28: 도장용융아연도강판, 불소수지(일면), 1.20mm | D28: kg | W28: 자재 24
A29: 59B5642753B812204B4FD0C8131446F4EE8CA9 | B29: 합금화용융아연도금강판 | C29: 합금화용융아연도금강판, 갈바륨, 1.20mm | D29: kg | W29: 자재 25
A30: 59B5642753B812204B4FD1D3E07F9D75FA53B6 | B30: 스테인리스강판 | C30: 스테인리스강판, STS304, 1.2mm | D30: kg | W30: 자재 26
A31: 59B5642753B812204B4FD1D3E07F9D75FA53B7 | B31: 스테인리스강판 | C31: 스테인리스강판, STS304, 1.5mm | D31: kg | W31: 자재 27
A32: 59B5642753B812204B4FD1D3E10CF627D97A58 | B32: 스테인리스강판 | C32: 스테인리스강판, STS304, 5.0mm | D32: kg | W32: 자재 28
A33: 59B5642753B812204C56C2804DF1C6C9F2BC0F | B33: 아연도금박판 | C33: 아연도금박판, 용융아연도, 1.20mm | D33: kg | W33: 자재 29
A34: 59B5642753B812306975CCB1C7A554D8860ACB | B34: 각재 | C34: 각재, 미송 | D34: 재 | W34: 자재 30
A35: 59B5642753AF12802780D142702AF8BE90204F | B35: 모르타르 | C35: 모르타르, 자동수평모르타르, 일반용 | D35: kg | W35: 자재 31
A36: 59B5642753AF128024CC2F2E2775EA00A26955 | B36: 시멘트 | C36: 시멘트(별도) | D36: kg | W36: 자재 32 | X36: 별도
A37: 59B5642753AF128024CC2F2E2775EA00A26951 | B37: 시멘트 | C37: 도착도, 40KG | D37: 포 | W37: 자재 33
A38: 59B5642753AF128024CC2F2E2775EA06CADB9B | B38: 특수시멘트 | C38: 특수시멘트, 백색시멘트 | D38: kg | W38: 자재 34
A39: 59B56427538C12D0FCC972C182CF64D40DE171 | B39: 벽체타일 [TL-02] | C39: 벽, 300*600*9mm | D39: M2 | W39: 자재 35
A40: 59B56427538C12D0FCC972C182CBF5B82CFBE3 | B40: 바닥타일 [TL-01] | C40: 바닥, 600*600*9mm | D40: M2 | W40: 자재 36
A41: 59B5642753E5125009EEAD193FA9D8C31BD960 | B41: 샌드위치패널 | C41: 샌드위치패널, EPS(0.016), 벽재, 50mm | D41: M2 | W41: 자재 37
A42: 59B5642753E5125009EEAC735C2B2FFBFA5E8A | B42: 카스토퍼 | C42: 네오프렌계, 150*120*750mm | D42: EA | W42: 자재 38
A43: 59B5642753D412C06439819CF595B39BCF4122 | B43: 종이벽지 | C43: 종이벽지, 초배지 | D43: M2 | W43: 자재 39
A44: 59B5642753D412C06439861D2844B5029CC0DE | B44: 인테리어필름 | C44: 방염 | D44: M2 | W44: 자재 40 | X44: 현장설치도
A45: 59B5642753D412C06439861D2844B5029CC28C | B45: 인테리어필름/창호면 [SH-01] | C45: 지정시트지 | D45: M2 | W45: 자재 41
A46: 59B5642753D412C064398AFB0CC571E14C03A0 | B46: 석고보드 | C46: 석고보드, 평보드, 9.5*900*1800mm(㎡) | D46: M2 | W46: 자재 42
A47: 59B5642753D412C064398AFB0CC571E14C0286 | B47: 석고보드 | C47: 석고보드, 평보드, 12.5*900*1800mm(㎡) | D47: M2 | W47: 자재 43
A48: 59B5642753D412C064398AF8B881A2D1E99761 | B48: 석고보드 | C48: 석고보드, 고강도, 12.5*900*1800mm(㎡) | D48: M2 | W48: 자재 44
A49: 59B5642753D412C064398AF8B8835E2A80B733 | B49: 석고보드 | C49: 석고보드, 평보드, 방화, 12.5*900*1800mm(㎡) | D49: M2 | W49: 자재 45
A50: 59B5642753D412C064398AF8B8835E2A80B50D | B50: 석고보드 | C50: 석고보드, 평보드, 방화, 25*600*1800mm(㎡) | D50: M2 | W50: 자재 46
A51: 59B5642753D412C064398AF8B8835E2A80BE6B | B51: 석고보드 | C51: 석고보드, 평보드, 차음, 12.5*900*1800mm(㎡) | D51: M2 | W51: 자재 47
A52: 59B5642753D412C064398AF8B8835E2A80BF71 | B52: 석고보드 | C52: 석고보드, 방수방균보드, 12.5*900*1800mm(㎡) | D52: M2 | W52: 자재 48
A53: 59B5642753D412C0678EAA76519FD13AEC1B8F | B53: 암면흡음텍스 | C53: 300*600*12.0mm | D53: M2 | W53: 자재 49 | X53: -
A54: 59B5642753D412C0678EAA76519FD13AED3FC5 | B54: 무석면 텍스 [ET-01] | C54: 600*600*12.0mm | D54: M2 | W54: 자재 50 | X54: -
A55: 59B5642753D412C0678EAA76519A55DAFC04BF | B55: 알루미늄천장재/내부 | C55: 알루미늄천장재, 600*600*0.5mm (내진천정틀포함) | D55: M2 | W55: 자재 51
A56: 59B5642753D412C0678EAC2328854FF4972B61 | B56: STUD-SPACER | C56: SP-65,75 | D56: 개 | W56: 자재 52
A57: 59B5642753D412C0678EAC2328854FF4972B60 | B57: CORNER BEAD | C57: 40*40*0.5t | D57: M | W57: 자재 53
A58: 59B5642753D412C0678EAC2328854FF3898B03 | B58: 촉지도안내판 | C58: 800*600, 음성유도기포함 | D58: EA | W58: 자재 54
A59: 59B5642753D412C0678EAC2328854F87507B | B59: C-RUNNER | C59: 50*40*0.8t | D59: M | W59: 자재 55
A60: 59B5642753D412C0678EAC2328854F8753CF | B60: C-RUNNER | C60: 75*40*0.8t | D60: M | W60: 자재 56
A61: 59B5642753D412C0678EAC2328854F875228 | B61: C-RUNNER | C61: 100*40*0.8t | D61: M | W61: 자재 57
A62: 59B5642753D412C0678EAC2328854F849CB4 | B62: C-STUD | C62: 50*45*0.8t | D62: M | W62: 자재 58
A63: 59B5642753D412C0678EAC2328854F849F08 | B63: C-STUD | C63: 75*45*0.8t | D63: M | W63: 자재 59
A64: 59B5642753D412C0678EAC2328854F849E61 | B64: C-STUD | C64: 100*45*0.8t | D64: M | W64: 자재 60
A65: 59B5642753D412C066E7382CF7FE175CADD58C | B65: 인조대리석 | C65: 인조대리석, 13mm | D65: M2 | W65: 자재 61
A66: 59B5642753CA12609BCAD9461F2A42915F8C97 | B66: 유리문 [GL-02] | C66: 유리문, 12*850*2400mm, 투명, 세이프강화도어(손보호) | D66: 개 | W66: 자재 62
... A69: 59B5642753CA1260991CBB1C2AC1965135E712 | B69: 강화유리 | C69: 강화유리, 투명, 12mm | D69: M2 | W69: 자재 65
A70: 59B56427533412B0E7001CD9842C3482B35905 | B70: 영유아거치대 | D70: EA | W70: 자재 66
A71: 59B56427532A12204CA07629B2E834DD051DC1 | B71: 비계안정장치 | C71: 비계안정장치, 비계기본틀, 기둥, 1.2*1.7m | D71: 개 | W71: 자재 67
A72: 59B56427532A12204CA07629B2E834DD051DCF | B72: 비계안정장치 | C72: 비계안정장치, 가새, 1.2*1.9m | D72: 개 | W72: 자재 68
A73: 59B56427532A12204CA07629B2E834DD05123E | B73: 비계안정장치 | C73: 비계안정장치, 수평띠장, 1829mm | D73: 개 | W73: 자재 69
A74: 59B56427532A12204CA07629B2E834DD05123F | B74: 비계안정장치 | C74: 비계안정장치, 손잡이, 1229mm | D74: 개 | W74: 자재 70
A75: 59B56427532A12204CA07629B2E834DD051238 | B75: 비계안정장치 | C75: 비계안정장치, 손잡이, 1829mm | D75: 개 | W75: 자재 71
A76: 59B56427532A12204CA07629B2E834DD051239 | B76: 비계안정장치 | C76: 비계안정장치, 손잡이기둥 | D76: 개 | W76: 자재 72
A77: 59B56427532A12204CA07629B2E834DD05123A | B77: 비계안정장치 | C77: 비계안정장치, 바퀴 | D77: 개 | W77: 자재 73
A78: 59B56427532A12204CA07629B2E834DD05123B | B78: 비계안정장치 | C78: 비계안정장치, 쟈키 | D78: 개 | W78: 자재 74
A79: 59B56427532A12204CA07629B038E4FF2FA737 | B79: 비계안정장치 | C79: 비계안정장치, 발판, 40*200*2000 | D79: 장 | W79: 자재 75
A80: 59B574CCD31512F02775BE49203281F00B36F1 | B80: 세트앵커 | C80: 세트앵커, M10*L75mm | D80: 개 | W80: 자재 76
A81: 59B574CCD31512F022F40BBF9EA63974D12FA4 | B81: 도어힌지 | C81: 도어힌지, 황동, 101.6*88.9*2.7mm | D81: 개 | W81: 자재 77
A82: 59B574CCD31512F02EA510096C2CAF1AFE1DB1 | B82: 도어핸들 | C82: 도어핸들, 8300, 2CA, 스테인리스 | D82: 조 | W82: 자재 78
... A92: 59B574CCD31512F02EA513C251555C3BA57FE5 | B92: 화장실명사인(SIGN-14) | C92: 140*320, 돌출형, 10mm+5mm 아크릴성형 후 우렌탄도장+지정문안 점착시트부착(1.2mm 갈바 프레임) | D92: EA | W92: 자재 88
A93: 59B574CCD31512F02EA513C251555C3BA57C11 | B93: 점자표지판 | D93: EA | W93: 자재 89
A94: 59B574CCD31512F02EA513C251555C3BA57D37 | B94: 실명사인(SIGN-19) | C94: 텍스트, 8mm 아크릴 문자 가공 후 우렌탄도장 | D94: EA | W94: 자재 90
A95: 59B574CCD3E1124069CE9D01AB31C575BDAC59 | B95: 연마지 | C95: 연마지, #120~180, 230*280mm | D95: 장 | W95: 자재 91
A96: 59B574CFA3B41250E28F3935F6523D49A9648D | B96: 초산비닐계접착제 | C96: 초산비닐계접착제, 벽지용 | D96: kg | W96: 자재 92
A97: 59B574CFA3B41250E28F3935F6523D49A9648C | B97: 초산비닐계접착제 | C97: 초산비닐계접착제, 일반목공용 | D97: kg | W97: 자재 93
A98: 59B574CFA3B41250E28F3935F6523D49A965AC | B98: 초산비닐계접착제 | C98: 초산비닐계접착제, 비닐타일용 | D98: kg | W98: 자재 94
A99: 59B574CFA3B41250E28F3935F6523D49A965AE | B99: 초산비닐계접착제 | C99: 초산비닐계접착제, 스치로폴, 암면 | D99: kg | W99: 자재 95
A100: 59B574CFA3B41250E28F3935F6523D49A962DD | B100: 합성풀 | C100: 합성풀, 건설용 | D100: kg | W100: 자재 96
A101: 59B574CFA3B41250E28F3C8E75F7BE1685A5C5 | B101: 고무접착제 | C101: 고무접착제, 건설용고무풀 | D101: kg | W101: 자재 97
A102: 59B574CFA3B41250E28F3D90E570F701E5BB31 | B102: 퍼티 | C102: 퍼티, 친환경, 내부 | D102: kg | W102: 자재 98
A103: 59B574CFA3B41250E28F3F423C81DC8DC82CC4 | B103: 에폭시접착제 | C103: 에폭시접착제, 석재용 | D103: kg | W103: 자재 99
A104: 59B574CFA3B41250E28F3F423C81DC8DC82CC2 | B104: 에폭시접착제 | C104: 에폭시접착제, 세라믹타일용 | D104: kg | W104: 자재 100
A105: 59B574CFA3AB12F03D8430E16DBB229EDE247A | B105: 수성페인트 | C105: 수성페인트, 친환경(진품) | D105: L | W105: 자재 101
... A107: 59B574CFA3AB12F03D8D2968137A9F5F67401F | B107: 조합페인트 | C107: 조합페인트, KSM6020-1종1급, 백색 | D107: L | W107: 자재 103
A108: 59B574CFA3AB12F03D8D2968137A9F5F6742C7 | B108: 분체도장 | D108: L | W108: 자재 104
A109: 59B574CFA3AB12F03D8D27BC63000E05AA0192 | B109: 특수페인트 | C109: 특수페인트, 도로표지용, KSM-6080, 융착식, 백색 4종 | D109: kg | W109: 자재 105
A110: 59B574CFA3AB12F03D8D27BC63000E05AA0193 | B110: 특수페인트 | C110: 특수페인트, 도로표지용, KSM-6080, 융착식, 황색 4종 | D110: kg | W110: 자재 106
A111: 59B574CFA3AB12F03D8D27BF37FDC9AFD47F14 | B111: 특수페인트 | C111: 특수페인트, 도로표지용, 융착식프라이머 | D111: L | W111: 자재 107
A112: 59B574CFA3AB12F03EAA373415354BCAEE9589 | B112: 도로표지도료용 유리알 | C112: 1호(106-850um) | D112: kg | W112: 자재 108
...

Sheet  공사설정 
A1: 이 Sheet는 수정하지 마십시요
A2: 공사구분 | B2: A | C2: 타이틀
A3: 확정내역 | B3: 원내역
A4: 자재단가적용 | B4: 5
A5: 경비단가적용 | B5: 5
A6: 품목코드형식 | B6: XXXX-XXXX-XXXXXXXXX
A7: 내역금액소수점처리 | B7: C | C7: T
A8: 일위대가내역소수점처리 | B8: C | C8: 2
A9: 단가명 | B9: 조달청가격 | C9: 거래가격 | D9: 유통물가 | E9: 물가자료 | F9: 조사가격 | G9: TTTTT
A10: 환율 | B10: 1472 | C10: 0 | D10: 0
A11: 시간당작업량 | B11: R | C11: 4
A12: 1회 사이클시간 | B12: R | C12: 4
A13: 시간당 작업사이클 | B13: R | C13: 3
A14: 일반변수 | B14: R | C14: 5
A15: 시간당 노임산출 계수 | B15: A | C15: 1/8*16/12*25/20 | D15: 1/8*16/12*25/20 | E15: 1/8*16/12*25/20 | F15: 1
A16: 재료비 할증 계수 | B16: 1.11 | C16: 1.12
A17: 노무비 할증 계수 | B17: 1 | C17: 1.5 | D17: 1.16 | E17: 1.6 | F17: 1.6 | G17: 1.6 | H17: 1.94 | I17: 1.94 | J17: 1.94 | K17: 1 | L17: 1 | M17: 1
A18: 경비 할증 계수 | B18: 1.25 | C18: 1.071
A19: 내역,일위대가 품명,규격,단위 따로적용
A20: 내역단가 소수점처리 | B20: C | C20: 1
A21: 코드 | B21: 공종구분명 | C21: 원가비목코드
A22: 1 | B22: 작 업 부 산 물 | C22: A3
A23: 2 | B23: 운 반 비 | C23: C1
A24: 3 | B24: 관 급 자 재 비 | C24: DJ
A25: 4 | B25: 작업부산물(해체) | C25: D3
A26: 5 | B26: 폐 기 물 처 리 | C26: D4
A27: 6 | B27: ...
A28: 7 | B28: ...
A29: 8 | B29: ...
A30: 9 | B30: ...
A31: A | B31: ....
A32: B | B32: .....
A33: C | B33: ....
A34: D | B34: ....
A35: E | B35: ....
A36: F | B36: ....
A37: G | B37: ....
A38: H | B38: ....
A39: I | B39: ....
A40: J | B40: ....
A43: 단가 순서 | B43: 1234

Sheet Sheet1
